BEGIN:VCALENDAR
VERSION:2.0
PRODID:-//Mungabareena Aboriginal Corporation - ECPv6.15.20//NONSGML v1.0//EN
CALSCALE:GREGORIAN
METHOD:PUBLISH
X-WR-CALNAME:Mungabareena Aboriginal Corporation
X-ORIGINAL-URL:https://mungabareena.org.au
X-WR-CALDESC:Events for Mungabareena Aboriginal Corporation
REFRESH-INTERVAL;VALUE=DURATION:PT1H
X-Robots-Tag:noindex
X-PUBLISHED-TTL:PT1H
BEGIN:VTIMEZONE
TZID:UTC
BEGIN:STANDARD
TZOFFSETFROM:+0000
TZOFFSETTO:+0000
TZNAME:UTC
DTSTART:20220101T000000
END:STANDARD
END:VTIMEZONE
BEGIN:VEVENT
DTSTART;TZID=UTC:20230106T100000
DTEND;TZID=UTC:20230106T120000
DTSTAMP:20260423T083349
CREATED:20220912T120849Z
LAST-MODIFIED:20220912T143207Z
UID:10001937-1672999200-1673006400@mungabareena.org.au
SUMMARY:Playgroup
DESCRIPTION:Available to all families with Aboriginal and/or Torres Strait Islander children in their care aged 0 – 5 years
URL:https://mungabareena.org.au/event/playgroup/2023-01-06/
LOCATION:Koori First Steps Wodonga\, 44 Trudewind Road\, Wodonga\, VIC\, 3690\, Australia
GEO:-36.1299233;146.8696582
X-APPLE-STRUCTURED-LOCATION;VALUE=URI;X-ADDRESS=Koori First Steps Wodonga 44 Trudewind Road Wodonga VIC 3690 Australia;X-APPLE-RADIUS=500;X-TITLE=44 Trudewind Road:geo:146.8696582,-36.1299233
END:VEVENT
BEGIN:VEVENT
DTSTART;TZID=UTC:20230106T100000
DTEND;TZID=UTC:20230106T120000
DTSTAMP:20260423T083349
CREATED:20220912T143336Z
LAST-MODIFIED:20220912T143336Z
UID:10002391-1672999200-1673006400@mungabareena.org.au
SUMMARY:Playgroup
DESCRIPTION:Available to all families with Aboriginal and/or Torres Strait Islander children in their care aged 0 – 5 years
URL:https://mungabareena.org.au/event/playgroup-2/2023-01-06/
LOCATION:Koori First Steps Wodonga\, 44 Trudewind Road\, Wodonga\, VIC\, 3690\, Australia
GEO:-36.1299233;146.8696582
X-APPLE-STRUCTURED-LOCATION;VALUE=URI;X-ADDRESS=Koori First Steps Wodonga 44 Trudewind Road Wodonga VIC 3690 Australia;X-APPLE-RADIUS=500;X-TITLE=44 Trudewind Road:geo:146.8696582,-36.1299233
END:VEVENT
END:VCALENDAR