BEGIN:VCALENDAR
VERSION:2.0
PRODID:-//Mungabareena Aboriginal Corporation - ECPv6.15.20//NONSGML v1.0//EN
CALSCALE:GREGORIAN
METHOD:PUBLISH
X-WR-CALNAME:Mungabareena Aboriginal Corporation
X-ORIGINAL-URL:https://mungabareena.org.au
X-WR-CALDESC:Events for Mungabareena Aboriginal Corporation
REFRESH-INTERVAL;VALUE=DURATION:PT1H
X-Robots-Tag:noindex
X-PUBLISHED-TTL:PT1H
BEGIN:VTIMEZONE
TZID:UTC
BEGIN:STANDARD
TZOFFSETFROM:+0000
TZOFFSETTO:+0000
TZNAME:UTC
DTSTART:20230101T000000
END:STANDARD
END:VTIMEZONE
BEGIN:VEVENT
DTSTART;TZID=UTC:20250212T110000
DTEND;TZID=UTC:20250212T140000
DTSTAMP:20260422T015601
CREATED:20220912T090955Z
LAST-MODIFIED:20220912T122336Z
UID:10001326-1739358000-1739368800@mungabareena.org.au
SUMMARY:Women’s Group Wodonga
DESCRIPTION:Available to all Aboriginal and/or Torres Strait Islander Women
URL:https://mungabareena.org.au/event/womens-group-wodonga/2025-02-12/
LOCATION:Mungabareena Aboriginal Corporation Hovell St\, 21 Hovel St\, Wodonga\, Victoria\, 3690\, Australia
GEO:-36.1164164;146.8933646
X-APPLE-STRUCTURED-LOCATION;VALUE=URI;X-ADDRESS=Mungabareena Aboriginal Corporation Hovell St 21 Hovel St Wodonga Victoria 3690 Australia;X-APPLE-RADIUS=500;X-TITLE=21 Hovel St:geo:146.8933646,-36.1164164
END:VEVENT
BEGIN:VEVENT
DTSTART;TZID=UTC:20250210T110000
DTEND;TZID=UTC:20250210T140000
DTSTAMP:20260422T015601
CREATED:20220912T091539Z
LAST-MODIFIED:20220912T091557Z
UID:10001613-1739185200-1739196000@mungabareena.org.au
SUMMARY:Women’s Group Wangaratta
DESCRIPTION:Available to all Aboriginal and/or Torres Strait Islander Women
URL:https://mungabareena.org.au/event/womens-group-wangaratta/2025-02-10/
LOCATION:Mungabareena Aboriginal Corporation Ryley St\, 53 Ryley St\, Wangaratta\, VIC\, 3677\, Australia
GEO:-36.3572046;146.3215004
X-APPLE-STRUCTURED-LOCATION;VALUE=URI;X-ADDRESS=Mungabareena Aboriginal Corporation Ryley St 53 Ryley St Wangaratta VIC 3677 Australia;X-APPLE-RADIUS=500;X-TITLE=53 Ryley St:geo:146.3215004,-36.3572046
END:VEVENT
BEGIN:VEVENT
DTSTART;TZID=UTC:20250205T110000
DTEND;TZID=UTC:20250205T140000
DTSTAMP:20260422T015601
CREATED:20220912T090955Z
LAST-MODIFIED:20220912T122336Z
UID:10001325-1738753200-1738764000@mungabareena.org.au
SUMMARY:Women’s Group Wodonga
DESCRIPTION:Available to all Aboriginal and/or Torres Strait Islander Women
URL:https://mungabareena.org.au/event/womens-group-wodonga/2025-02-05/
LOCATION:Mungabareena Aboriginal Corporation Hovell St\, 21 Hovel St\, Wodonga\, Victoria\, 3690\, Australia
GEO:-36.1164164;146.8933646
X-APPLE-STRUCTURED-LOCATION;VALUE=URI;X-ADDRESS=Mungabareena Aboriginal Corporation Hovell St 21 Hovel St Wodonga Victoria 3690 Australia;X-APPLE-RADIUS=500;X-TITLE=21 Hovel St:geo:146.8933646,-36.1164164
END:VEVENT
BEGIN:VEVENT
DTSTART;TZID=UTC:20250203T110000
DTEND;TZID=UTC:20250203T140000
DTSTAMP:20260422T015601
CREATED:20220912T091539Z
LAST-MODIFIED:20220912T091557Z
UID:10001612-1738580400-1738591200@mungabareena.org.au
SUMMARY:Women’s Group Wangaratta
DESCRIPTION:Available to all Aboriginal and/or Torres Strait Islander Women
URL:https://mungabareena.org.au/event/womens-group-wangaratta/2025-02-03/
LOCATION:Mungabareena Aboriginal Corporation Ryley St\, 53 Ryley St\, Wangaratta\, VIC\, 3677\, Australia
GEO:-36.3572046;146.3215004
X-APPLE-STRUCTURED-LOCATION;VALUE=URI;X-ADDRESS=Mungabareena Aboriginal Corporation Ryley St 53 Ryley St Wangaratta VIC 3677 Australia;X-APPLE-RADIUS=500;X-TITLE=53 Ryley St:geo:146.3215004,-36.3572046
END:VEVENT
BEGIN:VEVENT
DTSTART;TZID=UTC:20250129T113000
DTEND;TZID=UTC:20250129T140000
DTSTAMP:20260422T015601
CREATED:20220912T092116Z
LAST-MODIFIED:20220912T092116Z
UID:10001839-1738150200-1738159200@mungabareena.org.au
SUMMARY:Men’s Yarning Circle
DESCRIPTION:Available to all Aboriginal and/or Torres Strait Islander Men
URL:https://mungabareena.org.au/event/mens-yarning-circle/2025-01-29/
LOCATION:Mungabareena Aboriginal Corporation Ryley St\, 53 Ryley St\, Wangaratta\, VIC\, 3677\, Australia
GEO:-36.3572046;146.3215004
X-APPLE-STRUCTURED-LOCATION;VALUE=URI;X-ADDRESS=Mungabareena Aboriginal Corporation Ryley St 53 Ryley St Wangaratta VIC 3677 Australia;X-APPLE-RADIUS=500;X-TITLE=53 Ryley St:geo:146.3215004,-36.3572046
END:VEVENT
BEGIN:VEVENT
DTSTART;TZID=UTC:20250129T110000
DTEND;TZID=UTC:20250129T140000
DTSTAMP:20260422T015601
CREATED:20220912T090955Z
LAST-MODIFIED:20220912T122336Z
UID:10001324-1738148400-1738159200@mungabareena.org.au
SUMMARY:Women’s Group Wodonga
DESCRIPTION:Available to all Aboriginal and/or Torres Strait Islander Women
URL:https://mungabareena.org.au/event/womens-group-wodonga/2025-01-29/
LOCATION:Mungabareena Aboriginal Corporation Hovell St\, 21 Hovel St\, Wodonga\, Victoria\, 3690\, Australia
GEO:-36.1164164;146.8933646
X-APPLE-STRUCTURED-LOCATION;VALUE=URI;X-ADDRESS=Mungabareena Aboriginal Corporation Hovell St 21 Hovel St Wodonga Victoria 3690 Australia;X-APPLE-RADIUS=500;X-TITLE=21 Hovel St:geo:146.8933646,-36.1164164
END:VEVENT
BEGIN:VEVENT
DTSTART;TZID=UTC:20250127T110000
DTEND;TZID=UTC:20250127T140000
DTSTAMP:20260422T015601
CREATED:20220912T091539Z
LAST-MODIFIED:20220912T091557Z
UID:10001611-1737975600-1737986400@mungabareena.org.au
SUMMARY:Women’s Group Wangaratta
DESCRIPTION:Available to all Aboriginal and/or Torres Strait Islander Women
URL:https://mungabareena.org.au/event/womens-group-wangaratta/2025-01-27/
LOCATION:Mungabareena Aboriginal Corporation Ryley St\, 53 Ryley St\, Wangaratta\, VIC\, 3677\, Australia
GEO:-36.3572046;146.3215004
X-APPLE-STRUCTURED-LOCATION;VALUE=URI;X-ADDRESS=Mungabareena Aboriginal Corporation Ryley St 53 Ryley St Wangaratta VIC 3677 Australia;X-APPLE-RADIUS=500;X-TITLE=53 Ryley St:geo:146.3215004,-36.3572046
END:VEVENT
BEGIN:VEVENT
DTSTART;TZID=UTC:20250122T110000
DTEND;TZID=UTC:20250122T140000
DTSTAMP:20260422T015601
CREATED:20220912T090955Z
LAST-MODIFIED:20220912T122336Z
UID:10001323-1737543600-1737554400@mungabareena.org.au
SUMMARY:Women’s Group Wodonga
DESCRIPTION:Available to all Aboriginal and/or Torres Strait Islander Women
URL:https://mungabareena.org.au/event/womens-group-wodonga/2025-01-22/
LOCATION:Mungabareena Aboriginal Corporation Hovell St\, 21 Hovel St\, Wodonga\, Victoria\, 3690\, Australia
GEO:-36.1164164;146.8933646
X-APPLE-STRUCTURED-LOCATION;VALUE=URI;X-ADDRESS=Mungabareena Aboriginal Corporation Hovell St 21 Hovel St Wodonga Victoria 3690 Australia;X-APPLE-RADIUS=500;X-TITLE=21 Hovel St:geo:146.8933646,-36.1164164
END:VEVENT
BEGIN:VEVENT
DTSTART;TZID=UTC:20250120T110000
DTEND;TZID=UTC:20250120T140000
DTSTAMP:20260422T015601
CREATED:20220912T091539Z
LAST-MODIFIED:20220912T091557Z
UID:10001610-1737370800-1737381600@mungabareena.org.au
SUMMARY:Women’s Group Wangaratta
DESCRIPTION:Available to all Aboriginal and/or Torres Strait Islander Women
URL:https://mungabareena.org.au/event/womens-group-wangaratta/2025-01-20/
LOCATION:Mungabareena Aboriginal Corporation Ryley St\, 53 Ryley St\, Wangaratta\, VIC\, 3677\, Australia
GEO:-36.3572046;146.3215004
X-APPLE-STRUCTURED-LOCATION;VALUE=URI;X-ADDRESS=Mungabareena Aboriginal Corporation Ryley St 53 Ryley St Wangaratta VIC 3677 Australia;X-APPLE-RADIUS=500;X-TITLE=53 Ryley St:geo:146.3215004,-36.3572046
END:VEVENT
BEGIN:VEVENT
DTSTART;TZID=UTC:20250115T113000
DTEND;TZID=UTC:20250115T140000
DTSTAMP:20260422T015601
CREATED:20220912T092116Z
LAST-MODIFIED:20220912T092116Z
UID:10001838-1736940600-1736949600@mungabareena.org.au
SUMMARY:Men’s Yarning Circle
DESCRIPTION:Available to all Aboriginal and/or Torres Strait Islander Men
URL:https://mungabareena.org.au/event/mens-yarning-circle/2025-01-15/
LOCATION:Mungabareena Aboriginal Corporation Ryley St\, 53 Ryley St\, Wangaratta\, VIC\, 3677\, Australia
GEO:-36.3572046;146.3215004
X-APPLE-STRUCTURED-LOCATION;VALUE=URI;X-ADDRESS=Mungabareena Aboriginal Corporation Ryley St 53 Ryley St Wangaratta VIC 3677 Australia;X-APPLE-RADIUS=500;X-TITLE=53 Ryley St:geo:146.3215004,-36.3572046
END:VEVENT
BEGIN:VEVENT
DTSTART;TZID=UTC:20250115T110000
DTEND;TZID=UTC:20250115T140000
DTSTAMP:20260422T015601
CREATED:20220912T090955Z
LAST-MODIFIED:20220912T122336Z
UID:10001322-1736938800-1736949600@mungabareena.org.au
SUMMARY:Women’s Group Wodonga
DESCRIPTION:Available to all Aboriginal and/or Torres Strait Islander Women
URL:https://mungabareena.org.au/event/womens-group-wodonga/2025-01-15/
LOCATION:Mungabareena Aboriginal Corporation Hovell St\, 21 Hovel St\, Wodonga\, Victoria\, 3690\, Australia
GEO:-36.1164164;146.8933646
X-APPLE-STRUCTURED-LOCATION;VALUE=URI;X-ADDRESS=Mungabareena Aboriginal Corporation Hovell St 21 Hovel St Wodonga Victoria 3690 Australia;X-APPLE-RADIUS=500;X-TITLE=21 Hovel St:geo:146.8933646,-36.1164164
END:VEVENT
BEGIN:VEVENT
DTSTART;TZID=UTC:20250113T110000
DTEND;TZID=UTC:20250113T140000
DTSTAMP:20260422T015601
CREATED:20220912T091539Z
LAST-MODIFIED:20220912T091557Z
UID:10001609-1736766000-1736776800@mungabareena.org.au
SUMMARY:Women’s Group Wangaratta
DESCRIPTION:Available to all Aboriginal and/or Torres Strait Islander Women
URL:https://mungabareena.org.au/event/womens-group-wangaratta/2025-01-13/
LOCATION:Mungabareena Aboriginal Corporation Ryley St\, 53 Ryley St\, Wangaratta\, VIC\, 3677\, Australia
GEO:-36.3572046;146.3215004
X-APPLE-STRUCTURED-LOCATION;VALUE=URI;X-ADDRESS=Mungabareena Aboriginal Corporation Ryley St 53 Ryley St Wangaratta VIC 3677 Australia;X-APPLE-RADIUS=500;X-TITLE=53 Ryley St:geo:146.3215004,-36.3572046
END:VEVENT
BEGIN:VEVENT
DTSTART;TZID=UTC:20250108T110000
DTEND;TZID=UTC:20250108T140000
DTSTAMP:20260422T015601
CREATED:20220912T090955Z
LAST-MODIFIED:20220912T122336Z
UID:10001321-1736334000-1736344800@mungabareena.org.au
SUMMARY:Women’s Group Wodonga
DESCRIPTION:Available to all Aboriginal and/or Torres Strait Islander Women
URL:https://mungabareena.org.au/event/womens-group-wodonga/2025-01-08/
LOCATION:Mungabareena Aboriginal Corporation Hovell St\, 21 Hovel St\, Wodonga\, Victoria\, 3690\, Australia
GEO:-36.1164164;146.8933646
X-APPLE-STRUCTURED-LOCATION;VALUE=URI;X-ADDRESS=Mungabareena Aboriginal Corporation Hovell St 21 Hovel St Wodonga Victoria 3690 Australia;X-APPLE-RADIUS=500;X-TITLE=21 Hovel St:geo:146.8933646,-36.1164164
END:VEVENT
BEGIN:VEVENT
DTSTART;TZID=UTC:20250106T110000
DTEND;TZID=UTC:20250106T140000
DTSTAMP:20260422T015602
CREATED:20220912T091539Z
LAST-MODIFIED:20220912T091557Z
UID:10001608-1736161200-1736172000@mungabareena.org.au
SUMMARY:Women’s Group Wangaratta
DESCRIPTION:Available to all Aboriginal and/or Torres Strait Islander Women
URL:https://mungabareena.org.au/event/womens-group-wangaratta/2025-01-06/
LOCATION:Mungabareena Aboriginal Corporation Ryley St\, 53 Ryley St\, Wangaratta\, VIC\, 3677\, Australia
GEO:-36.3572046;146.3215004
X-APPLE-STRUCTURED-LOCATION;VALUE=URI;X-ADDRESS=Mungabareena Aboriginal Corporation Ryley St 53 Ryley St Wangaratta VIC 3677 Australia;X-APPLE-RADIUS=500;X-TITLE=53 Ryley St:geo:146.3215004,-36.3572046
END:VEVENT
BEGIN:VEVENT
DTSTART;TZID=UTC:20250101T113000
DTEND;TZID=UTC:20250101T140000
DTSTAMP:20260422T015602
CREATED:20220912T092116Z
LAST-MODIFIED:20220912T092116Z
UID:10001837-1735731000-1735740000@mungabareena.org.au
SUMMARY:Men’s Yarning Circle
DESCRIPTION:Available to all Aboriginal and/or Torres Strait Islander Men
URL:https://mungabareena.org.au/event/mens-yarning-circle/2025-01-01/
LOCATION:Mungabareena Aboriginal Corporation Ryley St\, 53 Ryley St\, Wangaratta\, VIC\, 3677\, Australia
GEO:-36.3572046;146.3215004
X-APPLE-STRUCTURED-LOCATION;VALUE=URI;X-ADDRESS=Mungabareena Aboriginal Corporation Ryley St 53 Ryley St Wangaratta VIC 3677 Australia;X-APPLE-RADIUS=500;X-TITLE=53 Ryley St:geo:146.3215004,-36.3572046
END:VEVENT
BEGIN:VEVENT
DTSTART;TZID=UTC:20250101T110000
DTEND;TZID=UTC:20250101T140000
DTSTAMP:20260422T015602
CREATED:20220912T090955Z
LAST-MODIFIED:20220912T122336Z
UID:10001320-1735729200-1735740000@mungabareena.org.au
SUMMARY:Women’s Group Wodonga
DESCRIPTION:Available to all Aboriginal and/or Torres Strait Islander Women
URL:https://mungabareena.org.au/event/womens-group-wodonga/2025-01-01/
LOCATION:Mungabareena Aboriginal Corporation Hovell St\, 21 Hovel St\, Wodonga\, Victoria\, 3690\, Australia
GEO:-36.1164164;146.8933646
X-APPLE-STRUCTURED-LOCATION;VALUE=URI;X-ADDRESS=Mungabareena Aboriginal Corporation Hovell St 21 Hovel St Wodonga Victoria 3690 Australia;X-APPLE-RADIUS=500;X-TITLE=21 Hovel St:geo:146.8933646,-36.1164164
END:VEVENT
BEGIN:VEVENT
DTSTART;TZID=UTC:20241230T110000
DTEND;TZID=UTC:20241230T140000
DTSTAMP:20260422T015602
CREATED:20220912T091539Z
LAST-MODIFIED:20220912T091557Z
UID:10001607-1735556400-1735567200@mungabareena.org.au
SUMMARY:Women’s Group Wangaratta
DESCRIPTION:Available to all Aboriginal and/or Torres Strait Islander Women
URL:https://mungabareena.org.au/event/womens-group-wangaratta/2024-12-30/
LOCATION:Mungabareena Aboriginal Corporation Ryley St\, 53 Ryley St\, Wangaratta\, VIC\, 3677\, Australia
GEO:-36.3572046;146.3215004
X-APPLE-STRUCTURED-LOCATION;VALUE=URI;X-ADDRESS=Mungabareena Aboriginal Corporation Ryley St 53 Ryley St Wangaratta VIC 3677 Australia;X-APPLE-RADIUS=500;X-TITLE=53 Ryley St:geo:146.3215004,-36.3572046
END:VEVENT
BEGIN:VEVENT
DTSTART;TZID=UTC:20241225T110000
DTEND;TZID=UTC:20241225T140000
DTSTAMP:20260422T015602
CREATED:20220912T090955Z
LAST-MODIFIED:20220912T122336Z
UID:10001319-1735124400-1735135200@mungabareena.org.au
SUMMARY:Women’s Group Wodonga
DESCRIPTION:Available to all Aboriginal and/or Torres Strait Islander Women
URL:https://mungabareena.org.au/event/womens-group-wodonga/2024-12-25/
LOCATION:Mungabareena Aboriginal Corporation Hovell St\, 21 Hovel St\, Wodonga\, Victoria\, 3690\, Australia
GEO:-36.1164164;146.8933646
X-APPLE-STRUCTURED-LOCATION;VALUE=URI;X-ADDRESS=Mungabareena Aboriginal Corporation Hovell St 21 Hovel St Wodonga Victoria 3690 Australia;X-APPLE-RADIUS=500;X-TITLE=21 Hovel St:geo:146.8933646,-36.1164164
END:VEVENT
BEGIN:VEVENT
DTSTART;TZID=UTC:20241223T110000
DTEND;TZID=UTC:20241223T140000
DTSTAMP:20260422T015602
CREATED:20220912T091539Z
LAST-MODIFIED:20220912T091557Z
UID:10001606-1734951600-1734962400@mungabareena.org.au
SUMMARY:Women’s Group Wangaratta
DESCRIPTION:Available to all Aboriginal and/or Torres Strait Islander Women
URL:https://mungabareena.org.au/event/womens-group-wangaratta/2024-12-23/
LOCATION:Mungabareena Aboriginal Corporation Ryley St\, 53 Ryley St\, Wangaratta\, VIC\, 3677\, Australia
GEO:-36.3572046;146.3215004
X-APPLE-STRUCTURED-LOCATION;VALUE=URI;X-ADDRESS=Mungabareena Aboriginal Corporation Ryley St 53 Ryley St Wangaratta VIC 3677 Australia;X-APPLE-RADIUS=500;X-TITLE=53 Ryley St:geo:146.3215004,-36.3572046
END:VEVENT
BEGIN:VEVENT
DTSTART;TZID=UTC:20241218T113000
DTEND;TZID=UTC:20241218T140000
DTSTAMP:20260422T015602
CREATED:20220912T092116Z
LAST-MODIFIED:20220912T092116Z
UID:10001836-1734521400-1734530400@mungabareena.org.au
SUMMARY:Men’s Yarning Circle
DESCRIPTION:Available to all Aboriginal and/or Torres Strait Islander Men
URL:https://mungabareena.org.au/event/mens-yarning-circle/2024-12-18/
LOCATION:Mungabareena Aboriginal Corporation Ryley St\, 53 Ryley St\, Wangaratta\, VIC\, 3677\, Australia
GEO:-36.3572046;146.3215004
X-APPLE-STRUCTURED-LOCATION;VALUE=URI;X-ADDRESS=Mungabareena Aboriginal Corporation Ryley St 53 Ryley St Wangaratta VIC 3677 Australia;X-APPLE-RADIUS=500;X-TITLE=53 Ryley St:geo:146.3215004,-36.3572046
END:VEVENT
BEGIN:VEVENT
DTSTART;TZID=UTC:20241218T110000
DTEND;TZID=UTC:20241218T140000
DTSTAMP:20260422T015602
CREATED:20220912T090955Z
LAST-MODIFIED:20220912T122336Z
UID:10001318-1734519600-1734530400@mungabareena.org.au
SUMMARY:Women’s Group Wodonga
DESCRIPTION:Available to all Aboriginal and/or Torres Strait Islander Women
URL:https://mungabareena.org.au/event/womens-group-wodonga/2024-12-18/
LOCATION:Mungabareena Aboriginal Corporation Hovell St\, 21 Hovel St\, Wodonga\, Victoria\, 3690\, Australia
GEO:-36.1164164;146.8933646
X-APPLE-STRUCTURED-LOCATION;VALUE=URI;X-ADDRESS=Mungabareena Aboriginal Corporation Hovell St 21 Hovel St Wodonga Victoria 3690 Australia;X-APPLE-RADIUS=500;X-TITLE=21 Hovel St:geo:146.8933646,-36.1164164
END:VEVENT
BEGIN:VEVENT
DTSTART;TZID=UTC:20241216T110000
DTEND;TZID=UTC:20241216T140000
DTSTAMP:20260422T015602
CREATED:20220912T091539Z
LAST-MODIFIED:20220912T091557Z
UID:10001605-1734346800-1734357600@mungabareena.org.au
SUMMARY:Women’s Group Wangaratta
DESCRIPTION:Available to all Aboriginal and/or Torres Strait Islander Women
URL:https://mungabareena.org.au/event/womens-group-wangaratta/2024-12-16/
LOCATION:Mungabareena Aboriginal Corporation Ryley St\, 53 Ryley St\, Wangaratta\, VIC\, 3677\, Australia
GEO:-36.3572046;146.3215004
X-APPLE-STRUCTURED-LOCATION;VALUE=URI;X-ADDRESS=Mungabareena Aboriginal Corporation Ryley St 53 Ryley St Wangaratta VIC 3677 Australia;X-APPLE-RADIUS=500;X-TITLE=53 Ryley St:geo:146.3215004,-36.3572046
END:VEVENT
BEGIN:VEVENT
DTSTART;TZID=UTC:20241211T110000
DTEND;TZID=UTC:20241211T140000
DTSTAMP:20260422T015602
CREATED:20220912T090955Z
LAST-MODIFIED:20220912T122336Z
UID:10001317-1733914800-1733925600@mungabareena.org.au
SUMMARY:Women’s Group Wodonga
DESCRIPTION:Available to all Aboriginal and/or Torres Strait Islander Women
URL:https://mungabareena.org.au/event/womens-group-wodonga/2024-12-11/
LOCATION:Mungabareena Aboriginal Corporation Hovell St\, 21 Hovel St\, Wodonga\, Victoria\, 3690\, Australia
GEO:-36.1164164;146.8933646
X-APPLE-STRUCTURED-LOCATION;VALUE=URI;X-ADDRESS=Mungabareena Aboriginal Corporation Hovell St 21 Hovel St Wodonga Victoria 3690 Australia;X-APPLE-RADIUS=500;X-TITLE=21 Hovel St:geo:146.8933646,-36.1164164
END:VEVENT
BEGIN:VEVENT
DTSTART;TZID=UTC:20241209T110000
DTEND;TZID=UTC:20241209T140000
DTSTAMP:20260422T015603
CREATED:20220912T091539Z
LAST-MODIFIED:20220912T091557Z
UID:10001604-1733742000-1733752800@mungabareena.org.au
SUMMARY:Women’s Group Wangaratta
DESCRIPTION:Available to all Aboriginal and/or Torres Strait Islander Women
URL:https://mungabareena.org.au/event/womens-group-wangaratta/2024-12-09/
LOCATION:Mungabareena Aboriginal Corporation Ryley St\, 53 Ryley St\, Wangaratta\, VIC\, 3677\, Australia
GEO:-36.3572046;146.3215004
X-APPLE-STRUCTURED-LOCATION;VALUE=URI;X-ADDRESS=Mungabareena Aboriginal Corporation Ryley St 53 Ryley St Wangaratta VIC 3677 Australia;X-APPLE-RADIUS=500;X-TITLE=53 Ryley St:geo:146.3215004,-36.3572046
END:VEVENT
BEGIN:VEVENT
DTSTART;TZID=UTC:20241204T113000
DTEND;TZID=UTC:20241204T140000
DTSTAMP:20260422T015603
CREATED:20220912T092116Z
LAST-MODIFIED:20220912T092116Z
UID:10001835-1733311800-1733320800@mungabareena.org.au
SUMMARY:Men’s Yarning Circle
DESCRIPTION:Available to all Aboriginal and/or Torres Strait Islander Men
URL:https://mungabareena.org.au/event/mens-yarning-circle/2024-12-04/
LOCATION:Mungabareena Aboriginal Corporation Ryley St\, 53 Ryley St\, Wangaratta\, VIC\, 3677\, Australia
GEO:-36.3572046;146.3215004
X-APPLE-STRUCTURED-LOCATION;VALUE=URI;X-ADDRESS=Mungabareena Aboriginal Corporation Ryley St 53 Ryley St Wangaratta VIC 3677 Australia;X-APPLE-RADIUS=500;X-TITLE=53 Ryley St:geo:146.3215004,-36.3572046
END:VEVENT
BEGIN:VEVENT
DTSTART;TZID=UTC:20241204T110000
DTEND;TZID=UTC:20241204T140000
DTSTAMP:20260422T015603
CREATED:20220912T090955Z
LAST-MODIFIED:20220912T122336Z
UID:10001316-1733310000-1733320800@mungabareena.org.au
SUMMARY:Women’s Group Wodonga
DESCRIPTION:Available to all Aboriginal and/or Torres Strait Islander Women
URL:https://mungabareena.org.au/event/womens-group-wodonga/2024-12-04/
LOCATION:Mungabareena Aboriginal Corporation Hovell St\, 21 Hovel St\, Wodonga\, Victoria\, 3690\, Australia
GEO:-36.1164164;146.8933646
X-APPLE-STRUCTURED-LOCATION;VALUE=URI;X-ADDRESS=Mungabareena Aboriginal Corporation Hovell St 21 Hovel St Wodonga Victoria 3690 Australia;X-APPLE-RADIUS=500;X-TITLE=21 Hovel St:geo:146.8933646,-36.1164164
END:VEVENT
BEGIN:VEVENT
DTSTART;TZID=UTC:20241202T110000
DTEND;TZID=UTC:20241202T140000
DTSTAMP:20260422T015603
CREATED:20220912T091539Z
LAST-MODIFIED:20220912T091557Z
UID:10001603-1733137200-1733148000@mungabareena.org.au
SUMMARY:Women’s Group Wangaratta
DESCRIPTION:Available to all Aboriginal and/or Torres Strait Islander Women
URL:https://mungabareena.org.au/event/womens-group-wangaratta/2024-12-02/
LOCATION:Mungabareena Aboriginal Corporation Ryley St\, 53 Ryley St\, Wangaratta\, VIC\, 3677\, Australia
GEO:-36.3572046;146.3215004
X-APPLE-STRUCTURED-LOCATION;VALUE=URI;X-ADDRESS=Mungabareena Aboriginal Corporation Ryley St 53 Ryley St Wangaratta VIC 3677 Australia;X-APPLE-RADIUS=500;X-TITLE=53 Ryley St:geo:146.3215004,-36.3572046
END:VEVENT
BEGIN:VEVENT
DTSTART;TZID=UTC:20241127T110000
DTEND;TZID=UTC:20241127T140000
DTSTAMP:20260422T015603
CREATED:20220912T090955Z
LAST-MODIFIED:20220912T122336Z
UID:10001315-1732705200-1732716000@mungabareena.org.au
SUMMARY:Women’s Group Wodonga
DESCRIPTION:Available to all Aboriginal and/or Torres Strait Islander Women
URL:https://mungabareena.org.au/event/womens-group-wodonga/2024-11-27/
LOCATION:Mungabareena Aboriginal Corporation Hovell St\, 21 Hovel St\, Wodonga\, Victoria\, 3690\, Australia
GEO:-36.1164164;146.8933646
X-APPLE-STRUCTURED-LOCATION;VALUE=URI;X-ADDRESS=Mungabareena Aboriginal Corporation Hovell St 21 Hovel St Wodonga Victoria 3690 Australia;X-APPLE-RADIUS=500;X-TITLE=21 Hovel St:geo:146.8933646,-36.1164164
END:VEVENT
BEGIN:VEVENT
DTSTART;TZID=UTC:20241125T110000
DTEND;TZID=UTC:20241125T140000
DTSTAMP:20260422T015603
CREATED:20220912T091539Z
LAST-MODIFIED:20220912T091557Z
UID:10001602-1732532400-1732543200@mungabareena.org.au
SUMMARY:Women’s Group Wangaratta
DESCRIPTION:Available to all Aboriginal and/or Torres Strait Islander Women
URL:https://mungabareena.org.au/event/womens-group-wangaratta/2024-11-25/
LOCATION:Mungabareena Aboriginal Corporation Ryley St\, 53 Ryley St\, Wangaratta\, VIC\, 3677\, Australia
GEO:-36.3572046;146.3215004
X-APPLE-STRUCTURED-LOCATION;VALUE=URI;X-ADDRESS=Mungabareena Aboriginal Corporation Ryley St 53 Ryley St Wangaratta VIC 3677 Australia;X-APPLE-RADIUS=500;X-TITLE=53 Ryley St:geo:146.3215004,-36.3572046
END:VEVENT
BEGIN:VEVENT
DTSTART;TZID=UTC:20241120T113000
DTEND;TZID=UTC:20241120T140000
DTSTAMP:20260422T015603
CREATED:20220912T092116Z
LAST-MODIFIED:20220912T092116Z
UID:10001834-1732102200-1732111200@mungabareena.org.au
SUMMARY:Men’s Yarning Circle
DESCRIPTION:Available to all Aboriginal and/or Torres Strait Islander Men
URL:https://mungabareena.org.au/event/mens-yarning-circle/2024-11-20/
LOCATION:Mungabareena Aboriginal Corporation Ryley St\, 53 Ryley St\, Wangaratta\, VIC\, 3677\, Australia
GEO:-36.3572046;146.3215004
X-APPLE-STRUCTURED-LOCATION;VALUE=URI;X-ADDRESS=Mungabareena Aboriginal Corporation Ryley St 53 Ryley St Wangaratta VIC 3677 Australia;X-APPLE-RADIUS=500;X-TITLE=53 Ryley St:geo:146.3215004,-36.3572046
END:VEVENT
END:VCALENDAR