BEGIN:VCALENDAR
VERSION:2.0
PRODID:-//Mungabareena Aboriginal Corporation - ECPv6.15.20//NONSGML v1.0//EN
CALSCALE:GREGORIAN
METHOD:PUBLISH
X-ORIGINAL-URL:https://mungabareena.org.au
X-WR-CALDESC:Events for Mungabareena Aboriginal Corporation
REFRESH-INTERVAL;VALUE=DURATION:PT1H
X-Robots-Tag:noindex
X-PUBLISHED-TTL:PT1H
BEGIN:VTIMEZONE
TZID:UTC
BEGIN:STANDARD
TZOFFSETFROM:+0000
TZOFFSETTO:+0000
TZNAME:UTC
DTSTART:20240101T000000
END:STANDARD
END:VTIMEZONE
BEGIN:VEVENT
DTSTART;TZID=UTC:20250505T110000
DTEND;TZID=UTC:20250505T140000
DTSTAMP:20260421T154126
CREATED:20220912T091539Z
LAST-MODIFIED:20220912T091557Z
UID:10001625-1746442800-1746453600@mungabareena.org.au
SUMMARY:Women’s Group Wangaratta
DESCRIPTION:Available to all Aboriginal and/or Torres Strait Islander Women
URL:https://mungabareena.org.au/event/womens-group-wangaratta/2025-05-05/
LOCATION:Mungabareena Aboriginal Corporation Ryley St\, 53 Ryley St\, Wangaratta\, VIC\, 3677\, Australia
GEO:-36.3572046;146.3215004
X-APPLE-STRUCTURED-LOCATION;VALUE=URI;X-ADDRESS=Mungabareena Aboriginal Corporation Ryley St 53 Ryley St Wangaratta VIC 3677 Australia;X-APPLE-RADIUS=500;X-TITLE=53 Ryley St:geo:146.3215004,-36.3572046
END:VEVENT
BEGIN:VEVENT
DTSTART;TZID=UTC:20250507T110000
DTEND;TZID=UTC:20250507T140000
DTSTAMP:20260421T154126
CREATED:20220912T090955Z
LAST-MODIFIED:20220912T122336Z
UID:10001338-1746615600-1746626400@mungabareena.org.au
SUMMARY:Women’s Group Wodonga
DESCRIPTION:Available to all Aboriginal and/or Torres Strait Islander Women
URL:https://mungabareena.org.au/event/womens-group-wodonga/2025-05-07/
LOCATION:Mungabareena Aboriginal Corporation Hovell St\, 21 Hovel St\, Wodonga\, Victoria\, 3690\, Australia
GEO:-36.1164164;146.8933646
X-APPLE-STRUCTURED-LOCATION;VALUE=URI;X-ADDRESS=Mungabareena Aboriginal Corporation Hovell St 21 Hovel St Wodonga Victoria 3690 Australia;X-APPLE-RADIUS=500;X-TITLE=21 Hovel St:geo:146.8933646,-36.1164164
END:VEVENT
BEGIN:VEVENT
DTSTART;TZID=UTC:20250507T113000
DTEND;TZID=UTC:20250507T140000
DTSTAMP:20260421T154126
CREATED:20220912T092116Z
LAST-MODIFIED:20220912T092116Z
UID:10001846-1746617400-1746626400@mungabareena.org.au
SUMMARY:Men’s Yarning Circle
DESCRIPTION:Available to all Aboriginal and/or Torres Strait Islander Men
URL:https://mungabareena.org.au/event/mens-yarning-circle/2025-05-07/
LOCATION:Mungabareena Aboriginal Corporation Ryley St\, 53 Ryley St\, Wangaratta\, VIC\, 3677\, Australia
GEO:-36.3572046;146.3215004
X-APPLE-STRUCTURED-LOCATION;VALUE=URI;X-ADDRESS=Mungabareena Aboriginal Corporation Ryley St 53 Ryley St Wangaratta VIC 3677 Australia;X-APPLE-RADIUS=500;X-TITLE=53 Ryley St:geo:146.3215004,-36.3572046
END:VEVENT
BEGIN:VEVENT
DTSTART;TZID=UTC:20250512T110000
DTEND;TZID=UTC:20250512T140000
DTSTAMP:20260421T154126
CREATED:20220912T091539Z
LAST-MODIFIED:20220912T091557Z
UID:10001626-1747047600-1747058400@mungabareena.org.au
SUMMARY:Women’s Group Wangaratta
DESCRIPTION:Available to all Aboriginal and/or Torres Strait Islander Women
URL:https://mungabareena.org.au/event/womens-group-wangaratta/2025-05-12/
LOCATION:Mungabareena Aboriginal Corporation Ryley St\, 53 Ryley St\, Wangaratta\, VIC\, 3677\, Australia
GEO:-36.3572046;146.3215004
X-APPLE-STRUCTURED-LOCATION;VALUE=URI;X-ADDRESS=Mungabareena Aboriginal Corporation Ryley St 53 Ryley St Wangaratta VIC 3677 Australia;X-APPLE-RADIUS=500;X-TITLE=53 Ryley St:geo:146.3215004,-36.3572046
END:VEVENT
BEGIN:VEVENT
DTSTART;TZID=UTC:20250514T110000
DTEND;TZID=UTC:20250514T140000
DTSTAMP:20260421T154126
CREATED:20220912T090955Z
LAST-MODIFIED:20220912T122336Z
UID:10001339-1747220400-1747231200@mungabareena.org.au
SUMMARY:Women’s Group Wodonga
DESCRIPTION:Available to all Aboriginal and/or Torres Strait Islander Women
URL:https://mungabareena.org.au/event/womens-group-wodonga/2025-05-14/
LOCATION:Mungabareena Aboriginal Corporation Hovell St\, 21 Hovel St\, Wodonga\, Victoria\, 3690\, Australia
GEO:-36.1164164;146.8933646
X-APPLE-STRUCTURED-LOCATION;VALUE=URI;X-ADDRESS=Mungabareena Aboriginal Corporation Hovell St 21 Hovel St Wodonga Victoria 3690 Australia;X-APPLE-RADIUS=500;X-TITLE=21 Hovel St:geo:146.8933646,-36.1164164
END:VEVENT
BEGIN:VEVENT
DTSTART;TZID=UTC:20250519T110000
DTEND;TZID=UTC:20250519T140000
DTSTAMP:20260421T154126
CREATED:20220912T091539Z
LAST-MODIFIED:20220912T091557Z
UID:10001627-1747652400-1747663200@mungabareena.org.au
SUMMARY:Women’s Group Wangaratta
DESCRIPTION:Available to all Aboriginal and/or Torres Strait Islander Women
URL:https://mungabareena.org.au/event/womens-group-wangaratta/2025-05-19/
LOCATION:Mungabareena Aboriginal Corporation Ryley St\, 53 Ryley St\, Wangaratta\, VIC\, 3677\, Australia
GEO:-36.3572046;146.3215004
X-APPLE-STRUCTURED-LOCATION;VALUE=URI;X-ADDRESS=Mungabareena Aboriginal Corporation Ryley St 53 Ryley St Wangaratta VIC 3677 Australia;X-APPLE-RADIUS=500;X-TITLE=53 Ryley St:geo:146.3215004,-36.3572046
END:VEVENT
BEGIN:VEVENT
DTSTART;TZID=UTC:20250521T110000
DTEND;TZID=UTC:20250521T140000
DTSTAMP:20260421T154126
CREATED:20220912T090955Z
LAST-MODIFIED:20220912T122336Z
UID:10001340-1747825200-1747836000@mungabareena.org.au
SUMMARY:Women’s Group Wodonga
DESCRIPTION:Available to all Aboriginal and/or Torres Strait Islander Women
URL:https://mungabareena.org.au/event/womens-group-wodonga/2025-05-21/
LOCATION:Mungabareena Aboriginal Corporation Hovell St\, 21 Hovel St\, Wodonga\, Victoria\, 3690\, Australia
GEO:-36.1164164;146.8933646
X-APPLE-STRUCTURED-LOCATION;VALUE=URI;X-ADDRESS=Mungabareena Aboriginal Corporation Hovell St 21 Hovel St Wodonga Victoria 3690 Australia;X-APPLE-RADIUS=500;X-TITLE=21 Hovel St:geo:146.8933646,-36.1164164
END:VEVENT
BEGIN:VEVENT
DTSTART;TZID=UTC:20250521T113000
DTEND;TZID=UTC:20250521T140000
DTSTAMP:20260421T154126
CREATED:20220912T092116Z
LAST-MODIFIED:20220912T092116Z
UID:10001847-1747827000-1747836000@mungabareena.org.au
SUMMARY:Men’s Yarning Circle
DESCRIPTION:Available to all Aboriginal and/or Torres Strait Islander Men
URL:https://mungabareena.org.au/event/mens-yarning-circle/2025-05-21/
LOCATION:Mungabareena Aboriginal Corporation Ryley St\, 53 Ryley St\, Wangaratta\, VIC\, 3677\, Australia
GEO:-36.3572046;146.3215004
X-APPLE-STRUCTURED-LOCATION;VALUE=URI;X-ADDRESS=Mungabareena Aboriginal Corporation Ryley St 53 Ryley St Wangaratta VIC 3677 Australia;X-APPLE-RADIUS=500;X-TITLE=53 Ryley St:geo:146.3215004,-36.3572046
END:VEVENT
BEGIN:VEVENT
DTSTART;TZID=UTC:20250526T110000
DTEND;TZID=UTC:20250526T140000
DTSTAMP:20260421T154126
CREATED:20220912T091539Z
LAST-MODIFIED:20220912T091557Z
UID:10001628-1748257200-1748268000@mungabareena.org.au
SUMMARY:Women’s Group Wangaratta
DESCRIPTION:Available to all Aboriginal and/or Torres Strait Islander Women
URL:https://mungabareena.org.au/event/womens-group-wangaratta/2025-05-26/
LOCATION:Mungabareena Aboriginal Corporation Ryley St\, 53 Ryley St\, Wangaratta\, VIC\, 3677\, Australia
GEO:-36.3572046;146.3215004
X-APPLE-STRUCTURED-LOCATION;VALUE=URI;X-ADDRESS=Mungabareena Aboriginal Corporation Ryley St 53 Ryley St Wangaratta VIC 3677 Australia;X-APPLE-RADIUS=500;X-TITLE=53 Ryley St:geo:146.3215004,-36.3572046
END:VEVENT
BEGIN:VEVENT
DTSTART;TZID=UTC:20250528T110000
DTEND;TZID=UTC:20250528T140000
DTSTAMP:20260421T154126
CREATED:20220912T090955Z
LAST-MODIFIED:20220912T122336Z
UID:10001341-1748430000-1748440800@mungabareena.org.au
SUMMARY:Women’s Group Wodonga
DESCRIPTION:Available to all Aboriginal and/or Torres Strait Islander Women
URL:https://mungabareena.org.au/event/womens-group-wodonga/2025-05-28/
LOCATION:Mungabareena Aboriginal Corporation Hovell St\, 21 Hovel St\, Wodonga\, Victoria\, 3690\, Australia
GEO:-36.1164164;146.8933646
X-APPLE-STRUCTURED-LOCATION;VALUE=URI;X-ADDRESS=Mungabareena Aboriginal Corporation Hovell St 21 Hovel St Wodonga Victoria 3690 Australia;X-APPLE-RADIUS=500;X-TITLE=21 Hovel St:geo:146.8933646,-36.1164164
END:VEVENT
END:VCALENDAR