BEGIN:VCALENDAR
VERSION:2.0
PRODID:-//Mungabareena Aboriginal Corporation - ECPv6.15.20//NONSGML v1.0//EN
CALSCALE:GREGORIAN
METHOD:PUBLISH
X-ORIGINAL-URL:https://mungabareena.org.au
X-WR-CALDESC:Events for Mungabareena Aboriginal Corporation
REFRESH-INTERVAL;VALUE=DURATION:PT1H
X-Robots-Tag:noindex
X-PUBLISHED-TTL:PT1H
BEGIN:VTIMEZONE
TZID:UTC
BEGIN:STANDARD
TZOFFSETFROM:+0000
TZOFFSETTO:+0000
TZNAME:UTC
DTSTART:20210101T000000
END:STANDARD
END:VTIMEZONE
BEGIN:VEVENT
DTSTART;TZID=UTC:20220913T225947
DTEND;TZID=UTC:20220913T225947
DTSTAMP:20260423T095436
CREATED:20220912T121009Z
LAST-MODIFIED:20250225T225947Z
UID:10001947-1663109987-1663109987@mungabareena.org.au
SUMMARY:Planned Activity Group (PAG)
DESCRIPTION:Available for Aboriginal and/or Torres Strait Islander individuals 50 years and over.\nThe CHSP program provides small amounts of entry-level support to assist older Aboriginal and/or Torres Strait Islander peoples aged 50 years and over and HACC-PYP supports community of 50 years and younger. Social Support Group provides an opportunity for clients to attend and participate in social interactions which are conducted away from the client’s home.
URL:https://mungabareena.org.au/event/planned-activity-group-pag/
END:VEVENT
END:VCALENDAR