BEGIN:VCALENDAR
VERSION:2.0
PRODID:-//Mungabareena Aboriginal Corporation - ECPv6.15.20//NONSGML v1.0//EN
CALSCALE:GREGORIAN
METHOD:PUBLISH
X-ORIGINAL-URL:https://mungabareena.org.au
X-WR-CALDESC:Events for Mungabareena Aboriginal Corporation
REFRESH-INTERVAL;VALUE=DURATION:PT1H
X-Robots-Tag:noindex
X-PUBLISHED-TTL:PT1H
BEGIN:VTIMEZONE
TZID:UTC
BEGIN:STANDARD
TZOFFSETFROM:+0000
TZOFFSETTO:+0000
TZNAME:UTC
DTSTART:20220101T000000
END:STANDARD
END:VTIMEZONE
BEGIN:VEVENT
DTSTART;TZID=UTC:20240110T110000
DTEND;TZID=UTC:20240110T140000
DTSTAMP:20260423T133141
CREATED:20220912T090955Z
LAST-MODIFIED:20220912T122336Z
UID:10001269-1704884400-1704895200@mungabareena.org.au
SUMMARY:Women’s Group Wodonga
DESCRIPTION:Available to all Aboriginal and/or Torres Strait Islander Women
URL:https://mungabareena.org.au/event/womens-group-wodonga/2024-01-10/
LOCATION:Mungabareena Aboriginal Corporation Hovell St\, 21 Hovel St\, Wodonga\, Victoria\, 3690\, Australia
GEO:-36.1164164;146.8933646
X-APPLE-STRUCTURED-LOCATION;VALUE=URI;X-ADDRESS=Mungabareena Aboriginal Corporation Hovell St 21 Hovel St Wodonga Victoria 3690 Australia;X-APPLE-RADIUS=500;X-TITLE=21 Hovel St:geo:146.8933646,-36.1164164
END:VEVENT
BEGIN:VEVENT
DTSTART;TZID=UTC:20240103T110000
DTEND;TZID=UTC:20240103T140000
DTSTAMP:20260423T133141
CREATED:20220912T090955Z
LAST-MODIFIED:20220912T122336Z
UID:10001268-1704279600-1704290400@mungabareena.org.au
SUMMARY:Women’s Group Wodonga
DESCRIPTION:Available to all Aboriginal and/or Torres Strait Islander Women
URL:https://mungabareena.org.au/event/womens-group-wodonga/2024-01-03/
LOCATION:Mungabareena Aboriginal Corporation Hovell St\, 21 Hovel St\, Wodonga\, Victoria\, 3690\, Australia
GEO:-36.1164164;146.8933646
X-APPLE-STRUCTURED-LOCATION;VALUE=URI;X-ADDRESS=Mungabareena Aboriginal Corporation Hovell St 21 Hovel St Wodonga Victoria 3690 Australia;X-APPLE-RADIUS=500;X-TITLE=21 Hovel St:geo:146.8933646,-36.1164164
END:VEVENT
BEGIN:VEVENT
DTSTART;TZID=UTC:20231227T110000
DTEND;TZID=UTC:20231227T140000
DTSTAMP:20260423T133141
CREATED:20220912T090955Z
LAST-MODIFIED:20220912T122336Z
UID:10001267-1703674800-1703685600@mungabareena.org.au
SUMMARY:Women’s Group Wodonga
DESCRIPTION:Available to all Aboriginal and/or Torres Strait Islander Women
URL:https://mungabareena.org.au/event/womens-group-wodonga/2023-12-27/
LOCATION:Mungabareena Aboriginal Corporation Hovell St\, 21 Hovel St\, Wodonga\, Victoria\, 3690\, Australia
GEO:-36.1164164;146.8933646
X-APPLE-STRUCTURED-LOCATION;VALUE=URI;X-ADDRESS=Mungabareena Aboriginal Corporation Hovell St 21 Hovel St Wodonga Victoria 3690 Australia;X-APPLE-RADIUS=500;X-TITLE=21 Hovel St:geo:146.8933646,-36.1164164
END:VEVENT
BEGIN:VEVENT
DTSTART;TZID=UTC:20231220T110000
DTEND;TZID=UTC:20231220T140000
DTSTAMP:20260423T133141
CREATED:20220912T090955Z
LAST-MODIFIED:20220912T122336Z
UID:10001266-1703070000-1703080800@mungabareena.org.au
SUMMARY:Women’s Group Wodonga
DESCRIPTION:Available to all Aboriginal and/or Torres Strait Islander Women
URL:https://mungabareena.org.au/event/womens-group-wodonga/2023-12-20/
LOCATION:Mungabareena Aboriginal Corporation Hovell St\, 21 Hovel St\, Wodonga\, Victoria\, 3690\, Australia
GEO:-36.1164164;146.8933646
X-APPLE-STRUCTURED-LOCATION;VALUE=URI;X-ADDRESS=Mungabareena Aboriginal Corporation Hovell St 21 Hovel St Wodonga Victoria 3690 Australia;X-APPLE-RADIUS=500;X-TITLE=21 Hovel St:geo:146.8933646,-36.1164164
END:VEVENT
BEGIN:VEVENT
DTSTART;TZID=UTC:20231213T110000
DTEND;TZID=UTC:20231213T140000
DTSTAMP:20260423T133141
CREATED:20220912T090955Z
LAST-MODIFIED:20220912T122336Z
UID:10001265-1702465200-1702476000@mungabareena.org.au
SUMMARY:Women’s Group Wodonga
DESCRIPTION:Available to all Aboriginal and/or Torres Strait Islander Women
URL:https://mungabareena.org.au/event/womens-group-wodonga/2023-12-13/
LOCATION:Mungabareena Aboriginal Corporation Hovell St\, 21 Hovel St\, Wodonga\, Victoria\, 3690\, Australia
GEO:-36.1164164;146.8933646
X-APPLE-STRUCTURED-LOCATION;VALUE=URI;X-ADDRESS=Mungabareena Aboriginal Corporation Hovell St 21 Hovel St Wodonga Victoria 3690 Australia;X-APPLE-RADIUS=500;X-TITLE=21 Hovel St:geo:146.8933646,-36.1164164
END:VEVENT
BEGIN:VEVENT
DTSTART;TZID=UTC:20231206T110000
DTEND;TZID=UTC:20231206T140000
DTSTAMP:20260423T133141
CREATED:20220912T090955Z
LAST-MODIFIED:20220912T122336Z
UID:10001264-1701860400-1701871200@mungabareena.org.au
SUMMARY:Women’s Group Wodonga
DESCRIPTION:Available to all Aboriginal and/or Torres Strait Islander Women
URL:https://mungabareena.org.au/event/womens-group-wodonga/2023-12-06/
LOCATION:Mungabareena Aboriginal Corporation Hovell St\, 21 Hovel St\, Wodonga\, Victoria\, 3690\, Australia
GEO:-36.1164164;146.8933646
X-APPLE-STRUCTURED-LOCATION;VALUE=URI;X-ADDRESS=Mungabareena Aboriginal Corporation Hovell St 21 Hovel St Wodonga Victoria 3690 Australia;X-APPLE-RADIUS=500;X-TITLE=21 Hovel St:geo:146.8933646,-36.1164164
END:VEVENT
BEGIN:VEVENT
DTSTART;TZID=UTC:20231129T110000
DTEND;TZID=UTC:20231129T140000
DTSTAMP:20260423T133141
CREATED:20220912T090955Z
LAST-MODIFIED:20220912T122336Z
UID:10001263-1701255600-1701266400@mungabareena.org.au
SUMMARY:Women’s Group Wodonga
DESCRIPTION:Available to all Aboriginal and/or Torres Strait Islander Women
URL:https://mungabareena.org.au/event/womens-group-wodonga/2023-11-29/
LOCATION:Mungabareena Aboriginal Corporation Hovell St\, 21 Hovel St\, Wodonga\, Victoria\, 3690\, Australia
GEO:-36.1164164;146.8933646
X-APPLE-STRUCTURED-LOCATION;VALUE=URI;X-ADDRESS=Mungabareena Aboriginal Corporation Hovell St 21 Hovel St Wodonga Victoria 3690 Australia;X-APPLE-RADIUS=500;X-TITLE=21 Hovel St:geo:146.8933646,-36.1164164
END:VEVENT
BEGIN:VEVENT
DTSTART;TZID=UTC:20231122T110000
DTEND;TZID=UTC:20231122T140000
DTSTAMP:20260423T133141
CREATED:20220912T090955Z
LAST-MODIFIED:20220912T122336Z
UID:10001262-1700650800-1700661600@mungabareena.org.au
SUMMARY:Women’s Group Wodonga
DESCRIPTION:Available to all Aboriginal and/or Torres Strait Islander Women
URL:https://mungabareena.org.au/event/womens-group-wodonga/2023-11-22/
LOCATION:Mungabareena Aboriginal Corporation Hovell St\, 21 Hovel St\, Wodonga\, Victoria\, 3690\, Australia
GEO:-36.1164164;146.8933646
X-APPLE-STRUCTURED-LOCATION;VALUE=URI;X-ADDRESS=Mungabareena Aboriginal Corporation Hovell St 21 Hovel St Wodonga Victoria 3690 Australia;X-APPLE-RADIUS=500;X-TITLE=21 Hovel St:geo:146.8933646,-36.1164164
END:VEVENT
BEGIN:VEVENT
DTSTART;TZID=UTC:20231115T110000
DTEND;TZID=UTC:20231115T140000
DTSTAMP:20260423T133141
CREATED:20220912T090955Z
LAST-MODIFIED:20220912T122336Z
UID:10001261-1700046000-1700056800@mungabareena.org.au
SUMMARY:Women’s Group Wodonga
DESCRIPTION:Available to all Aboriginal and/or Torres Strait Islander Women
URL:https://mungabareena.org.au/event/womens-group-wodonga/2023-11-15/
LOCATION:Mungabareena Aboriginal Corporation Hovell St\, 21 Hovel St\, Wodonga\, Victoria\, 3690\, Australia
GEO:-36.1164164;146.8933646
X-APPLE-STRUCTURED-LOCATION;VALUE=URI;X-ADDRESS=Mungabareena Aboriginal Corporation Hovell St 21 Hovel St Wodonga Victoria 3690 Australia;X-APPLE-RADIUS=500;X-TITLE=21 Hovel St:geo:146.8933646,-36.1164164
END:VEVENT
BEGIN:VEVENT
DTSTART;TZID=UTC:20231108T110000
DTEND;TZID=UTC:20231108T140000
DTSTAMP:20260423T133141
CREATED:20220912T090955Z
LAST-MODIFIED:20220912T122336Z
UID:10001260-1699441200-1699452000@mungabareena.org.au
SUMMARY:Women’s Group Wodonga
DESCRIPTION:Available to all Aboriginal and/or Torres Strait Islander Women
URL:https://mungabareena.org.au/event/womens-group-wodonga/2023-11-08/
LOCATION:Mungabareena Aboriginal Corporation Hovell St\, 21 Hovel St\, Wodonga\, Victoria\, 3690\, Australia
GEO:-36.1164164;146.8933646
X-APPLE-STRUCTURED-LOCATION;VALUE=URI;X-ADDRESS=Mungabareena Aboriginal Corporation Hovell St 21 Hovel St Wodonga Victoria 3690 Australia;X-APPLE-RADIUS=500;X-TITLE=21 Hovel St:geo:146.8933646,-36.1164164
END:VEVENT
BEGIN:VEVENT
DTSTART;TZID=UTC:20231101T110000
DTEND;TZID=UTC:20231101T140000
DTSTAMP:20260423T133141
CREATED:20220912T090955Z
LAST-MODIFIED:20220912T122336Z
UID:10001259-1698836400-1698847200@mungabareena.org.au
SUMMARY:Women’s Group Wodonga
DESCRIPTION:Available to all Aboriginal and/or Torres Strait Islander Women
URL:https://mungabareena.org.au/event/womens-group-wodonga/2023-11-01/
LOCATION:Mungabareena Aboriginal Corporation Hovell St\, 21 Hovel St\, Wodonga\, Victoria\, 3690\, Australia
GEO:-36.1164164;146.8933646
X-APPLE-STRUCTURED-LOCATION;VALUE=URI;X-ADDRESS=Mungabareena Aboriginal Corporation Hovell St 21 Hovel St Wodonga Victoria 3690 Australia;X-APPLE-RADIUS=500;X-TITLE=21 Hovel St:geo:146.8933646,-36.1164164
END:VEVENT
BEGIN:VEVENT
DTSTART;TZID=UTC:20231025T110000
DTEND;TZID=UTC:20231025T140000
DTSTAMP:20260423T133141
CREATED:20220912T090955Z
LAST-MODIFIED:20220912T122336Z
UID:10001258-1698231600-1698242400@mungabareena.org.au
SUMMARY:Women’s Group Wodonga
DESCRIPTION:Available to all Aboriginal and/or Torres Strait Islander Women
URL:https://mungabareena.org.au/event/womens-group-wodonga/2023-10-25/
LOCATION:Mungabareena Aboriginal Corporation Hovell St\, 21 Hovel St\, Wodonga\, Victoria\, 3690\, Australia
GEO:-36.1164164;146.8933646
X-APPLE-STRUCTURED-LOCATION;VALUE=URI;X-ADDRESS=Mungabareena Aboriginal Corporation Hovell St 21 Hovel St Wodonga Victoria 3690 Australia;X-APPLE-RADIUS=500;X-TITLE=21 Hovel St:geo:146.8933646,-36.1164164
END:VEVENT
BEGIN:VEVENT
DTSTART;TZID=UTC:20231018T110000
DTEND;TZID=UTC:20231018T140000
DTSTAMP:20260423T133141
CREATED:20220912T090955Z
LAST-MODIFIED:20220912T122336Z
UID:10001257-1697626800-1697637600@mungabareena.org.au
SUMMARY:Women’s Group Wodonga
DESCRIPTION:Available to all Aboriginal and/or Torres Strait Islander Women
URL:https://mungabareena.org.au/event/womens-group-wodonga/2023-10-18/
LOCATION:Mungabareena Aboriginal Corporation Hovell St\, 21 Hovel St\, Wodonga\, Victoria\, 3690\, Australia
GEO:-36.1164164;146.8933646
X-APPLE-STRUCTURED-LOCATION;VALUE=URI;X-ADDRESS=Mungabareena Aboriginal Corporation Hovell St 21 Hovel St Wodonga Victoria 3690 Australia;X-APPLE-RADIUS=500;X-TITLE=21 Hovel St:geo:146.8933646,-36.1164164
END:VEVENT
BEGIN:VEVENT
DTSTART;TZID=UTC:20231011T110000
DTEND;TZID=UTC:20231011T140000
DTSTAMP:20260423T133141
CREATED:20220912T090955Z
LAST-MODIFIED:20220912T122336Z
UID:10001256-1697022000-1697032800@mungabareena.org.au
SUMMARY:Women’s Group Wodonga
DESCRIPTION:Available to all Aboriginal and/or Torres Strait Islander Women
URL:https://mungabareena.org.au/event/womens-group-wodonga/2023-10-11/
LOCATION:Mungabareena Aboriginal Corporation Hovell St\, 21 Hovel St\, Wodonga\, Victoria\, 3690\, Australia
GEO:-36.1164164;146.8933646
X-APPLE-STRUCTURED-LOCATION;VALUE=URI;X-ADDRESS=Mungabareena Aboriginal Corporation Hovell St 21 Hovel St Wodonga Victoria 3690 Australia;X-APPLE-RADIUS=500;X-TITLE=21 Hovel St:geo:146.8933646,-36.1164164
END:VEVENT
BEGIN:VEVENT
DTSTART;TZID=UTC:20231004T110000
DTEND;TZID=UTC:20231004T140000
DTSTAMP:20260423T133141
CREATED:20220912T090955Z
LAST-MODIFIED:20220912T122336Z
UID:10001255-1696417200-1696428000@mungabareena.org.au
SUMMARY:Women’s Group Wodonga
DESCRIPTION:Available to all Aboriginal and/or Torres Strait Islander Women
URL:https://mungabareena.org.au/event/womens-group-wodonga/2023-10-04/
LOCATION:Mungabareena Aboriginal Corporation Hovell St\, 21 Hovel St\, Wodonga\, Victoria\, 3690\, Australia
GEO:-36.1164164;146.8933646
X-APPLE-STRUCTURED-LOCATION;VALUE=URI;X-ADDRESS=Mungabareena Aboriginal Corporation Hovell St 21 Hovel St Wodonga Victoria 3690 Australia;X-APPLE-RADIUS=500;X-TITLE=21 Hovel St:geo:146.8933646,-36.1164164
END:VEVENT
BEGIN:VEVENT
DTSTART;TZID=UTC:20230927T110000
DTEND;TZID=UTC:20230927T140000
DTSTAMP:20260423T133141
CREATED:20220912T090955Z
LAST-MODIFIED:20220912T122336Z
UID:10001254-1695812400-1695823200@mungabareena.org.au
SUMMARY:Women’s Group Wodonga
DESCRIPTION:Available to all Aboriginal and/or Torres Strait Islander Women
URL:https://mungabareena.org.au/event/womens-group-wodonga/2023-09-27/
LOCATION:Mungabareena Aboriginal Corporation Hovell St\, 21 Hovel St\, Wodonga\, Victoria\, 3690\, Australia
GEO:-36.1164164;146.8933646
X-APPLE-STRUCTURED-LOCATION;VALUE=URI;X-ADDRESS=Mungabareena Aboriginal Corporation Hovell St 21 Hovel St Wodonga Victoria 3690 Australia;X-APPLE-RADIUS=500;X-TITLE=21 Hovel St:geo:146.8933646,-36.1164164
END:VEVENT
BEGIN:VEVENT
DTSTART;TZID=UTC:20230920T110000
DTEND;TZID=UTC:20230920T140000
DTSTAMP:20260423T133141
CREATED:20220912T090955Z
LAST-MODIFIED:20220912T122336Z
UID:10001253-1695207600-1695218400@mungabareena.org.au
SUMMARY:Women’s Group Wodonga
DESCRIPTION:Available to all Aboriginal and/or Torres Strait Islander Women
URL:https://mungabareena.org.au/event/womens-group-wodonga/2023-09-20/
LOCATION:Mungabareena Aboriginal Corporation Hovell St\, 21 Hovel St\, Wodonga\, Victoria\, 3690\, Australia
GEO:-36.1164164;146.8933646
X-APPLE-STRUCTURED-LOCATION;VALUE=URI;X-ADDRESS=Mungabareena Aboriginal Corporation Hovell St 21 Hovel St Wodonga Victoria 3690 Australia;X-APPLE-RADIUS=500;X-TITLE=21 Hovel St:geo:146.8933646,-36.1164164
END:VEVENT
BEGIN:VEVENT
DTSTART;TZID=UTC:20230913T110000
DTEND;TZID=UTC:20230913T140000
DTSTAMP:20260423T133141
CREATED:20220912T090955Z
LAST-MODIFIED:20220912T122336Z
UID:10001252-1694602800-1694613600@mungabareena.org.au
SUMMARY:Women’s Group Wodonga
DESCRIPTION:Available to all Aboriginal and/or Torres Strait Islander Women
URL:https://mungabareena.org.au/event/womens-group-wodonga/2023-09-13/
LOCATION:Mungabareena Aboriginal Corporation Hovell St\, 21 Hovel St\, Wodonga\, Victoria\, 3690\, Australia
GEO:-36.1164164;146.8933646
X-APPLE-STRUCTURED-LOCATION;VALUE=URI;X-ADDRESS=Mungabareena Aboriginal Corporation Hovell St 21 Hovel St Wodonga Victoria 3690 Australia;X-APPLE-RADIUS=500;X-TITLE=21 Hovel St:geo:146.8933646,-36.1164164
END:VEVENT
BEGIN:VEVENT
DTSTART;TZID=UTC:20230906T110000
DTEND;TZID=UTC:20230906T140000
DTSTAMP:20260423T133141
CREATED:20220912T090955Z
LAST-MODIFIED:20220912T122336Z
UID:10001251-1693998000-1694008800@mungabareena.org.au
SUMMARY:Women’s Group Wodonga
DESCRIPTION:Available to all Aboriginal and/or Torres Strait Islander Women
URL:https://mungabareena.org.au/event/womens-group-wodonga/2023-09-06/
LOCATION:Mungabareena Aboriginal Corporation Hovell St\, 21 Hovel St\, Wodonga\, Victoria\, 3690\, Australia
GEO:-36.1164164;146.8933646
X-APPLE-STRUCTURED-LOCATION;VALUE=URI;X-ADDRESS=Mungabareena Aboriginal Corporation Hovell St 21 Hovel St Wodonga Victoria 3690 Australia;X-APPLE-RADIUS=500;X-TITLE=21 Hovel St:geo:146.8933646,-36.1164164
END:VEVENT
BEGIN:VEVENT
DTSTART;TZID=UTC:20230830T110000
DTEND;TZID=UTC:20230830T140000
DTSTAMP:20260423T133141
CREATED:20220912T090955Z
LAST-MODIFIED:20220912T122336Z
UID:10001250-1693393200-1693404000@mungabareena.org.au
SUMMARY:Women’s Group Wodonga
DESCRIPTION:Available to all Aboriginal and/or Torres Strait Islander Women
URL:https://mungabareena.org.au/event/womens-group-wodonga/2023-08-30/
LOCATION:Mungabareena Aboriginal Corporation Hovell St\, 21 Hovel St\, Wodonga\, Victoria\, 3690\, Australia
GEO:-36.1164164;146.8933646
X-APPLE-STRUCTURED-LOCATION;VALUE=URI;X-ADDRESS=Mungabareena Aboriginal Corporation Hovell St 21 Hovel St Wodonga Victoria 3690 Australia;X-APPLE-RADIUS=500;X-TITLE=21 Hovel St:geo:146.8933646,-36.1164164
END:VEVENT
BEGIN:VEVENT
DTSTART;TZID=UTC:20230823T110000
DTEND;TZID=UTC:20230823T140000
DTSTAMP:20260423T133141
CREATED:20220912T090955Z
LAST-MODIFIED:20220912T122336Z
UID:10001249-1692788400-1692799200@mungabareena.org.au
SUMMARY:Women’s Group Wodonga
DESCRIPTION:Available to all Aboriginal and/or Torres Strait Islander Women
URL:https://mungabareena.org.au/event/womens-group-wodonga/2023-08-23/
LOCATION:Mungabareena Aboriginal Corporation Hovell St\, 21 Hovel St\, Wodonga\, Victoria\, 3690\, Australia
GEO:-36.1164164;146.8933646
X-APPLE-STRUCTURED-LOCATION;VALUE=URI;X-ADDRESS=Mungabareena Aboriginal Corporation Hovell St 21 Hovel St Wodonga Victoria 3690 Australia;X-APPLE-RADIUS=500;X-TITLE=21 Hovel St:geo:146.8933646,-36.1164164
END:VEVENT
BEGIN:VEVENT
DTSTART;TZID=UTC:20230816T110000
DTEND;TZID=UTC:20230816T140000
DTSTAMP:20260423T133141
CREATED:20220912T090955Z
LAST-MODIFIED:20220912T122336Z
UID:10001248-1692183600-1692194400@mungabareena.org.au
SUMMARY:Women’s Group Wodonga
DESCRIPTION:Available to all Aboriginal and/or Torres Strait Islander Women
URL:https://mungabareena.org.au/event/womens-group-wodonga/2023-08-16/
LOCATION:Mungabareena Aboriginal Corporation Hovell St\, 21 Hovel St\, Wodonga\, Victoria\, 3690\, Australia
GEO:-36.1164164;146.8933646
X-APPLE-STRUCTURED-LOCATION;VALUE=URI;X-ADDRESS=Mungabareena Aboriginal Corporation Hovell St 21 Hovel St Wodonga Victoria 3690 Australia;X-APPLE-RADIUS=500;X-TITLE=21 Hovel St:geo:146.8933646,-36.1164164
END:VEVENT
BEGIN:VEVENT
DTSTART;TZID=UTC:20230809T110000
DTEND;TZID=UTC:20230809T140000
DTSTAMP:20260423T133141
CREATED:20220912T090955Z
LAST-MODIFIED:20220912T122336Z
UID:10001247-1691578800-1691589600@mungabareena.org.au
SUMMARY:Women’s Group Wodonga
DESCRIPTION:Available to all Aboriginal and/or Torres Strait Islander Women
URL:https://mungabareena.org.au/event/womens-group-wodonga/2023-08-09/
LOCATION:Mungabareena Aboriginal Corporation Hovell St\, 21 Hovel St\, Wodonga\, Victoria\, 3690\, Australia
GEO:-36.1164164;146.8933646
X-APPLE-STRUCTURED-LOCATION;VALUE=URI;X-ADDRESS=Mungabareena Aboriginal Corporation Hovell St 21 Hovel St Wodonga Victoria 3690 Australia;X-APPLE-RADIUS=500;X-TITLE=21 Hovel St:geo:146.8933646,-36.1164164
END:VEVENT
BEGIN:VEVENT
DTSTART;TZID=UTC:20230802T110000
DTEND;TZID=UTC:20230802T140000
DTSTAMP:20260423T133141
CREATED:20220912T090955Z
LAST-MODIFIED:20220912T122336Z
UID:10001246-1690974000-1690984800@mungabareena.org.au
SUMMARY:Women’s Group Wodonga
DESCRIPTION:Available to all Aboriginal and/or Torres Strait Islander Women
URL:https://mungabareena.org.au/event/womens-group-wodonga/2023-08-02/
LOCATION:Mungabareena Aboriginal Corporation Hovell St\, 21 Hovel St\, Wodonga\, Victoria\, 3690\, Australia
GEO:-36.1164164;146.8933646
X-APPLE-STRUCTURED-LOCATION;VALUE=URI;X-ADDRESS=Mungabareena Aboriginal Corporation Hovell St 21 Hovel St Wodonga Victoria 3690 Australia;X-APPLE-RADIUS=500;X-TITLE=21 Hovel St:geo:146.8933646,-36.1164164
END:VEVENT
BEGIN:VEVENT
DTSTART;TZID=UTC:20230726T110000
DTEND;TZID=UTC:20230726T140000
DTSTAMP:20260423T133141
CREATED:20220912T090955Z
LAST-MODIFIED:20220912T122336Z
UID:10001245-1690369200-1690380000@mungabareena.org.au
SUMMARY:Women’s Group Wodonga
DESCRIPTION:Available to all Aboriginal and/or Torres Strait Islander Women
URL:https://mungabareena.org.au/event/womens-group-wodonga/2023-07-26/
LOCATION:Mungabareena Aboriginal Corporation Hovell St\, 21 Hovel St\, Wodonga\, Victoria\, 3690\, Australia
GEO:-36.1164164;146.8933646
X-APPLE-STRUCTURED-LOCATION;VALUE=URI;X-ADDRESS=Mungabareena Aboriginal Corporation Hovell St 21 Hovel St Wodonga Victoria 3690 Australia;X-APPLE-RADIUS=500;X-TITLE=21 Hovel St:geo:146.8933646,-36.1164164
END:VEVENT
BEGIN:VEVENT
DTSTART;TZID=UTC:20230719T110000
DTEND;TZID=UTC:20230719T140000
DTSTAMP:20260423T133141
CREATED:20220912T090955Z
LAST-MODIFIED:20220912T122336Z
UID:10001244-1689764400-1689775200@mungabareena.org.au
SUMMARY:Women’s Group Wodonga
DESCRIPTION:Available to all Aboriginal and/or Torres Strait Islander Women
URL:https://mungabareena.org.au/event/womens-group-wodonga/2023-07-19/
LOCATION:Mungabareena Aboriginal Corporation Hovell St\, 21 Hovel St\, Wodonga\, Victoria\, 3690\, Australia
GEO:-36.1164164;146.8933646
X-APPLE-STRUCTURED-LOCATION;VALUE=URI;X-ADDRESS=Mungabareena Aboriginal Corporation Hovell St 21 Hovel St Wodonga Victoria 3690 Australia;X-APPLE-RADIUS=500;X-TITLE=21 Hovel St:geo:146.8933646,-36.1164164
END:VEVENT
BEGIN:VEVENT
DTSTART;TZID=UTC:20230712T110000
DTEND;TZID=UTC:20230712T140000
DTSTAMP:20260423T133141
CREATED:20220912T090955Z
LAST-MODIFIED:20220912T122336Z
UID:10001243-1689159600-1689170400@mungabareena.org.au
SUMMARY:Women’s Group Wodonga
DESCRIPTION:Available to all Aboriginal and/or Torres Strait Islander Women
URL:https://mungabareena.org.au/event/womens-group-wodonga/2023-07-12/
LOCATION:Mungabareena Aboriginal Corporation Hovell St\, 21 Hovel St\, Wodonga\, Victoria\, 3690\, Australia
GEO:-36.1164164;146.8933646
X-APPLE-STRUCTURED-LOCATION;VALUE=URI;X-ADDRESS=Mungabareena Aboriginal Corporation Hovell St 21 Hovel St Wodonga Victoria 3690 Australia;X-APPLE-RADIUS=500;X-TITLE=21 Hovel St:geo:146.8933646,-36.1164164
END:VEVENT
BEGIN:VEVENT
DTSTART;TZID=UTC:20230705T110000
DTEND;TZID=UTC:20230705T140000
DTSTAMP:20260423T133141
CREATED:20220912T090955Z
LAST-MODIFIED:20220912T122336Z
UID:10001242-1688554800-1688565600@mungabareena.org.au
SUMMARY:Women’s Group Wodonga
DESCRIPTION:Available to all Aboriginal and/or Torres Strait Islander Women
URL:https://mungabareena.org.au/event/womens-group-wodonga/2023-07-05/
LOCATION:Mungabareena Aboriginal Corporation Hovell St\, 21 Hovel St\, Wodonga\, Victoria\, 3690\, Australia
GEO:-36.1164164;146.8933646
X-APPLE-STRUCTURED-LOCATION;VALUE=URI;X-ADDRESS=Mungabareena Aboriginal Corporation Hovell St 21 Hovel St Wodonga Victoria 3690 Australia;X-APPLE-RADIUS=500;X-TITLE=21 Hovel St:geo:146.8933646,-36.1164164
END:VEVENT
BEGIN:VEVENT
DTSTART;TZID=UTC:20230628T110000
DTEND;TZID=UTC:20230628T140000
DTSTAMP:20260423T133141
CREATED:20220912T090955Z
LAST-MODIFIED:20220912T122336Z
UID:10001241-1687950000-1687960800@mungabareena.org.au
SUMMARY:Women’s Group Wodonga
DESCRIPTION:Available to all Aboriginal and/or Torres Strait Islander Women
URL:https://mungabareena.org.au/event/womens-group-wodonga/2023-06-28/
LOCATION:Mungabareena Aboriginal Corporation Hovell St\, 21 Hovel St\, Wodonga\, Victoria\, 3690\, Australia
GEO:-36.1164164;146.8933646
X-APPLE-STRUCTURED-LOCATION;VALUE=URI;X-ADDRESS=Mungabareena Aboriginal Corporation Hovell St 21 Hovel St Wodonga Victoria 3690 Australia;X-APPLE-RADIUS=500;X-TITLE=21 Hovel St:geo:146.8933646,-36.1164164
END:VEVENT
BEGIN:VEVENT
DTSTART;TZID=UTC:20230621T110000
DTEND;TZID=UTC:20230621T140000
DTSTAMP:20260423T133141
CREATED:20220912T090955Z
LAST-MODIFIED:20220912T122336Z
UID:10001240-1687345200-1687356000@mungabareena.org.au
SUMMARY:Women’s Group Wodonga
DESCRIPTION:Available to all Aboriginal and/or Torres Strait Islander Women
URL:https://mungabareena.org.au/event/womens-group-wodonga/2023-06-21/
LOCATION:Mungabareena Aboriginal Corporation Hovell St\, 21 Hovel St\, Wodonga\, Victoria\, 3690\, Australia
GEO:-36.1164164;146.8933646
X-APPLE-STRUCTURED-LOCATION;VALUE=URI;X-ADDRESS=Mungabareena Aboriginal Corporation Hovell St 21 Hovel St Wodonga Victoria 3690 Australia;X-APPLE-RADIUS=500;X-TITLE=21 Hovel St:geo:146.8933646,-36.1164164
END:VEVENT
END:VCALENDAR