BEGIN:VCALENDAR
VERSION:2.0
PRODID:-//Mungabareena Aboriginal Corporation - ECPv6.15.20//NONSGML v1.0//EN
CALSCALE:GREGORIAN
METHOD:PUBLISH
X-WR-CALNAME:Mungabareena Aboriginal Corporation
X-ORIGINAL-URL:https://mungabareena.org.au
X-WR-CALDESC:Events for Mungabareena Aboriginal Corporation
REFRESH-INTERVAL;VALUE=DURATION:PT1H
X-Robots-Tag:noindex
X-PUBLISHED-TTL:PT1H
BEGIN:VTIMEZONE
TZID:UTC
BEGIN:STANDARD
TZOFFSETFROM:+0000
TZOFFSETTO:+0000
TZNAME:UTC
DTSTART:20220101T000000
END:STANDARD
END:VTIMEZONE
BEGIN:VEVENT
DTSTART;TZID=UTC:20230726T110000
DTEND;TZID=UTC:20230726T140000
DTSTAMP:20260423T162820
CREATED:20220912T090955Z
LAST-MODIFIED:20220912T122336Z
UID:10001245-1690369200-1690380000@mungabareena.org.au
SUMMARY:Women’s Group Wodonga
DESCRIPTION:Available to all Aboriginal and/or Torres Strait Islander Women
URL:https://mungabareena.org.au/event/womens-group-wodonga/2023-07-26/
LOCATION:Mungabareena Aboriginal Corporation Hovell St\, 21 Hovel St\, Wodonga\, Victoria\, 3690\, Australia
GEO:-36.1164164;146.8933646
X-APPLE-STRUCTURED-LOCATION;VALUE=URI;X-ADDRESS=Mungabareena Aboriginal Corporation Hovell St 21 Hovel St Wodonga Victoria 3690 Australia;X-APPLE-RADIUS=500;X-TITLE=21 Hovel St:geo:146.8933646,-36.1164164
END:VEVENT
BEGIN:VEVENT
DTSTART;TZID=UTC:20230719T110000
DTEND;TZID=UTC:20230719T140000
DTSTAMP:20260423T162820
CREATED:20220912T090955Z
LAST-MODIFIED:20220912T122336Z
UID:10001244-1689764400-1689775200@mungabareena.org.au
SUMMARY:Women’s Group Wodonga
DESCRIPTION:Available to all Aboriginal and/or Torres Strait Islander Women
URL:https://mungabareena.org.au/event/womens-group-wodonga/2023-07-19/
LOCATION:Mungabareena Aboriginal Corporation Hovell St\, 21 Hovel St\, Wodonga\, Victoria\, 3690\, Australia
GEO:-36.1164164;146.8933646
X-APPLE-STRUCTURED-LOCATION;VALUE=URI;X-ADDRESS=Mungabareena Aboriginal Corporation Hovell St 21 Hovel St Wodonga Victoria 3690 Australia;X-APPLE-RADIUS=500;X-TITLE=21 Hovel St:geo:146.8933646,-36.1164164
END:VEVENT
BEGIN:VEVENT
DTSTART;TZID=UTC:20230712T110000
DTEND;TZID=UTC:20230712T140000
DTSTAMP:20260423T162820
CREATED:20220912T090955Z
LAST-MODIFIED:20220912T122336Z
UID:10001243-1689159600-1689170400@mungabareena.org.au
SUMMARY:Women’s Group Wodonga
DESCRIPTION:Available to all Aboriginal and/or Torres Strait Islander Women
URL:https://mungabareena.org.au/event/womens-group-wodonga/2023-07-12/
LOCATION:Mungabareena Aboriginal Corporation Hovell St\, 21 Hovel St\, Wodonga\, Victoria\, 3690\, Australia
GEO:-36.1164164;146.8933646
X-APPLE-STRUCTURED-LOCATION;VALUE=URI;X-ADDRESS=Mungabareena Aboriginal Corporation Hovell St 21 Hovel St Wodonga Victoria 3690 Australia;X-APPLE-RADIUS=500;X-TITLE=21 Hovel St:geo:146.8933646,-36.1164164
END:VEVENT
BEGIN:VEVENT
DTSTART;TZID=UTC:20230705T110000
DTEND;TZID=UTC:20230705T140000
DTSTAMP:20260423T162820
CREATED:20220912T090955Z
LAST-MODIFIED:20220912T122336Z
UID:10001242-1688554800-1688565600@mungabareena.org.au
SUMMARY:Women’s Group Wodonga
DESCRIPTION:Available to all Aboriginal and/or Torres Strait Islander Women
URL:https://mungabareena.org.au/event/womens-group-wodonga/2023-07-05/
LOCATION:Mungabareena Aboriginal Corporation Hovell St\, 21 Hovel St\, Wodonga\, Victoria\, 3690\, Australia
GEO:-36.1164164;146.8933646
X-APPLE-STRUCTURED-LOCATION;VALUE=URI;X-ADDRESS=Mungabareena Aboriginal Corporation Hovell St 21 Hovel St Wodonga Victoria 3690 Australia;X-APPLE-RADIUS=500;X-TITLE=21 Hovel St:geo:146.8933646,-36.1164164
END:VEVENT
BEGIN:VEVENT
DTSTART;TZID=UTC:20230628T110000
DTEND;TZID=UTC:20230628T140000
DTSTAMP:20260423T162820
CREATED:20220912T090955Z
LAST-MODIFIED:20220912T122336Z
UID:10001241-1687950000-1687960800@mungabareena.org.au
SUMMARY:Women’s Group Wodonga
DESCRIPTION:Available to all Aboriginal and/or Torres Strait Islander Women
URL:https://mungabareena.org.au/event/womens-group-wodonga/2023-06-28/
LOCATION:Mungabareena Aboriginal Corporation Hovell St\, 21 Hovel St\, Wodonga\, Victoria\, 3690\, Australia
GEO:-36.1164164;146.8933646
X-APPLE-STRUCTURED-LOCATION;VALUE=URI;X-ADDRESS=Mungabareena Aboriginal Corporation Hovell St 21 Hovel St Wodonga Victoria 3690 Australia;X-APPLE-RADIUS=500;X-TITLE=21 Hovel St:geo:146.8933646,-36.1164164
END:VEVENT
BEGIN:VEVENT
DTSTART;TZID=UTC:20230621T110000
DTEND;TZID=UTC:20230621T140000
DTSTAMP:20260423T162820
CREATED:20220912T090955Z
LAST-MODIFIED:20220912T122336Z
UID:10001240-1687345200-1687356000@mungabareena.org.au
SUMMARY:Women’s Group Wodonga
DESCRIPTION:Available to all Aboriginal and/or Torres Strait Islander Women
URL:https://mungabareena.org.au/event/womens-group-wodonga/2023-06-21/
LOCATION:Mungabareena Aboriginal Corporation Hovell St\, 21 Hovel St\, Wodonga\, Victoria\, 3690\, Australia
GEO:-36.1164164;146.8933646
X-APPLE-STRUCTURED-LOCATION;VALUE=URI;X-ADDRESS=Mungabareena Aboriginal Corporation Hovell St 21 Hovel St Wodonga Victoria 3690 Australia;X-APPLE-RADIUS=500;X-TITLE=21 Hovel St:geo:146.8933646,-36.1164164
END:VEVENT
BEGIN:VEVENT
DTSTART;TZID=UTC:20230614T110000
DTEND;TZID=UTC:20230614T140000
DTSTAMP:20260423T162820
CREATED:20220912T090955Z
LAST-MODIFIED:20220912T122336Z
UID:10001239-1686740400-1686751200@mungabareena.org.au
SUMMARY:Women’s Group Wodonga
DESCRIPTION:Available to all Aboriginal and/or Torres Strait Islander Women
URL:https://mungabareena.org.au/event/womens-group-wodonga/2023-06-14/
LOCATION:Mungabareena Aboriginal Corporation Hovell St\, 21 Hovel St\, Wodonga\, Victoria\, 3690\, Australia
GEO:-36.1164164;146.8933646
X-APPLE-STRUCTURED-LOCATION;VALUE=URI;X-ADDRESS=Mungabareena Aboriginal Corporation Hovell St 21 Hovel St Wodonga Victoria 3690 Australia;X-APPLE-RADIUS=500;X-TITLE=21 Hovel St:geo:146.8933646,-36.1164164
END:VEVENT
BEGIN:VEVENT
DTSTART;TZID=UTC:20230607T110000
DTEND;TZID=UTC:20230607T140000
DTSTAMP:20260423T162820
CREATED:20220912T090955Z
LAST-MODIFIED:20220912T122336Z
UID:10001238-1686135600-1686146400@mungabareena.org.au
SUMMARY:Women’s Group Wodonga
DESCRIPTION:Available to all Aboriginal and/or Torres Strait Islander Women
URL:https://mungabareena.org.au/event/womens-group-wodonga/2023-06-07/
LOCATION:Mungabareena Aboriginal Corporation Hovell St\, 21 Hovel St\, Wodonga\, Victoria\, 3690\, Australia
GEO:-36.1164164;146.8933646
X-APPLE-STRUCTURED-LOCATION;VALUE=URI;X-ADDRESS=Mungabareena Aboriginal Corporation Hovell St 21 Hovel St Wodonga Victoria 3690 Australia;X-APPLE-RADIUS=500;X-TITLE=21 Hovel St:geo:146.8933646,-36.1164164
END:VEVENT
BEGIN:VEVENT
DTSTART;TZID=UTC:20230531T110000
DTEND;TZID=UTC:20230531T140000
DTSTAMP:20260423T162820
CREATED:20220912T090955Z
LAST-MODIFIED:20220912T122336Z
UID:10001237-1685530800-1685541600@mungabareena.org.au
SUMMARY:Women’s Group Wodonga
DESCRIPTION:Available to all Aboriginal and/or Torres Strait Islander Women
URL:https://mungabareena.org.au/event/womens-group-wodonga/2023-05-31/
LOCATION:Mungabareena Aboriginal Corporation Hovell St\, 21 Hovel St\, Wodonga\, Victoria\, 3690\, Australia
GEO:-36.1164164;146.8933646
X-APPLE-STRUCTURED-LOCATION;VALUE=URI;X-ADDRESS=Mungabareena Aboriginal Corporation Hovell St 21 Hovel St Wodonga Victoria 3690 Australia;X-APPLE-RADIUS=500;X-TITLE=21 Hovel St:geo:146.8933646,-36.1164164
END:VEVENT
BEGIN:VEVENT
DTSTART;TZID=UTC:20230524T110000
DTEND;TZID=UTC:20230524T140000
DTSTAMP:20260423T162820
CREATED:20220912T090955Z
LAST-MODIFIED:20220912T122336Z
UID:10001236-1684926000-1684936800@mungabareena.org.au
SUMMARY:Women’s Group Wodonga
DESCRIPTION:Available to all Aboriginal and/or Torres Strait Islander Women
URL:https://mungabareena.org.au/event/womens-group-wodonga/2023-05-24/
LOCATION:Mungabareena Aboriginal Corporation Hovell St\, 21 Hovel St\, Wodonga\, Victoria\, 3690\, Australia
GEO:-36.1164164;146.8933646
X-APPLE-STRUCTURED-LOCATION;VALUE=URI;X-ADDRESS=Mungabareena Aboriginal Corporation Hovell St 21 Hovel St Wodonga Victoria 3690 Australia;X-APPLE-RADIUS=500;X-TITLE=21 Hovel St:geo:146.8933646,-36.1164164
END:VEVENT
BEGIN:VEVENT
DTSTART;TZID=UTC:20230517T110000
DTEND;TZID=UTC:20230517T140000
DTSTAMP:20260423T162820
CREATED:20220912T090955Z
LAST-MODIFIED:20220912T122336Z
UID:10001235-1684321200-1684332000@mungabareena.org.au
SUMMARY:Women’s Group Wodonga
DESCRIPTION:Available to all Aboriginal and/or Torres Strait Islander Women
URL:https://mungabareena.org.au/event/womens-group-wodonga/2023-05-17/
LOCATION:Mungabareena Aboriginal Corporation Hovell St\, 21 Hovel St\, Wodonga\, Victoria\, 3690\, Australia
GEO:-36.1164164;146.8933646
X-APPLE-STRUCTURED-LOCATION;VALUE=URI;X-ADDRESS=Mungabareena Aboriginal Corporation Hovell St 21 Hovel St Wodonga Victoria 3690 Australia;X-APPLE-RADIUS=500;X-TITLE=21 Hovel St:geo:146.8933646,-36.1164164
END:VEVENT
BEGIN:VEVENT
DTSTART;TZID=UTC:20230510T110000
DTEND;TZID=UTC:20230510T140000
DTSTAMP:20260423T162820
CREATED:20220912T090955Z
LAST-MODIFIED:20220912T122336Z
UID:10001234-1683716400-1683727200@mungabareena.org.au
SUMMARY:Women’s Group Wodonga
DESCRIPTION:Available to all Aboriginal and/or Torres Strait Islander Women
URL:https://mungabareena.org.au/event/womens-group-wodonga/2023-05-10/
LOCATION:Mungabareena Aboriginal Corporation Hovell St\, 21 Hovel St\, Wodonga\, Victoria\, 3690\, Australia
GEO:-36.1164164;146.8933646
X-APPLE-STRUCTURED-LOCATION;VALUE=URI;X-ADDRESS=Mungabareena Aboriginal Corporation Hovell St 21 Hovel St Wodonga Victoria 3690 Australia;X-APPLE-RADIUS=500;X-TITLE=21 Hovel St:geo:146.8933646,-36.1164164
END:VEVENT
BEGIN:VEVENT
DTSTART;TZID=UTC:20230503T110000
DTEND;TZID=UTC:20230503T140000
DTSTAMP:20260423T162820
CREATED:20220912T090955Z
LAST-MODIFIED:20220912T122336Z
UID:10001233-1683111600-1683122400@mungabareena.org.au
SUMMARY:Women’s Group Wodonga
DESCRIPTION:Available to all Aboriginal and/or Torres Strait Islander Women
URL:https://mungabareena.org.au/event/womens-group-wodonga/2023-05-03/
LOCATION:Mungabareena Aboriginal Corporation Hovell St\, 21 Hovel St\, Wodonga\, Victoria\, 3690\, Australia
GEO:-36.1164164;146.8933646
X-APPLE-STRUCTURED-LOCATION;VALUE=URI;X-ADDRESS=Mungabareena Aboriginal Corporation Hovell St 21 Hovel St Wodonga Victoria 3690 Australia;X-APPLE-RADIUS=500;X-TITLE=21 Hovel St:geo:146.8933646,-36.1164164
END:VEVENT
BEGIN:VEVENT
DTSTART;TZID=UTC:20230426T110000
DTEND;TZID=UTC:20230426T140000
DTSTAMP:20260423T162820
CREATED:20220912T090955Z
LAST-MODIFIED:20220912T122336Z
UID:10001232-1682506800-1682517600@mungabareena.org.au
SUMMARY:Women’s Group Wodonga
DESCRIPTION:Available to all Aboriginal and/or Torres Strait Islander Women
URL:https://mungabareena.org.au/event/womens-group-wodonga/2023-04-26/
LOCATION:Mungabareena Aboriginal Corporation Hovell St\, 21 Hovel St\, Wodonga\, Victoria\, 3690\, Australia
GEO:-36.1164164;146.8933646
X-APPLE-STRUCTURED-LOCATION;VALUE=URI;X-ADDRESS=Mungabareena Aboriginal Corporation Hovell St 21 Hovel St Wodonga Victoria 3690 Australia;X-APPLE-RADIUS=500;X-TITLE=21 Hovel St:geo:146.8933646,-36.1164164
END:VEVENT
BEGIN:VEVENT
DTSTART;TZID=UTC:20230419T110000
DTEND;TZID=UTC:20230419T140000
DTSTAMP:20260423T162820
CREATED:20220912T090955Z
LAST-MODIFIED:20220912T122336Z
UID:10001231-1681902000-1681912800@mungabareena.org.au
SUMMARY:Women’s Group Wodonga
DESCRIPTION:Available to all Aboriginal and/or Torres Strait Islander Women
URL:https://mungabareena.org.au/event/womens-group-wodonga/2023-04-19/
LOCATION:Mungabareena Aboriginal Corporation Hovell St\, 21 Hovel St\, Wodonga\, Victoria\, 3690\, Australia
GEO:-36.1164164;146.8933646
X-APPLE-STRUCTURED-LOCATION;VALUE=URI;X-ADDRESS=Mungabareena Aboriginal Corporation Hovell St 21 Hovel St Wodonga Victoria 3690 Australia;X-APPLE-RADIUS=500;X-TITLE=21 Hovel St:geo:146.8933646,-36.1164164
END:VEVENT
BEGIN:VEVENT
DTSTART;TZID=UTC:20230412T110000
DTEND;TZID=UTC:20230412T140000
DTSTAMP:20260423T162820
CREATED:20220912T090955Z
LAST-MODIFIED:20220912T122336Z
UID:10001230-1681297200-1681308000@mungabareena.org.au
SUMMARY:Women’s Group Wodonga
DESCRIPTION:Available to all Aboriginal and/or Torres Strait Islander Women
URL:https://mungabareena.org.au/event/womens-group-wodonga/2023-04-12/
LOCATION:Mungabareena Aboriginal Corporation Hovell St\, 21 Hovel St\, Wodonga\, Victoria\, 3690\, Australia
GEO:-36.1164164;146.8933646
X-APPLE-STRUCTURED-LOCATION;VALUE=URI;X-ADDRESS=Mungabareena Aboriginal Corporation Hovell St 21 Hovel St Wodonga Victoria 3690 Australia;X-APPLE-RADIUS=500;X-TITLE=21 Hovel St:geo:146.8933646,-36.1164164
END:VEVENT
BEGIN:VEVENT
DTSTART;TZID=UTC:20230405T110000
DTEND;TZID=UTC:20230405T140000
DTSTAMP:20260423T162820
CREATED:20220912T090955Z
LAST-MODIFIED:20220912T122336Z
UID:10001229-1680692400-1680703200@mungabareena.org.au
SUMMARY:Women’s Group Wodonga
DESCRIPTION:Available to all Aboriginal and/or Torres Strait Islander Women
URL:https://mungabareena.org.au/event/womens-group-wodonga/2023-04-05/
LOCATION:Mungabareena Aboriginal Corporation Hovell St\, 21 Hovel St\, Wodonga\, Victoria\, 3690\, Australia
GEO:-36.1164164;146.8933646
X-APPLE-STRUCTURED-LOCATION;VALUE=URI;X-ADDRESS=Mungabareena Aboriginal Corporation Hovell St 21 Hovel St Wodonga Victoria 3690 Australia;X-APPLE-RADIUS=500;X-TITLE=21 Hovel St:geo:146.8933646,-36.1164164
END:VEVENT
BEGIN:VEVENT
DTSTART;TZID=UTC:20230329T110000
DTEND;TZID=UTC:20230329T140000
DTSTAMP:20260423T162820
CREATED:20220912T090955Z
LAST-MODIFIED:20220912T122336Z
UID:10001228-1680087600-1680098400@mungabareena.org.au
SUMMARY:Women’s Group Wodonga
DESCRIPTION:Available to all Aboriginal and/or Torres Strait Islander Women
URL:https://mungabareena.org.au/event/womens-group-wodonga/2023-03-29/
LOCATION:Mungabareena Aboriginal Corporation Hovell St\, 21 Hovel St\, Wodonga\, Victoria\, 3690\, Australia
GEO:-36.1164164;146.8933646
X-APPLE-STRUCTURED-LOCATION;VALUE=URI;X-ADDRESS=Mungabareena Aboriginal Corporation Hovell St 21 Hovel St Wodonga Victoria 3690 Australia;X-APPLE-RADIUS=500;X-TITLE=21 Hovel St:geo:146.8933646,-36.1164164
END:VEVENT
BEGIN:VEVENT
DTSTART;TZID=UTC:20230322T110000
DTEND;TZID=UTC:20230322T140000
DTSTAMP:20260423T162820
CREATED:20220912T090955Z
LAST-MODIFIED:20220912T122336Z
UID:10001227-1679482800-1679493600@mungabareena.org.au
SUMMARY:Women’s Group Wodonga
DESCRIPTION:Available to all Aboriginal and/or Torres Strait Islander Women
URL:https://mungabareena.org.au/event/womens-group-wodonga/2023-03-22/
LOCATION:Mungabareena Aboriginal Corporation Hovell St\, 21 Hovel St\, Wodonga\, Victoria\, 3690\, Australia
GEO:-36.1164164;146.8933646
X-APPLE-STRUCTURED-LOCATION;VALUE=URI;X-ADDRESS=Mungabareena Aboriginal Corporation Hovell St 21 Hovel St Wodonga Victoria 3690 Australia;X-APPLE-RADIUS=500;X-TITLE=21 Hovel St:geo:146.8933646,-36.1164164
END:VEVENT
BEGIN:VEVENT
DTSTART;TZID=UTC:20230315T110000
DTEND;TZID=UTC:20230315T140000
DTSTAMP:20260423T162820
CREATED:20220912T090955Z
LAST-MODIFIED:20220912T122336Z
UID:10001226-1678878000-1678888800@mungabareena.org.au
SUMMARY:Women’s Group Wodonga
DESCRIPTION:Available to all Aboriginal and/or Torres Strait Islander Women
URL:https://mungabareena.org.au/event/womens-group-wodonga/2023-03-15/
LOCATION:Mungabareena Aboriginal Corporation Hovell St\, 21 Hovel St\, Wodonga\, Victoria\, 3690\, Australia
GEO:-36.1164164;146.8933646
X-APPLE-STRUCTURED-LOCATION;VALUE=URI;X-ADDRESS=Mungabareena Aboriginal Corporation Hovell St 21 Hovel St Wodonga Victoria 3690 Australia;X-APPLE-RADIUS=500;X-TITLE=21 Hovel St:geo:146.8933646,-36.1164164
END:VEVENT
BEGIN:VEVENT
DTSTART;TZID=UTC:20230308T110000
DTEND;TZID=UTC:20230308T140000
DTSTAMP:20260423T162820
CREATED:20220912T090955Z
LAST-MODIFIED:20220912T122336Z
UID:10001225-1678273200-1678284000@mungabareena.org.au
SUMMARY:Women’s Group Wodonga
DESCRIPTION:Available to all Aboriginal and/or Torres Strait Islander Women
URL:https://mungabareena.org.au/event/womens-group-wodonga/2023-03-08/
LOCATION:Mungabareena Aboriginal Corporation Hovell St\, 21 Hovel St\, Wodonga\, Victoria\, 3690\, Australia
GEO:-36.1164164;146.8933646
X-APPLE-STRUCTURED-LOCATION;VALUE=URI;X-ADDRESS=Mungabareena Aboriginal Corporation Hovell St 21 Hovel St Wodonga Victoria 3690 Australia;X-APPLE-RADIUS=500;X-TITLE=21 Hovel St:geo:146.8933646,-36.1164164
END:VEVENT
BEGIN:VEVENT
DTSTART;TZID=UTC:20230301T110000
DTEND;TZID=UTC:20230301T140000
DTSTAMP:20260423T162820
CREATED:20220912T090955Z
LAST-MODIFIED:20220912T122336Z
UID:10001224-1677668400-1677679200@mungabareena.org.au
SUMMARY:Women’s Group Wodonga
DESCRIPTION:Available to all Aboriginal and/or Torres Strait Islander Women
URL:https://mungabareena.org.au/event/womens-group-wodonga/2023-03-01/
LOCATION:Mungabareena Aboriginal Corporation Hovell St\, 21 Hovel St\, Wodonga\, Victoria\, 3690\, Australia
GEO:-36.1164164;146.8933646
X-APPLE-STRUCTURED-LOCATION;VALUE=URI;X-ADDRESS=Mungabareena Aboriginal Corporation Hovell St 21 Hovel St Wodonga Victoria 3690 Australia;X-APPLE-RADIUS=500;X-TITLE=21 Hovel St:geo:146.8933646,-36.1164164
END:VEVENT
BEGIN:VEVENT
DTSTART;TZID=UTC:20230222T110000
DTEND;TZID=UTC:20230222T140000
DTSTAMP:20260423T162820
CREATED:20220912T090955Z
LAST-MODIFIED:20220912T122336Z
UID:10001223-1677063600-1677074400@mungabareena.org.au
SUMMARY:Women’s Group Wodonga
DESCRIPTION:Available to all Aboriginal and/or Torres Strait Islander Women
URL:https://mungabareena.org.au/event/womens-group-wodonga/2023-02-22/
LOCATION:Mungabareena Aboriginal Corporation Hovell St\, 21 Hovel St\, Wodonga\, Victoria\, 3690\, Australia
GEO:-36.1164164;146.8933646
X-APPLE-STRUCTURED-LOCATION;VALUE=URI;X-ADDRESS=Mungabareena Aboriginal Corporation Hovell St 21 Hovel St Wodonga Victoria 3690 Australia;X-APPLE-RADIUS=500;X-TITLE=21 Hovel St:geo:146.8933646,-36.1164164
END:VEVENT
BEGIN:VEVENT
DTSTART;TZID=UTC:20230215T110000
DTEND;TZID=UTC:20230215T140000
DTSTAMP:20260423T162820
CREATED:20220912T090955Z
LAST-MODIFIED:20220912T122336Z
UID:10001222-1676458800-1676469600@mungabareena.org.au
SUMMARY:Women’s Group Wodonga
DESCRIPTION:Available to all Aboriginal and/or Torres Strait Islander Women
URL:https://mungabareena.org.au/event/womens-group-wodonga/2023-02-15/
LOCATION:Mungabareena Aboriginal Corporation Hovell St\, 21 Hovel St\, Wodonga\, Victoria\, 3690\, Australia
GEO:-36.1164164;146.8933646
X-APPLE-STRUCTURED-LOCATION;VALUE=URI;X-ADDRESS=Mungabareena Aboriginal Corporation Hovell St 21 Hovel St Wodonga Victoria 3690 Australia;X-APPLE-RADIUS=500;X-TITLE=21 Hovel St:geo:146.8933646,-36.1164164
END:VEVENT
BEGIN:VEVENT
DTSTART;TZID=UTC:20230208T110000
DTEND;TZID=UTC:20230208T140000
DTSTAMP:20260423T162820
CREATED:20220912T090955Z
LAST-MODIFIED:20220912T122336Z
UID:10001221-1675854000-1675864800@mungabareena.org.au
SUMMARY:Women’s Group Wodonga
DESCRIPTION:Available to all Aboriginal and/or Torres Strait Islander Women
URL:https://mungabareena.org.au/event/womens-group-wodonga/2023-02-08/
LOCATION:Mungabareena Aboriginal Corporation Hovell St\, 21 Hovel St\, Wodonga\, Victoria\, 3690\, Australia
GEO:-36.1164164;146.8933646
X-APPLE-STRUCTURED-LOCATION;VALUE=URI;X-ADDRESS=Mungabareena Aboriginal Corporation Hovell St 21 Hovel St Wodonga Victoria 3690 Australia;X-APPLE-RADIUS=500;X-TITLE=21 Hovel St:geo:146.8933646,-36.1164164
END:VEVENT
BEGIN:VEVENT
DTSTART;TZID=UTC:20230201T110000
DTEND;TZID=UTC:20230201T140000
DTSTAMP:20260423T162820
CREATED:20220912T090955Z
LAST-MODIFIED:20220912T122336Z
UID:10001220-1675249200-1675260000@mungabareena.org.au
SUMMARY:Women’s Group Wodonga
DESCRIPTION:Available to all Aboriginal and/or Torres Strait Islander Women
URL:https://mungabareena.org.au/event/womens-group-wodonga/2023-02-01/
LOCATION:Mungabareena Aboriginal Corporation Hovell St\, 21 Hovel St\, Wodonga\, Victoria\, 3690\, Australia
GEO:-36.1164164;146.8933646
X-APPLE-STRUCTURED-LOCATION;VALUE=URI;X-ADDRESS=Mungabareena Aboriginal Corporation Hovell St 21 Hovel St Wodonga Victoria 3690 Australia;X-APPLE-RADIUS=500;X-TITLE=21 Hovel St:geo:146.8933646,-36.1164164
END:VEVENT
BEGIN:VEVENT
DTSTART;TZID=UTC:20230125T110000
DTEND;TZID=UTC:20230125T140000
DTSTAMP:20260423T162820
CREATED:20220912T090955Z
LAST-MODIFIED:20220912T122336Z
UID:10001219-1674644400-1674655200@mungabareena.org.au
SUMMARY:Women’s Group Wodonga
DESCRIPTION:Available to all Aboriginal and/or Torres Strait Islander Women
URL:https://mungabareena.org.au/event/womens-group-wodonga/2023-01-25/
LOCATION:Mungabareena Aboriginal Corporation Hovell St\, 21 Hovel St\, Wodonga\, Victoria\, 3690\, Australia
GEO:-36.1164164;146.8933646
X-APPLE-STRUCTURED-LOCATION;VALUE=URI;X-ADDRESS=Mungabareena Aboriginal Corporation Hovell St 21 Hovel St Wodonga Victoria 3690 Australia;X-APPLE-RADIUS=500;X-TITLE=21 Hovel St:geo:146.8933646,-36.1164164
END:VEVENT
BEGIN:VEVENT
DTSTART;TZID=UTC:20230118T110000
DTEND;TZID=UTC:20230118T140000
DTSTAMP:20260423T162820
CREATED:20220912T090955Z
LAST-MODIFIED:20220912T122336Z
UID:10001218-1674039600-1674050400@mungabareena.org.au
SUMMARY:Women’s Group Wodonga
DESCRIPTION:Available to all Aboriginal and/or Torres Strait Islander Women
URL:https://mungabareena.org.au/event/womens-group-wodonga/2023-01-18/
LOCATION:Mungabareena Aboriginal Corporation Hovell St\, 21 Hovel St\, Wodonga\, Victoria\, 3690\, Australia
GEO:-36.1164164;146.8933646
X-APPLE-STRUCTURED-LOCATION;VALUE=URI;X-ADDRESS=Mungabareena Aboriginal Corporation Hovell St 21 Hovel St Wodonga Victoria 3690 Australia;X-APPLE-RADIUS=500;X-TITLE=21 Hovel St:geo:146.8933646,-36.1164164
END:VEVENT
BEGIN:VEVENT
DTSTART;TZID=UTC:20230111T110000
DTEND;TZID=UTC:20230111T140000
DTSTAMP:20260423T162820
CREATED:20220912T090955Z
LAST-MODIFIED:20220912T122336Z
UID:10001217-1673434800-1673445600@mungabareena.org.au
SUMMARY:Women’s Group Wodonga
DESCRIPTION:Available to all Aboriginal and/or Torres Strait Islander Women
URL:https://mungabareena.org.au/event/womens-group-wodonga/2023-01-11/
LOCATION:Mungabareena Aboriginal Corporation Hovell St\, 21 Hovel St\, Wodonga\, Victoria\, 3690\, Australia
GEO:-36.1164164;146.8933646
X-APPLE-STRUCTURED-LOCATION;VALUE=URI;X-ADDRESS=Mungabareena Aboriginal Corporation Hovell St 21 Hovel St Wodonga Victoria 3690 Australia;X-APPLE-RADIUS=500;X-TITLE=21 Hovel St:geo:146.8933646,-36.1164164
END:VEVENT
BEGIN:VEVENT
DTSTART;TZID=UTC:20230104T110000
DTEND;TZID=UTC:20230104T140000
DTSTAMP:20260423T162820
CREATED:20220912T090955Z
LAST-MODIFIED:20220912T122336Z
UID:10001216-1672830000-1672840800@mungabareena.org.au
SUMMARY:Women’s Group Wodonga
DESCRIPTION:Available to all Aboriginal and/or Torres Strait Islander Women
URL:https://mungabareena.org.au/event/womens-group-wodonga/2023-01-04/
LOCATION:Mungabareena Aboriginal Corporation Hovell St\, 21 Hovel St\, Wodonga\, Victoria\, 3690\, Australia
GEO:-36.1164164;146.8933646
X-APPLE-STRUCTURED-LOCATION;VALUE=URI;X-ADDRESS=Mungabareena Aboriginal Corporation Hovell St 21 Hovel St Wodonga Victoria 3690 Australia;X-APPLE-RADIUS=500;X-TITLE=21 Hovel St:geo:146.8933646,-36.1164164
END:VEVENT
END:VCALENDAR