BEGIN:VCALENDAR
VERSION:2.0
PRODID:-//Mungabareena Aboriginal Corporation - ECPv6.15.20//NONSGML v1.0//EN
CALSCALE:GREGORIAN
METHOD:PUBLISH
X-WR-CALNAME:Mungabareena Aboriginal Corporation
X-ORIGINAL-URL:https://mungabareena.org.au
X-WR-CALDESC:Events for Mungabareena Aboriginal Corporation
REFRESH-INTERVAL;VALUE=DURATION:PT1H
X-Robots-Tag:noindex
X-PUBLISHED-TTL:PT1H
BEGIN:VTIMEZONE
TZID:UTC
BEGIN:STANDARD
TZOFFSETFROM:+0000
TZOFFSETTO:+0000
TZNAME:UTC
DTSTART:20230101T000000
END:STANDARD
END:VTIMEZONE
BEGIN:VEVENT
DTSTART;TZID=UTC:20250226T110000
DTEND;TZID=UTC:20250226T140000
DTSTAMP:20260423T050454
CREATED:20220912T090955Z
LAST-MODIFIED:20220912T122336Z
UID:10001328-1740567600-1740578400@mungabareena.org.au
SUMMARY:Women’s Group Wodonga
DESCRIPTION:Available to all Aboriginal and/or Torres Strait Islander Women
URL:https://mungabareena.org.au/event/womens-group-wodonga/2025-02-26/
LOCATION:Mungabareena Aboriginal Corporation Hovell St\, 21 Hovel St\, Wodonga\, Victoria\, 3690\, Australia
GEO:-36.1164164;146.8933646
X-APPLE-STRUCTURED-LOCATION;VALUE=URI;X-ADDRESS=Mungabareena Aboriginal Corporation Hovell St 21 Hovel St Wodonga Victoria 3690 Australia;X-APPLE-RADIUS=500;X-TITLE=21 Hovel St:geo:146.8933646,-36.1164164
END:VEVENT
BEGIN:VEVENT
DTSTART;TZID=UTC:20250219T110000
DTEND;TZID=UTC:20250219T140000
DTSTAMP:20260423T050454
CREATED:20220912T090955Z
LAST-MODIFIED:20220912T122336Z
UID:10001327-1739962800-1739973600@mungabareena.org.au
SUMMARY:Women’s Group Wodonga
DESCRIPTION:Available to all Aboriginal and/or Torres Strait Islander Women
URL:https://mungabareena.org.au/event/womens-group-wodonga/2025-02-19/
LOCATION:Mungabareena Aboriginal Corporation Hovell St\, 21 Hovel St\, Wodonga\, Victoria\, 3690\, Australia
GEO:-36.1164164;146.8933646
X-APPLE-STRUCTURED-LOCATION;VALUE=URI;X-ADDRESS=Mungabareena Aboriginal Corporation Hovell St 21 Hovel St Wodonga Victoria 3690 Australia;X-APPLE-RADIUS=500;X-TITLE=21 Hovel St:geo:146.8933646,-36.1164164
END:VEVENT
BEGIN:VEVENT
DTSTART;TZID=UTC:20250212T110000
DTEND;TZID=UTC:20250212T140000
DTSTAMP:20260423T050454
CREATED:20220912T090955Z
LAST-MODIFIED:20220912T122336Z
UID:10001326-1739358000-1739368800@mungabareena.org.au
SUMMARY:Women’s Group Wodonga
DESCRIPTION:Available to all Aboriginal and/or Torres Strait Islander Women
URL:https://mungabareena.org.au/event/womens-group-wodonga/2025-02-12/
LOCATION:Mungabareena Aboriginal Corporation Hovell St\, 21 Hovel St\, Wodonga\, Victoria\, 3690\, Australia
GEO:-36.1164164;146.8933646
X-APPLE-STRUCTURED-LOCATION;VALUE=URI;X-ADDRESS=Mungabareena Aboriginal Corporation Hovell St 21 Hovel St Wodonga Victoria 3690 Australia;X-APPLE-RADIUS=500;X-TITLE=21 Hovel St:geo:146.8933646,-36.1164164
END:VEVENT
BEGIN:VEVENT
DTSTART;TZID=UTC:20250205T110000
DTEND;TZID=UTC:20250205T140000
DTSTAMP:20260423T050454
CREATED:20220912T090955Z
LAST-MODIFIED:20220912T122336Z
UID:10001325-1738753200-1738764000@mungabareena.org.au
SUMMARY:Women’s Group Wodonga
DESCRIPTION:Available to all Aboriginal and/or Torres Strait Islander Women
URL:https://mungabareena.org.au/event/womens-group-wodonga/2025-02-05/
LOCATION:Mungabareena Aboriginal Corporation Hovell St\, 21 Hovel St\, Wodonga\, Victoria\, 3690\, Australia
GEO:-36.1164164;146.8933646
X-APPLE-STRUCTURED-LOCATION;VALUE=URI;X-ADDRESS=Mungabareena Aboriginal Corporation Hovell St 21 Hovel St Wodonga Victoria 3690 Australia;X-APPLE-RADIUS=500;X-TITLE=21 Hovel St:geo:146.8933646,-36.1164164
END:VEVENT
BEGIN:VEVENT
DTSTART;TZID=UTC:20250129T110000
DTEND;TZID=UTC:20250129T140000
DTSTAMP:20260423T050454
CREATED:20220912T090955Z
LAST-MODIFIED:20220912T122336Z
UID:10001324-1738148400-1738159200@mungabareena.org.au
SUMMARY:Women’s Group Wodonga
DESCRIPTION:Available to all Aboriginal and/or Torres Strait Islander Women
URL:https://mungabareena.org.au/event/womens-group-wodonga/2025-01-29/
LOCATION:Mungabareena Aboriginal Corporation Hovell St\, 21 Hovel St\, Wodonga\, Victoria\, 3690\, Australia
GEO:-36.1164164;146.8933646
X-APPLE-STRUCTURED-LOCATION;VALUE=URI;X-ADDRESS=Mungabareena Aboriginal Corporation Hovell St 21 Hovel St Wodonga Victoria 3690 Australia;X-APPLE-RADIUS=500;X-TITLE=21 Hovel St:geo:146.8933646,-36.1164164
END:VEVENT
BEGIN:VEVENT
DTSTART;TZID=UTC:20250122T110000
DTEND;TZID=UTC:20250122T140000
DTSTAMP:20260423T050454
CREATED:20220912T090955Z
LAST-MODIFIED:20220912T122336Z
UID:10001323-1737543600-1737554400@mungabareena.org.au
SUMMARY:Women’s Group Wodonga
DESCRIPTION:Available to all Aboriginal and/or Torres Strait Islander Women
URL:https://mungabareena.org.au/event/womens-group-wodonga/2025-01-22/
LOCATION:Mungabareena Aboriginal Corporation Hovell St\, 21 Hovel St\, Wodonga\, Victoria\, 3690\, Australia
GEO:-36.1164164;146.8933646
X-APPLE-STRUCTURED-LOCATION;VALUE=URI;X-ADDRESS=Mungabareena Aboriginal Corporation Hovell St 21 Hovel St Wodonga Victoria 3690 Australia;X-APPLE-RADIUS=500;X-TITLE=21 Hovel St:geo:146.8933646,-36.1164164
END:VEVENT
BEGIN:VEVENT
DTSTART;TZID=UTC:20250115T110000
DTEND;TZID=UTC:20250115T140000
DTSTAMP:20260423T050454
CREATED:20220912T090955Z
LAST-MODIFIED:20220912T122336Z
UID:10001322-1736938800-1736949600@mungabareena.org.au
SUMMARY:Women’s Group Wodonga
DESCRIPTION:Available to all Aboriginal and/or Torres Strait Islander Women
URL:https://mungabareena.org.au/event/womens-group-wodonga/2025-01-15/
LOCATION:Mungabareena Aboriginal Corporation Hovell St\, 21 Hovel St\, Wodonga\, Victoria\, 3690\, Australia
GEO:-36.1164164;146.8933646
X-APPLE-STRUCTURED-LOCATION;VALUE=URI;X-ADDRESS=Mungabareena Aboriginal Corporation Hovell St 21 Hovel St Wodonga Victoria 3690 Australia;X-APPLE-RADIUS=500;X-TITLE=21 Hovel St:geo:146.8933646,-36.1164164
END:VEVENT
BEGIN:VEVENT
DTSTART;TZID=UTC:20250108T110000
DTEND;TZID=UTC:20250108T140000
DTSTAMP:20260423T050454
CREATED:20220912T090955Z
LAST-MODIFIED:20220912T122336Z
UID:10001321-1736334000-1736344800@mungabareena.org.au
SUMMARY:Women’s Group Wodonga
DESCRIPTION:Available to all Aboriginal and/or Torres Strait Islander Women
URL:https://mungabareena.org.au/event/womens-group-wodonga/2025-01-08/
LOCATION:Mungabareena Aboriginal Corporation Hovell St\, 21 Hovel St\, Wodonga\, Victoria\, 3690\, Australia
GEO:-36.1164164;146.8933646
X-APPLE-STRUCTURED-LOCATION;VALUE=URI;X-ADDRESS=Mungabareena Aboriginal Corporation Hovell St 21 Hovel St Wodonga Victoria 3690 Australia;X-APPLE-RADIUS=500;X-TITLE=21 Hovel St:geo:146.8933646,-36.1164164
END:VEVENT
BEGIN:VEVENT
DTSTART;TZID=UTC:20250101T110000
DTEND;TZID=UTC:20250101T140000
DTSTAMP:20260423T050454
CREATED:20220912T090955Z
LAST-MODIFIED:20220912T122336Z
UID:10001320-1735729200-1735740000@mungabareena.org.au
SUMMARY:Women’s Group Wodonga
DESCRIPTION:Available to all Aboriginal and/or Torres Strait Islander Women
URL:https://mungabareena.org.au/event/womens-group-wodonga/2025-01-01/
LOCATION:Mungabareena Aboriginal Corporation Hovell St\, 21 Hovel St\, Wodonga\, Victoria\, 3690\, Australia
GEO:-36.1164164;146.8933646
X-APPLE-STRUCTURED-LOCATION;VALUE=URI;X-ADDRESS=Mungabareena Aboriginal Corporation Hovell St 21 Hovel St Wodonga Victoria 3690 Australia;X-APPLE-RADIUS=500;X-TITLE=21 Hovel St:geo:146.8933646,-36.1164164
END:VEVENT
BEGIN:VEVENT
DTSTART;TZID=UTC:20241225T110000
DTEND;TZID=UTC:20241225T140000
DTSTAMP:20260423T050454
CREATED:20220912T090955Z
LAST-MODIFIED:20220912T122336Z
UID:10001319-1735124400-1735135200@mungabareena.org.au
SUMMARY:Women’s Group Wodonga
DESCRIPTION:Available to all Aboriginal and/or Torres Strait Islander Women
URL:https://mungabareena.org.au/event/womens-group-wodonga/2024-12-25/
LOCATION:Mungabareena Aboriginal Corporation Hovell St\, 21 Hovel St\, Wodonga\, Victoria\, 3690\, Australia
GEO:-36.1164164;146.8933646
X-APPLE-STRUCTURED-LOCATION;VALUE=URI;X-ADDRESS=Mungabareena Aboriginal Corporation Hovell St 21 Hovel St Wodonga Victoria 3690 Australia;X-APPLE-RADIUS=500;X-TITLE=21 Hovel St:geo:146.8933646,-36.1164164
END:VEVENT
BEGIN:VEVENT
DTSTART;TZID=UTC:20241218T110000
DTEND;TZID=UTC:20241218T140000
DTSTAMP:20260423T050454
CREATED:20220912T090955Z
LAST-MODIFIED:20220912T122336Z
UID:10001318-1734519600-1734530400@mungabareena.org.au
SUMMARY:Women’s Group Wodonga
DESCRIPTION:Available to all Aboriginal and/or Torres Strait Islander Women
URL:https://mungabareena.org.au/event/womens-group-wodonga/2024-12-18/
LOCATION:Mungabareena Aboriginal Corporation Hovell St\, 21 Hovel St\, Wodonga\, Victoria\, 3690\, Australia
GEO:-36.1164164;146.8933646
X-APPLE-STRUCTURED-LOCATION;VALUE=URI;X-ADDRESS=Mungabareena Aboriginal Corporation Hovell St 21 Hovel St Wodonga Victoria 3690 Australia;X-APPLE-RADIUS=500;X-TITLE=21 Hovel St:geo:146.8933646,-36.1164164
END:VEVENT
BEGIN:VEVENT
DTSTART;TZID=UTC:20241211T110000
DTEND;TZID=UTC:20241211T140000
DTSTAMP:20260423T050454
CREATED:20220912T090955Z
LAST-MODIFIED:20220912T122336Z
UID:10001317-1733914800-1733925600@mungabareena.org.au
SUMMARY:Women’s Group Wodonga
DESCRIPTION:Available to all Aboriginal and/or Torres Strait Islander Women
URL:https://mungabareena.org.au/event/womens-group-wodonga/2024-12-11/
LOCATION:Mungabareena Aboriginal Corporation Hovell St\, 21 Hovel St\, Wodonga\, Victoria\, 3690\, Australia
GEO:-36.1164164;146.8933646
X-APPLE-STRUCTURED-LOCATION;VALUE=URI;X-ADDRESS=Mungabareena Aboriginal Corporation Hovell St 21 Hovel St Wodonga Victoria 3690 Australia;X-APPLE-RADIUS=500;X-TITLE=21 Hovel St:geo:146.8933646,-36.1164164
END:VEVENT
BEGIN:VEVENT
DTSTART;TZID=UTC:20241204T110000
DTEND;TZID=UTC:20241204T140000
DTSTAMP:20260423T050454
CREATED:20220912T090955Z
LAST-MODIFIED:20220912T122336Z
UID:10001316-1733310000-1733320800@mungabareena.org.au
SUMMARY:Women’s Group Wodonga
DESCRIPTION:Available to all Aboriginal and/or Torres Strait Islander Women
URL:https://mungabareena.org.au/event/womens-group-wodonga/2024-12-04/
LOCATION:Mungabareena Aboriginal Corporation Hovell St\, 21 Hovel St\, Wodonga\, Victoria\, 3690\, Australia
GEO:-36.1164164;146.8933646
X-APPLE-STRUCTURED-LOCATION;VALUE=URI;X-ADDRESS=Mungabareena Aboriginal Corporation Hovell St 21 Hovel St Wodonga Victoria 3690 Australia;X-APPLE-RADIUS=500;X-TITLE=21 Hovel St:geo:146.8933646,-36.1164164
END:VEVENT
BEGIN:VEVENT
DTSTART;TZID=UTC:20241127T110000
DTEND;TZID=UTC:20241127T140000
DTSTAMP:20260423T050454
CREATED:20220912T090955Z
LAST-MODIFIED:20220912T122336Z
UID:10001315-1732705200-1732716000@mungabareena.org.au
SUMMARY:Women’s Group Wodonga
DESCRIPTION:Available to all Aboriginal and/or Torres Strait Islander Women
URL:https://mungabareena.org.au/event/womens-group-wodonga/2024-11-27/
LOCATION:Mungabareena Aboriginal Corporation Hovell St\, 21 Hovel St\, Wodonga\, Victoria\, 3690\, Australia
GEO:-36.1164164;146.8933646
X-APPLE-STRUCTURED-LOCATION;VALUE=URI;X-ADDRESS=Mungabareena Aboriginal Corporation Hovell St 21 Hovel St Wodonga Victoria 3690 Australia;X-APPLE-RADIUS=500;X-TITLE=21 Hovel St:geo:146.8933646,-36.1164164
END:VEVENT
BEGIN:VEVENT
DTSTART;TZID=UTC:20241120T110000
DTEND;TZID=UTC:20241120T140000
DTSTAMP:20260423T050454
CREATED:20220912T090955Z
LAST-MODIFIED:20220912T122336Z
UID:10001314-1732100400-1732111200@mungabareena.org.au
SUMMARY:Women’s Group Wodonga
DESCRIPTION:Available to all Aboriginal and/or Torres Strait Islander Women
URL:https://mungabareena.org.au/event/womens-group-wodonga/2024-11-20/
LOCATION:Mungabareena Aboriginal Corporation Hovell St\, 21 Hovel St\, Wodonga\, Victoria\, 3690\, Australia
GEO:-36.1164164;146.8933646
X-APPLE-STRUCTURED-LOCATION;VALUE=URI;X-ADDRESS=Mungabareena Aboriginal Corporation Hovell St 21 Hovel St Wodonga Victoria 3690 Australia;X-APPLE-RADIUS=500;X-TITLE=21 Hovel St:geo:146.8933646,-36.1164164
END:VEVENT
BEGIN:VEVENT
DTSTART;TZID=UTC:20241113T110000
DTEND;TZID=UTC:20241113T140000
DTSTAMP:20260423T050454
CREATED:20220912T090955Z
LAST-MODIFIED:20220912T122336Z
UID:10001313-1731495600-1731506400@mungabareena.org.au
SUMMARY:Women’s Group Wodonga
DESCRIPTION:Available to all Aboriginal and/or Torres Strait Islander Women
URL:https://mungabareena.org.au/event/womens-group-wodonga/2024-11-13/
LOCATION:Mungabareena Aboriginal Corporation Hovell St\, 21 Hovel St\, Wodonga\, Victoria\, 3690\, Australia
GEO:-36.1164164;146.8933646
X-APPLE-STRUCTURED-LOCATION;VALUE=URI;X-ADDRESS=Mungabareena Aboriginal Corporation Hovell St 21 Hovel St Wodonga Victoria 3690 Australia;X-APPLE-RADIUS=500;X-TITLE=21 Hovel St:geo:146.8933646,-36.1164164
END:VEVENT
BEGIN:VEVENT
DTSTART;TZID=UTC:20241106T110000
DTEND;TZID=UTC:20241106T140000
DTSTAMP:20260423T050454
CREATED:20220912T090955Z
LAST-MODIFIED:20220912T122336Z
UID:10001312-1730890800-1730901600@mungabareena.org.au
SUMMARY:Women’s Group Wodonga
DESCRIPTION:Available to all Aboriginal and/or Torres Strait Islander Women
URL:https://mungabareena.org.au/event/womens-group-wodonga/2024-11-06/
LOCATION:Mungabareena Aboriginal Corporation Hovell St\, 21 Hovel St\, Wodonga\, Victoria\, 3690\, Australia
GEO:-36.1164164;146.8933646
X-APPLE-STRUCTURED-LOCATION;VALUE=URI;X-ADDRESS=Mungabareena Aboriginal Corporation Hovell St 21 Hovel St Wodonga Victoria 3690 Australia;X-APPLE-RADIUS=500;X-TITLE=21 Hovel St:geo:146.8933646,-36.1164164
END:VEVENT
BEGIN:VEVENT
DTSTART;TZID=UTC:20241030T110000
DTEND;TZID=UTC:20241030T140000
DTSTAMP:20260423T050454
CREATED:20220912T090955Z
LAST-MODIFIED:20220912T122336Z
UID:10001311-1730286000-1730296800@mungabareena.org.au
SUMMARY:Women’s Group Wodonga
DESCRIPTION:Available to all Aboriginal and/or Torres Strait Islander Women
URL:https://mungabareena.org.au/event/womens-group-wodonga/2024-10-30/
LOCATION:Mungabareena Aboriginal Corporation Hovell St\, 21 Hovel St\, Wodonga\, Victoria\, 3690\, Australia
GEO:-36.1164164;146.8933646
X-APPLE-STRUCTURED-LOCATION;VALUE=URI;X-ADDRESS=Mungabareena Aboriginal Corporation Hovell St 21 Hovel St Wodonga Victoria 3690 Australia;X-APPLE-RADIUS=500;X-TITLE=21 Hovel St:geo:146.8933646,-36.1164164
END:VEVENT
BEGIN:VEVENT
DTSTART;TZID=UTC:20241023T110000
DTEND;TZID=UTC:20241023T140000
DTSTAMP:20260423T050454
CREATED:20220912T090955Z
LAST-MODIFIED:20220912T122336Z
UID:10001310-1729681200-1729692000@mungabareena.org.au
SUMMARY:Women’s Group Wodonga
DESCRIPTION:Available to all Aboriginal and/or Torres Strait Islander Women
URL:https://mungabareena.org.au/event/womens-group-wodonga/2024-10-23/
LOCATION:Mungabareena Aboriginal Corporation Hovell St\, 21 Hovel St\, Wodonga\, Victoria\, 3690\, Australia
GEO:-36.1164164;146.8933646
X-APPLE-STRUCTURED-LOCATION;VALUE=URI;X-ADDRESS=Mungabareena Aboriginal Corporation Hovell St 21 Hovel St Wodonga Victoria 3690 Australia;X-APPLE-RADIUS=500;X-TITLE=21 Hovel St:geo:146.8933646,-36.1164164
END:VEVENT
BEGIN:VEVENT
DTSTART;TZID=UTC:20241016T110000
DTEND;TZID=UTC:20241016T140000
DTSTAMP:20260423T050454
CREATED:20220912T090955Z
LAST-MODIFIED:20220912T122336Z
UID:10001309-1729076400-1729087200@mungabareena.org.au
SUMMARY:Women’s Group Wodonga
DESCRIPTION:Available to all Aboriginal and/or Torres Strait Islander Women
URL:https://mungabareena.org.au/event/womens-group-wodonga/2024-10-16/
LOCATION:Mungabareena Aboriginal Corporation Hovell St\, 21 Hovel St\, Wodonga\, Victoria\, 3690\, Australia
GEO:-36.1164164;146.8933646
X-APPLE-STRUCTURED-LOCATION;VALUE=URI;X-ADDRESS=Mungabareena Aboriginal Corporation Hovell St 21 Hovel St Wodonga Victoria 3690 Australia;X-APPLE-RADIUS=500;X-TITLE=21 Hovel St:geo:146.8933646,-36.1164164
END:VEVENT
BEGIN:VEVENT
DTSTART;TZID=UTC:20241009T110000
DTEND;TZID=UTC:20241009T140000
DTSTAMP:20260423T050454
CREATED:20220912T090955Z
LAST-MODIFIED:20220912T122336Z
UID:10001308-1728471600-1728482400@mungabareena.org.au
SUMMARY:Women’s Group Wodonga
DESCRIPTION:Available to all Aboriginal and/or Torres Strait Islander Women
URL:https://mungabareena.org.au/event/womens-group-wodonga/2024-10-09/
LOCATION:Mungabareena Aboriginal Corporation Hovell St\, 21 Hovel St\, Wodonga\, Victoria\, 3690\, Australia
GEO:-36.1164164;146.8933646
X-APPLE-STRUCTURED-LOCATION;VALUE=URI;X-ADDRESS=Mungabareena Aboriginal Corporation Hovell St 21 Hovel St Wodonga Victoria 3690 Australia;X-APPLE-RADIUS=500;X-TITLE=21 Hovel St:geo:146.8933646,-36.1164164
END:VEVENT
BEGIN:VEVENT
DTSTART;TZID=UTC:20241002T110000
DTEND;TZID=UTC:20241002T140000
DTSTAMP:20260423T050454
CREATED:20220912T090955Z
LAST-MODIFIED:20220912T122336Z
UID:10001307-1727866800-1727877600@mungabareena.org.au
SUMMARY:Women’s Group Wodonga
DESCRIPTION:Available to all Aboriginal and/or Torres Strait Islander Women
URL:https://mungabareena.org.au/event/womens-group-wodonga/2024-10-02/
LOCATION:Mungabareena Aboriginal Corporation Hovell St\, 21 Hovel St\, Wodonga\, Victoria\, 3690\, Australia
GEO:-36.1164164;146.8933646
X-APPLE-STRUCTURED-LOCATION;VALUE=URI;X-ADDRESS=Mungabareena Aboriginal Corporation Hovell St 21 Hovel St Wodonga Victoria 3690 Australia;X-APPLE-RADIUS=500;X-TITLE=21 Hovel St:geo:146.8933646,-36.1164164
END:VEVENT
BEGIN:VEVENT
DTSTART;TZID=UTC:20240925T110000
DTEND;TZID=UTC:20240925T140000
DTSTAMP:20260423T050454
CREATED:20220912T090955Z
LAST-MODIFIED:20220912T122336Z
UID:10001306-1727262000-1727272800@mungabareena.org.au
SUMMARY:Women’s Group Wodonga
DESCRIPTION:Available to all Aboriginal and/or Torres Strait Islander Women
URL:https://mungabareena.org.au/event/womens-group-wodonga/2024-09-25/
LOCATION:Mungabareena Aboriginal Corporation Hovell St\, 21 Hovel St\, Wodonga\, Victoria\, 3690\, Australia
GEO:-36.1164164;146.8933646
X-APPLE-STRUCTURED-LOCATION;VALUE=URI;X-ADDRESS=Mungabareena Aboriginal Corporation Hovell St 21 Hovel St Wodonga Victoria 3690 Australia;X-APPLE-RADIUS=500;X-TITLE=21 Hovel St:geo:146.8933646,-36.1164164
END:VEVENT
BEGIN:VEVENT
DTSTART;TZID=UTC:20240918T110000
DTEND;TZID=UTC:20240918T140000
DTSTAMP:20260423T050454
CREATED:20220912T090955Z
LAST-MODIFIED:20220912T122336Z
UID:10001305-1726657200-1726668000@mungabareena.org.au
SUMMARY:Women’s Group Wodonga
DESCRIPTION:Available to all Aboriginal and/or Torres Strait Islander Women
URL:https://mungabareena.org.au/event/womens-group-wodonga/2024-09-18/
LOCATION:Mungabareena Aboriginal Corporation Hovell St\, 21 Hovel St\, Wodonga\, Victoria\, 3690\, Australia
GEO:-36.1164164;146.8933646
X-APPLE-STRUCTURED-LOCATION;VALUE=URI;X-ADDRESS=Mungabareena Aboriginal Corporation Hovell St 21 Hovel St Wodonga Victoria 3690 Australia;X-APPLE-RADIUS=500;X-TITLE=21 Hovel St:geo:146.8933646,-36.1164164
END:VEVENT
BEGIN:VEVENT
DTSTART;TZID=UTC:20240911T110000
DTEND;TZID=UTC:20240911T140000
DTSTAMP:20260423T050454
CREATED:20220912T090955Z
LAST-MODIFIED:20220912T122336Z
UID:10001304-1726052400-1726063200@mungabareena.org.au
SUMMARY:Women’s Group Wodonga
DESCRIPTION:Available to all Aboriginal and/or Torres Strait Islander Women
URL:https://mungabareena.org.au/event/womens-group-wodonga/2024-09-11/
LOCATION:Mungabareena Aboriginal Corporation Hovell St\, 21 Hovel St\, Wodonga\, Victoria\, 3690\, Australia
GEO:-36.1164164;146.8933646
X-APPLE-STRUCTURED-LOCATION;VALUE=URI;X-ADDRESS=Mungabareena Aboriginal Corporation Hovell St 21 Hovel St Wodonga Victoria 3690 Australia;X-APPLE-RADIUS=500;X-TITLE=21 Hovel St:geo:146.8933646,-36.1164164
END:VEVENT
BEGIN:VEVENT
DTSTART;TZID=UTC:20240904T110000
DTEND;TZID=UTC:20240904T140000
DTSTAMP:20260423T050454
CREATED:20220912T090955Z
LAST-MODIFIED:20220912T122336Z
UID:10001303-1725447600-1725458400@mungabareena.org.au
SUMMARY:Women’s Group Wodonga
DESCRIPTION:Available to all Aboriginal and/or Torres Strait Islander Women
URL:https://mungabareena.org.au/event/womens-group-wodonga/2024-09-04/
LOCATION:Mungabareena Aboriginal Corporation Hovell St\, 21 Hovel St\, Wodonga\, Victoria\, 3690\, Australia
GEO:-36.1164164;146.8933646
X-APPLE-STRUCTURED-LOCATION;VALUE=URI;X-ADDRESS=Mungabareena Aboriginal Corporation Hovell St 21 Hovel St Wodonga Victoria 3690 Australia;X-APPLE-RADIUS=500;X-TITLE=21 Hovel St:geo:146.8933646,-36.1164164
END:VEVENT
BEGIN:VEVENT
DTSTART;TZID=UTC:20240828T110000
DTEND;TZID=UTC:20240828T140000
DTSTAMP:20260423T050454
CREATED:20220912T090955Z
LAST-MODIFIED:20220912T122336Z
UID:10001302-1724842800-1724853600@mungabareena.org.au
SUMMARY:Women’s Group Wodonga
DESCRIPTION:Available to all Aboriginal and/or Torres Strait Islander Women
URL:https://mungabareena.org.au/event/womens-group-wodonga/2024-08-28/
LOCATION:Mungabareena Aboriginal Corporation Hovell St\, 21 Hovel St\, Wodonga\, Victoria\, 3690\, Australia
GEO:-36.1164164;146.8933646
X-APPLE-STRUCTURED-LOCATION;VALUE=URI;X-ADDRESS=Mungabareena Aboriginal Corporation Hovell St 21 Hovel St Wodonga Victoria 3690 Australia;X-APPLE-RADIUS=500;X-TITLE=21 Hovel St:geo:146.8933646,-36.1164164
END:VEVENT
BEGIN:VEVENT
DTSTART;TZID=UTC:20240821T110000
DTEND;TZID=UTC:20240821T140000
DTSTAMP:20260423T050454
CREATED:20220912T090955Z
LAST-MODIFIED:20220912T122336Z
UID:10001301-1724238000-1724248800@mungabareena.org.au
SUMMARY:Women’s Group Wodonga
DESCRIPTION:Available to all Aboriginal and/or Torres Strait Islander Women
URL:https://mungabareena.org.au/event/womens-group-wodonga/2024-08-21/
LOCATION:Mungabareena Aboriginal Corporation Hovell St\, 21 Hovel St\, Wodonga\, Victoria\, 3690\, Australia
GEO:-36.1164164;146.8933646
X-APPLE-STRUCTURED-LOCATION;VALUE=URI;X-ADDRESS=Mungabareena Aboriginal Corporation Hovell St 21 Hovel St Wodonga Victoria 3690 Australia;X-APPLE-RADIUS=500;X-TITLE=21 Hovel St:geo:146.8933646,-36.1164164
END:VEVENT
BEGIN:VEVENT
DTSTART;TZID=UTC:20240814T110000
DTEND;TZID=UTC:20240814T140000
DTSTAMP:20260423T050454
CREATED:20220912T090955Z
LAST-MODIFIED:20220912T122336Z
UID:10001300-1723633200-1723644000@mungabareena.org.au
SUMMARY:Women’s Group Wodonga
DESCRIPTION:Available to all Aboriginal and/or Torres Strait Islander Women
URL:https://mungabareena.org.au/event/womens-group-wodonga/2024-08-14/
LOCATION:Mungabareena Aboriginal Corporation Hovell St\, 21 Hovel St\, Wodonga\, Victoria\, 3690\, Australia
GEO:-36.1164164;146.8933646
X-APPLE-STRUCTURED-LOCATION;VALUE=URI;X-ADDRESS=Mungabareena Aboriginal Corporation Hovell St 21 Hovel St Wodonga Victoria 3690 Australia;X-APPLE-RADIUS=500;X-TITLE=21 Hovel St:geo:146.8933646,-36.1164164
END:VEVENT
BEGIN:VEVENT
DTSTART;TZID=UTC:20240807T110000
DTEND;TZID=UTC:20240807T140000
DTSTAMP:20260423T050454
CREATED:20220912T090955Z
LAST-MODIFIED:20220912T122336Z
UID:10001299-1723028400-1723039200@mungabareena.org.au
SUMMARY:Women’s Group Wodonga
DESCRIPTION:Available to all Aboriginal and/or Torres Strait Islander Women
URL:https://mungabareena.org.au/event/womens-group-wodonga/2024-08-07/
LOCATION:Mungabareena Aboriginal Corporation Hovell St\, 21 Hovel St\, Wodonga\, Victoria\, 3690\, Australia
GEO:-36.1164164;146.8933646
X-APPLE-STRUCTURED-LOCATION;VALUE=URI;X-ADDRESS=Mungabareena Aboriginal Corporation Hovell St 21 Hovel St Wodonga Victoria 3690 Australia;X-APPLE-RADIUS=500;X-TITLE=21 Hovel St:geo:146.8933646,-36.1164164
END:VEVENT
END:VCALENDAR