BEGIN:VCALENDAR
VERSION:2.0
PRODID:-//Mungabareena Aboriginal Corporation - ECPv6.15.20//NONSGML v1.0//EN
CALSCALE:GREGORIAN
METHOD:PUBLISH
X-WR-CALNAME:Mungabareena Aboriginal Corporation
X-ORIGINAL-URL:https://mungabareena.org.au
X-WR-CALDESC:Events for Mungabareena Aboriginal Corporation
REFRESH-INTERVAL;VALUE=DURATION:PT1H
X-Robots-Tag:noindex
X-PUBLISHED-TTL:PT1H
BEGIN:VTIMEZONE
TZID:UTC
BEGIN:STANDARD
TZOFFSETFROM:+0000
TZOFFSETTO:+0000
TZNAME:UTC
DTSTART:20230101T000000
END:STANDARD
END:VTIMEZONE
BEGIN:VEVENT
DTSTART;TZID=UTC:20241202T110000
DTEND;TZID=UTC:20241202T140000
DTSTAMP:20260421T084806
CREATED:20220912T091539Z
LAST-MODIFIED:20220912T091557Z
UID:10001603-1733137200-1733148000@mungabareena.org.au
SUMMARY:Women’s Group Wangaratta
DESCRIPTION:Available to all Aboriginal and/or Torres Strait Islander Women
URL:https://mungabareena.org.au/event/womens-group-wangaratta/2024-12-02/
LOCATION:Mungabareena Aboriginal Corporation Ryley St\, 53 Ryley St\, Wangaratta\, VIC\, 3677\, Australia
GEO:-36.3572046;146.3215004
X-APPLE-STRUCTURED-LOCATION;VALUE=URI;X-ADDRESS=Mungabareena Aboriginal Corporation Ryley St 53 Ryley St Wangaratta VIC 3677 Australia;X-APPLE-RADIUS=500;X-TITLE=53 Ryley St:geo:146.3215004,-36.3572046
END:VEVENT
BEGIN:VEVENT
DTSTART;TZID=UTC:20241125T110000
DTEND;TZID=UTC:20241125T140000
DTSTAMP:20260421T084806
CREATED:20220912T091539Z
LAST-MODIFIED:20220912T091557Z
UID:10001602-1732532400-1732543200@mungabareena.org.au
SUMMARY:Women’s Group Wangaratta
DESCRIPTION:Available to all Aboriginal and/or Torres Strait Islander Women
URL:https://mungabareena.org.au/event/womens-group-wangaratta/2024-11-25/
LOCATION:Mungabareena Aboriginal Corporation Ryley St\, 53 Ryley St\, Wangaratta\, VIC\, 3677\, Australia
GEO:-36.3572046;146.3215004
X-APPLE-STRUCTURED-LOCATION;VALUE=URI;X-ADDRESS=Mungabareena Aboriginal Corporation Ryley St 53 Ryley St Wangaratta VIC 3677 Australia;X-APPLE-RADIUS=500;X-TITLE=53 Ryley St:geo:146.3215004,-36.3572046
END:VEVENT
BEGIN:VEVENT
DTSTART;TZID=UTC:20241120T113000
DTEND;TZID=UTC:20241120T140000
DTSTAMP:20260421T084806
CREATED:20220912T092116Z
LAST-MODIFIED:20220912T092116Z
UID:10001834-1732102200-1732111200@mungabareena.org.au
SUMMARY:Men’s Yarning Circle
DESCRIPTION:Available to all Aboriginal and/or Torres Strait Islander Men
URL:https://mungabareena.org.au/event/mens-yarning-circle/2024-11-20/
LOCATION:Mungabareena Aboriginal Corporation Ryley St\, 53 Ryley St\, Wangaratta\, VIC\, 3677\, Australia
GEO:-36.3572046;146.3215004
X-APPLE-STRUCTURED-LOCATION;VALUE=URI;X-ADDRESS=Mungabareena Aboriginal Corporation Ryley St 53 Ryley St Wangaratta VIC 3677 Australia;X-APPLE-RADIUS=500;X-TITLE=53 Ryley St:geo:146.3215004,-36.3572046
END:VEVENT
BEGIN:VEVENT
DTSTART;TZID=UTC:20241118T110000
DTEND;TZID=UTC:20241118T140000
DTSTAMP:20260421T084806
CREATED:20220912T091539Z
LAST-MODIFIED:20220912T091557Z
UID:10001601-1731927600-1731938400@mungabareena.org.au
SUMMARY:Women’s Group Wangaratta
DESCRIPTION:Available to all Aboriginal and/or Torres Strait Islander Women
URL:https://mungabareena.org.au/event/womens-group-wangaratta/2024-11-18/
LOCATION:Mungabareena Aboriginal Corporation Ryley St\, 53 Ryley St\, Wangaratta\, VIC\, 3677\, Australia
GEO:-36.3572046;146.3215004
X-APPLE-STRUCTURED-LOCATION;VALUE=URI;X-ADDRESS=Mungabareena Aboriginal Corporation Ryley St 53 Ryley St Wangaratta VIC 3677 Australia;X-APPLE-RADIUS=500;X-TITLE=53 Ryley St:geo:146.3215004,-36.3572046
END:VEVENT
BEGIN:VEVENT
DTSTART;TZID=UTC:20241111T110000
DTEND;TZID=UTC:20241111T140000
DTSTAMP:20260421T084806
CREATED:20220912T091539Z
LAST-MODIFIED:20220912T091557Z
UID:10001600-1731322800-1731333600@mungabareena.org.au
SUMMARY:Women’s Group Wangaratta
DESCRIPTION:Available to all Aboriginal and/or Torres Strait Islander Women
URL:https://mungabareena.org.au/event/womens-group-wangaratta/2024-11-11/
LOCATION:Mungabareena Aboriginal Corporation Ryley St\, 53 Ryley St\, Wangaratta\, VIC\, 3677\, Australia
GEO:-36.3572046;146.3215004
X-APPLE-STRUCTURED-LOCATION;VALUE=URI;X-ADDRESS=Mungabareena Aboriginal Corporation Ryley St 53 Ryley St Wangaratta VIC 3677 Australia;X-APPLE-RADIUS=500;X-TITLE=53 Ryley St:geo:146.3215004,-36.3572046
END:VEVENT
BEGIN:VEVENT
DTSTART;TZID=UTC:20241106T113000
DTEND;TZID=UTC:20241106T140000
DTSTAMP:20260421T084806
CREATED:20220912T092116Z
LAST-MODIFIED:20220912T092116Z
UID:10001833-1730892600-1730901600@mungabareena.org.au
SUMMARY:Men’s Yarning Circle
DESCRIPTION:Available to all Aboriginal and/or Torres Strait Islander Men
URL:https://mungabareena.org.au/event/mens-yarning-circle/2024-11-06/
LOCATION:Mungabareena Aboriginal Corporation Ryley St\, 53 Ryley St\, Wangaratta\, VIC\, 3677\, Australia
GEO:-36.3572046;146.3215004
X-APPLE-STRUCTURED-LOCATION;VALUE=URI;X-ADDRESS=Mungabareena Aboriginal Corporation Ryley St 53 Ryley St Wangaratta VIC 3677 Australia;X-APPLE-RADIUS=500;X-TITLE=53 Ryley St:geo:146.3215004,-36.3572046
END:VEVENT
BEGIN:VEVENT
DTSTART;TZID=UTC:20241104T110000
DTEND;TZID=UTC:20241104T140000
DTSTAMP:20260421T084806
CREATED:20220912T091539Z
LAST-MODIFIED:20220912T091557Z
UID:10001599-1730718000-1730728800@mungabareena.org.au
SUMMARY:Women’s Group Wangaratta
DESCRIPTION:Available to all Aboriginal and/or Torres Strait Islander Women
URL:https://mungabareena.org.au/event/womens-group-wangaratta/2024-11-04/
LOCATION:Mungabareena Aboriginal Corporation Ryley St\, 53 Ryley St\, Wangaratta\, VIC\, 3677\, Australia
GEO:-36.3572046;146.3215004
X-APPLE-STRUCTURED-LOCATION;VALUE=URI;X-ADDRESS=Mungabareena Aboriginal Corporation Ryley St 53 Ryley St Wangaratta VIC 3677 Australia;X-APPLE-RADIUS=500;X-TITLE=53 Ryley St:geo:146.3215004,-36.3572046
END:VEVENT
BEGIN:VEVENT
DTSTART;TZID=UTC:20241028T110000
DTEND;TZID=UTC:20241028T140000
DTSTAMP:20260421T084806
CREATED:20220912T091539Z
LAST-MODIFIED:20220912T091557Z
UID:10001598-1730113200-1730124000@mungabareena.org.au
SUMMARY:Women’s Group Wangaratta
DESCRIPTION:Available to all Aboriginal and/or Torres Strait Islander Women
URL:https://mungabareena.org.au/event/womens-group-wangaratta/2024-10-28/
LOCATION:Mungabareena Aboriginal Corporation Ryley St\, 53 Ryley St\, Wangaratta\, VIC\, 3677\, Australia
GEO:-36.3572046;146.3215004
X-APPLE-STRUCTURED-LOCATION;VALUE=URI;X-ADDRESS=Mungabareena Aboriginal Corporation Ryley St 53 Ryley St Wangaratta VIC 3677 Australia;X-APPLE-RADIUS=500;X-TITLE=53 Ryley St:geo:146.3215004,-36.3572046
END:VEVENT
BEGIN:VEVENT
DTSTART;TZID=UTC:20241023T113000
DTEND;TZID=UTC:20241023T140000
DTSTAMP:20260421T084806
CREATED:20220912T092116Z
LAST-MODIFIED:20220912T092116Z
UID:10001832-1729683000-1729692000@mungabareena.org.au
SUMMARY:Men’s Yarning Circle
DESCRIPTION:Available to all Aboriginal and/or Torres Strait Islander Men
URL:https://mungabareena.org.au/event/mens-yarning-circle/2024-10-23/
LOCATION:Mungabareena Aboriginal Corporation Ryley St\, 53 Ryley St\, Wangaratta\, VIC\, 3677\, Australia
GEO:-36.3572046;146.3215004
X-APPLE-STRUCTURED-LOCATION;VALUE=URI;X-ADDRESS=Mungabareena Aboriginal Corporation Ryley St 53 Ryley St Wangaratta VIC 3677 Australia;X-APPLE-RADIUS=500;X-TITLE=53 Ryley St:geo:146.3215004,-36.3572046
END:VEVENT
BEGIN:VEVENT
DTSTART;TZID=UTC:20241021T110000
DTEND;TZID=UTC:20241021T140000
DTSTAMP:20260421T084806
CREATED:20220912T091539Z
LAST-MODIFIED:20220912T091557Z
UID:10001597-1729508400-1729519200@mungabareena.org.au
SUMMARY:Women’s Group Wangaratta
DESCRIPTION:Available to all Aboriginal and/or Torres Strait Islander Women
URL:https://mungabareena.org.au/event/womens-group-wangaratta/2024-10-21/
LOCATION:Mungabareena Aboriginal Corporation Ryley St\, 53 Ryley St\, Wangaratta\, VIC\, 3677\, Australia
GEO:-36.3572046;146.3215004
X-APPLE-STRUCTURED-LOCATION;VALUE=URI;X-ADDRESS=Mungabareena Aboriginal Corporation Ryley St 53 Ryley St Wangaratta VIC 3677 Australia;X-APPLE-RADIUS=500;X-TITLE=53 Ryley St:geo:146.3215004,-36.3572046
END:VEVENT
BEGIN:VEVENT
DTSTART;TZID=UTC:20241014T110000
DTEND;TZID=UTC:20241014T140000
DTSTAMP:20260421T084806
CREATED:20220912T091539Z
LAST-MODIFIED:20220912T091557Z
UID:10001596-1728903600-1728914400@mungabareena.org.au
SUMMARY:Women’s Group Wangaratta
DESCRIPTION:Available to all Aboriginal and/or Torres Strait Islander Women
URL:https://mungabareena.org.au/event/womens-group-wangaratta/2024-10-14/
LOCATION:Mungabareena Aboriginal Corporation Ryley St\, 53 Ryley St\, Wangaratta\, VIC\, 3677\, Australia
GEO:-36.3572046;146.3215004
X-APPLE-STRUCTURED-LOCATION;VALUE=URI;X-ADDRESS=Mungabareena Aboriginal Corporation Ryley St 53 Ryley St Wangaratta VIC 3677 Australia;X-APPLE-RADIUS=500;X-TITLE=53 Ryley St:geo:146.3215004,-36.3572046
END:VEVENT
BEGIN:VEVENT
DTSTART;TZID=UTC:20241009T113000
DTEND;TZID=UTC:20241009T140000
DTSTAMP:20260421T084806
CREATED:20220912T092116Z
LAST-MODIFIED:20220912T092116Z
UID:10001831-1728473400-1728482400@mungabareena.org.au
SUMMARY:Men’s Yarning Circle
DESCRIPTION:Available to all Aboriginal and/or Torres Strait Islander Men
URL:https://mungabareena.org.au/event/mens-yarning-circle/2024-10-09/
LOCATION:Mungabareena Aboriginal Corporation Ryley St\, 53 Ryley St\, Wangaratta\, VIC\, 3677\, Australia
GEO:-36.3572046;146.3215004
X-APPLE-STRUCTURED-LOCATION;VALUE=URI;X-ADDRESS=Mungabareena Aboriginal Corporation Ryley St 53 Ryley St Wangaratta VIC 3677 Australia;X-APPLE-RADIUS=500;X-TITLE=53 Ryley St:geo:146.3215004,-36.3572046
END:VEVENT
BEGIN:VEVENT
DTSTART;TZID=UTC:20241007T110000
DTEND;TZID=UTC:20241007T140000
DTSTAMP:20260421T084806
CREATED:20220912T091539Z
LAST-MODIFIED:20220912T091557Z
UID:10001595-1728298800-1728309600@mungabareena.org.au
SUMMARY:Women’s Group Wangaratta
DESCRIPTION:Available to all Aboriginal and/or Torres Strait Islander Women
URL:https://mungabareena.org.au/event/womens-group-wangaratta/2024-10-07/
LOCATION:Mungabareena Aboriginal Corporation Ryley St\, 53 Ryley St\, Wangaratta\, VIC\, 3677\, Australia
GEO:-36.3572046;146.3215004
X-APPLE-STRUCTURED-LOCATION;VALUE=URI;X-ADDRESS=Mungabareena Aboriginal Corporation Ryley St 53 Ryley St Wangaratta VIC 3677 Australia;X-APPLE-RADIUS=500;X-TITLE=53 Ryley St:geo:146.3215004,-36.3572046
END:VEVENT
BEGIN:VEVENT
DTSTART;TZID=UTC:20240930T110000
DTEND;TZID=UTC:20240930T140000
DTSTAMP:20260421T084806
CREATED:20220912T091539Z
LAST-MODIFIED:20220912T091557Z
UID:10001594-1727694000-1727704800@mungabareena.org.au
SUMMARY:Women’s Group Wangaratta
DESCRIPTION:Available to all Aboriginal and/or Torres Strait Islander Women
URL:https://mungabareena.org.au/event/womens-group-wangaratta/2024-09-30/
LOCATION:Mungabareena Aboriginal Corporation Ryley St\, 53 Ryley St\, Wangaratta\, VIC\, 3677\, Australia
GEO:-36.3572046;146.3215004
X-APPLE-STRUCTURED-LOCATION;VALUE=URI;X-ADDRESS=Mungabareena Aboriginal Corporation Ryley St 53 Ryley St Wangaratta VIC 3677 Australia;X-APPLE-RADIUS=500;X-TITLE=53 Ryley St:geo:146.3215004,-36.3572046
END:VEVENT
BEGIN:VEVENT
DTSTART;TZID=UTC:20240925T113000
DTEND;TZID=UTC:20240925T140000
DTSTAMP:20260421T084806
CREATED:20220912T092116Z
LAST-MODIFIED:20220912T092116Z
UID:10001830-1727263800-1727272800@mungabareena.org.au
SUMMARY:Men’s Yarning Circle
DESCRIPTION:Available to all Aboriginal and/or Torres Strait Islander Men
URL:https://mungabareena.org.au/event/mens-yarning-circle/2024-09-25/
LOCATION:Mungabareena Aboriginal Corporation Ryley St\, 53 Ryley St\, Wangaratta\, VIC\, 3677\, Australia
GEO:-36.3572046;146.3215004
X-APPLE-STRUCTURED-LOCATION;VALUE=URI;X-ADDRESS=Mungabareena Aboriginal Corporation Ryley St 53 Ryley St Wangaratta VIC 3677 Australia;X-APPLE-RADIUS=500;X-TITLE=53 Ryley St:geo:146.3215004,-36.3572046
END:VEVENT
BEGIN:VEVENT
DTSTART;TZID=UTC:20240923T110000
DTEND;TZID=UTC:20240923T140000
DTSTAMP:20260421T084806
CREATED:20220912T091539Z
LAST-MODIFIED:20220912T091557Z
UID:10001593-1727089200-1727100000@mungabareena.org.au
SUMMARY:Women’s Group Wangaratta
DESCRIPTION:Available to all Aboriginal and/or Torres Strait Islander Women
URL:https://mungabareena.org.au/event/womens-group-wangaratta/2024-09-23/
LOCATION:Mungabareena Aboriginal Corporation Ryley St\, 53 Ryley St\, Wangaratta\, VIC\, 3677\, Australia
GEO:-36.3572046;146.3215004
X-APPLE-STRUCTURED-LOCATION;VALUE=URI;X-ADDRESS=Mungabareena Aboriginal Corporation Ryley St 53 Ryley St Wangaratta VIC 3677 Australia;X-APPLE-RADIUS=500;X-TITLE=53 Ryley St:geo:146.3215004,-36.3572046
END:VEVENT
BEGIN:VEVENT
DTSTART;TZID=UTC:20240916T110000
DTEND;TZID=UTC:20240916T140000
DTSTAMP:20260421T084806
CREATED:20220912T091539Z
LAST-MODIFIED:20220912T091557Z
UID:10001592-1726484400-1726495200@mungabareena.org.au
SUMMARY:Women’s Group Wangaratta
DESCRIPTION:Available to all Aboriginal and/or Torres Strait Islander Women
URL:https://mungabareena.org.au/event/womens-group-wangaratta/2024-09-16/
LOCATION:Mungabareena Aboriginal Corporation Ryley St\, 53 Ryley St\, Wangaratta\, VIC\, 3677\, Australia
GEO:-36.3572046;146.3215004
X-APPLE-STRUCTURED-LOCATION;VALUE=URI;X-ADDRESS=Mungabareena Aboriginal Corporation Ryley St 53 Ryley St Wangaratta VIC 3677 Australia;X-APPLE-RADIUS=500;X-TITLE=53 Ryley St:geo:146.3215004,-36.3572046
END:VEVENT
BEGIN:VEVENT
DTSTART;TZID=UTC:20240911T113000
DTEND;TZID=UTC:20240911T140000
DTSTAMP:20260421T084806
CREATED:20220912T092116Z
LAST-MODIFIED:20220912T092116Z
UID:10001829-1726054200-1726063200@mungabareena.org.au
SUMMARY:Men’s Yarning Circle
DESCRIPTION:Available to all Aboriginal and/or Torres Strait Islander Men
URL:https://mungabareena.org.au/event/mens-yarning-circle/2024-09-11/
LOCATION:Mungabareena Aboriginal Corporation Ryley St\, 53 Ryley St\, Wangaratta\, VIC\, 3677\, Australia
GEO:-36.3572046;146.3215004
X-APPLE-STRUCTURED-LOCATION;VALUE=URI;X-ADDRESS=Mungabareena Aboriginal Corporation Ryley St 53 Ryley St Wangaratta VIC 3677 Australia;X-APPLE-RADIUS=500;X-TITLE=53 Ryley St:geo:146.3215004,-36.3572046
END:VEVENT
BEGIN:VEVENT
DTSTART;TZID=UTC:20240909T110000
DTEND;TZID=UTC:20240909T140000
DTSTAMP:20260421T084806
CREATED:20220912T091539Z
LAST-MODIFIED:20220912T091557Z
UID:10001591-1725879600-1725890400@mungabareena.org.au
SUMMARY:Women’s Group Wangaratta
DESCRIPTION:Available to all Aboriginal and/or Torres Strait Islander Women
URL:https://mungabareena.org.au/event/womens-group-wangaratta/2024-09-09/
LOCATION:Mungabareena Aboriginal Corporation Ryley St\, 53 Ryley St\, Wangaratta\, VIC\, 3677\, Australia
GEO:-36.3572046;146.3215004
X-APPLE-STRUCTURED-LOCATION;VALUE=URI;X-ADDRESS=Mungabareena Aboriginal Corporation Ryley St 53 Ryley St Wangaratta VIC 3677 Australia;X-APPLE-RADIUS=500;X-TITLE=53 Ryley St:geo:146.3215004,-36.3572046
END:VEVENT
BEGIN:VEVENT
DTSTART;TZID=UTC:20240902T110000
DTEND;TZID=UTC:20240902T140000
DTSTAMP:20260421T084806
CREATED:20220912T091539Z
LAST-MODIFIED:20220912T091557Z
UID:10001590-1725274800-1725285600@mungabareena.org.au
SUMMARY:Women’s Group Wangaratta
DESCRIPTION:Available to all Aboriginal and/or Torres Strait Islander Women
URL:https://mungabareena.org.au/event/womens-group-wangaratta/2024-09-02/
LOCATION:Mungabareena Aboriginal Corporation Ryley St\, 53 Ryley St\, Wangaratta\, VIC\, 3677\, Australia
GEO:-36.3572046;146.3215004
X-APPLE-STRUCTURED-LOCATION;VALUE=URI;X-ADDRESS=Mungabareena Aboriginal Corporation Ryley St 53 Ryley St Wangaratta VIC 3677 Australia;X-APPLE-RADIUS=500;X-TITLE=53 Ryley St:geo:146.3215004,-36.3572046
END:VEVENT
BEGIN:VEVENT
DTSTART;TZID=UTC:20240828T113000
DTEND;TZID=UTC:20240828T140000
DTSTAMP:20260421T084806
CREATED:20220912T092116Z
LAST-MODIFIED:20220912T092116Z
UID:10001828-1724844600-1724853600@mungabareena.org.au
SUMMARY:Men’s Yarning Circle
DESCRIPTION:Available to all Aboriginal and/or Torres Strait Islander Men
URL:https://mungabareena.org.au/event/mens-yarning-circle/2024-08-28/
LOCATION:Mungabareena Aboriginal Corporation Ryley St\, 53 Ryley St\, Wangaratta\, VIC\, 3677\, Australia
GEO:-36.3572046;146.3215004
X-APPLE-STRUCTURED-LOCATION;VALUE=URI;X-ADDRESS=Mungabareena Aboriginal Corporation Ryley St 53 Ryley St Wangaratta VIC 3677 Australia;X-APPLE-RADIUS=500;X-TITLE=53 Ryley St:geo:146.3215004,-36.3572046
END:VEVENT
BEGIN:VEVENT
DTSTART;TZID=UTC:20240826T110000
DTEND;TZID=UTC:20240826T140000
DTSTAMP:20260421T084806
CREATED:20220912T091539Z
LAST-MODIFIED:20220912T091557Z
UID:10001589-1724670000-1724680800@mungabareena.org.au
SUMMARY:Women’s Group Wangaratta
DESCRIPTION:Available to all Aboriginal and/or Torres Strait Islander Women
URL:https://mungabareena.org.au/event/womens-group-wangaratta/2024-08-26/
LOCATION:Mungabareena Aboriginal Corporation Ryley St\, 53 Ryley St\, Wangaratta\, VIC\, 3677\, Australia
GEO:-36.3572046;146.3215004
X-APPLE-STRUCTURED-LOCATION;VALUE=URI;X-ADDRESS=Mungabareena Aboriginal Corporation Ryley St 53 Ryley St Wangaratta VIC 3677 Australia;X-APPLE-RADIUS=500;X-TITLE=53 Ryley St:geo:146.3215004,-36.3572046
END:VEVENT
BEGIN:VEVENT
DTSTART;TZID=UTC:20240819T110000
DTEND;TZID=UTC:20240819T140000
DTSTAMP:20260421T084806
CREATED:20220912T091539Z
LAST-MODIFIED:20220912T091557Z
UID:10001588-1724065200-1724076000@mungabareena.org.au
SUMMARY:Women’s Group Wangaratta
DESCRIPTION:Available to all Aboriginal and/or Torres Strait Islander Women
URL:https://mungabareena.org.au/event/womens-group-wangaratta/2024-08-19/
LOCATION:Mungabareena Aboriginal Corporation Ryley St\, 53 Ryley St\, Wangaratta\, VIC\, 3677\, Australia
GEO:-36.3572046;146.3215004
X-APPLE-STRUCTURED-LOCATION;VALUE=URI;X-ADDRESS=Mungabareena Aboriginal Corporation Ryley St 53 Ryley St Wangaratta VIC 3677 Australia;X-APPLE-RADIUS=500;X-TITLE=53 Ryley St:geo:146.3215004,-36.3572046
END:VEVENT
BEGIN:VEVENT
DTSTART;TZID=UTC:20240814T113000
DTEND;TZID=UTC:20240814T140000
DTSTAMP:20260421T084806
CREATED:20220912T092116Z
LAST-MODIFIED:20220912T092116Z
UID:10001827-1723635000-1723644000@mungabareena.org.au
SUMMARY:Men’s Yarning Circle
DESCRIPTION:Available to all Aboriginal and/or Torres Strait Islander Men
URL:https://mungabareena.org.au/event/mens-yarning-circle/2024-08-14/
LOCATION:Mungabareena Aboriginal Corporation Ryley St\, 53 Ryley St\, Wangaratta\, VIC\, 3677\, Australia
GEO:-36.3572046;146.3215004
X-APPLE-STRUCTURED-LOCATION;VALUE=URI;X-ADDRESS=Mungabareena Aboriginal Corporation Ryley St 53 Ryley St Wangaratta VIC 3677 Australia;X-APPLE-RADIUS=500;X-TITLE=53 Ryley St:geo:146.3215004,-36.3572046
END:VEVENT
BEGIN:VEVENT
DTSTART;TZID=UTC:20240812T110000
DTEND;TZID=UTC:20240812T140000
DTSTAMP:20260421T084806
CREATED:20220912T091539Z
LAST-MODIFIED:20220912T091557Z
UID:10001587-1723460400-1723471200@mungabareena.org.au
SUMMARY:Women’s Group Wangaratta
DESCRIPTION:Available to all Aboriginal and/or Torres Strait Islander Women
URL:https://mungabareena.org.au/event/womens-group-wangaratta/2024-08-12/
LOCATION:Mungabareena Aboriginal Corporation Ryley St\, 53 Ryley St\, Wangaratta\, VIC\, 3677\, Australia
GEO:-36.3572046;146.3215004
X-APPLE-STRUCTURED-LOCATION;VALUE=URI;X-ADDRESS=Mungabareena Aboriginal Corporation Ryley St 53 Ryley St Wangaratta VIC 3677 Australia;X-APPLE-RADIUS=500;X-TITLE=53 Ryley St:geo:146.3215004,-36.3572046
END:VEVENT
BEGIN:VEVENT
DTSTART;TZID=UTC:20240805T110000
DTEND;TZID=UTC:20240805T140000
DTSTAMP:20260421T084806
CREATED:20220912T091539Z
LAST-MODIFIED:20220912T091557Z
UID:10001586-1722855600-1722866400@mungabareena.org.au
SUMMARY:Women’s Group Wangaratta
DESCRIPTION:Available to all Aboriginal and/or Torres Strait Islander Women
URL:https://mungabareena.org.au/event/womens-group-wangaratta/2024-08-05/
LOCATION:Mungabareena Aboriginal Corporation Ryley St\, 53 Ryley St\, Wangaratta\, VIC\, 3677\, Australia
GEO:-36.3572046;146.3215004
X-APPLE-STRUCTURED-LOCATION;VALUE=URI;X-ADDRESS=Mungabareena Aboriginal Corporation Ryley St 53 Ryley St Wangaratta VIC 3677 Australia;X-APPLE-RADIUS=500;X-TITLE=53 Ryley St:geo:146.3215004,-36.3572046
END:VEVENT
BEGIN:VEVENT
DTSTART;TZID=UTC:20240731T113000
DTEND;TZID=UTC:20240731T140000
DTSTAMP:20260421T084806
CREATED:20220912T092116Z
LAST-MODIFIED:20220912T092116Z
UID:10001826-1722425400-1722434400@mungabareena.org.au
SUMMARY:Men’s Yarning Circle
DESCRIPTION:Available to all Aboriginal and/or Torres Strait Islander Men
URL:https://mungabareena.org.au/event/mens-yarning-circle/2024-07-31/
LOCATION:Mungabareena Aboriginal Corporation Ryley St\, 53 Ryley St\, Wangaratta\, VIC\, 3677\, Australia
GEO:-36.3572046;146.3215004
X-APPLE-STRUCTURED-LOCATION;VALUE=URI;X-ADDRESS=Mungabareena Aboriginal Corporation Ryley St 53 Ryley St Wangaratta VIC 3677 Australia;X-APPLE-RADIUS=500;X-TITLE=53 Ryley St:geo:146.3215004,-36.3572046
END:VEVENT
BEGIN:VEVENT
DTSTART;TZID=UTC:20240729T110000
DTEND;TZID=UTC:20240729T140000
DTSTAMP:20260421T084806
CREATED:20220912T091539Z
LAST-MODIFIED:20220912T091557Z
UID:10001585-1722250800-1722261600@mungabareena.org.au
SUMMARY:Women’s Group Wangaratta
DESCRIPTION:Available to all Aboriginal and/or Torres Strait Islander Women
URL:https://mungabareena.org.au/event/womens-group-wangaratta/2024-07-29/
LOCATION:Mungabareena Aboriginal Corporation Ryley St\, 53 Ryley St\, Wangaratta\, VIC\, 3677\, Australia
GEO:-36.3572046;146.3215004
X-APPLE-STRUCTURED-LOCATION;VALUE=URI;X-ADDRESS=Mungabareena Aboriginal Corporation Ryley St 53 Ryley St Wangaratta VIC 3677 Australia;X-APPLE-RADIUS=500;X-TITLE=53 Ryley St:geo:146.3215004,-36.3572046
END:VEVENT
BEGIN:VEVENT
DTSTART;TZID=UTC:20240722T110000
DTEND;TZID=UTC:20240722T140000
DTSTAMP:20260421T084806
CREATED:20220912T091539Z
LAST-MODIFIED:20220912T091557Z
UID:10001584-1721646000-1721656800@mungabareena.org.au
SUMMARY:Women’s Group Wangaratta
DESCRIPTION:Available to all Aboriginal and/or Torres Strait Islander Women
URL:https://mungabareena.org.au/event/womens-group-wangaratta/2024-07-22/
LOCATION:Mungabareena Aboriginal Corporation Ryley St\, 53 Ryley St\, Wangaratta\, VIC\, 3677\, Australia
GEO:-36.3572046;146.3215004
X-APPLE-STRUCTURED-LOCATION;VALUE=URI;X-ADDRESS=Mungabareena Aboriginal Corporation Ryley St 53 Ryley St Wangaratta VIC 3677 Australia;X-APPLE-RADIUS=500;X-TITLE=53 Ryley St:geo:146.3215004,-36.3572046
END:VEVENT
BEGIN:VEVENT
DTSTART;TZID=UTC:20240717T113000
DTEND;TZID=UTC:20240717T140000
DTSTAMP:20260421T084806
CREATED:20220912T092116Z
LAST-MODIFIED:20220912T092116Z
UID:10001825-1721215800-1721224800@mungabareena.org.au
SUMMARY:Men’s Yarning Circle
DESCRIPTION:Available to all Aboriginal and/or Torres Strait Islander Men
URL:https://mungabareena.org.au/event/mens-yarning-circle/2024-07-17/
LOCATION:Mungabareena Aboriginal Corporation Ryley St\, 53 Ryley St\, Wangaratta\, VIC\, 3677\, Australia
GEO:-36.3572046;146.3215004
X-APPLE-STRUCTURED-LOCATION;VALUE=URI;X-ADDRESS=Mungabareena Aboriginal Corporation Ryley St 53 Ryley St Wangaratta VIC 3677 Australia;X-APPLE-RADIUS=500;X-TITLE=53 Ryley St:geo:146.3215004,-36.3572046
END:VEVENT
END:VCALENDAR