BEGIN:VCALENDAR
VERSION:2.0
PRODID:-//Mungabareena Aboriginal Corporation - ECPv6.15.20//NONSGML v1.0//EN
CALSCALE:GREGORIAN
METHOD:PUBLISH
X-ORIGINAL-URL:https://mungabareena.org.au
X-WR-CALDESC:Events for Mungabareena Aboriginal Corporation
REFRESH-INTERVAL;VALUE=DURATION:PT1H
X-Robots-Tag:noindex
X-PUBLISHED-TTL:PT1H
BEGIN:VTIMEZONE
TZID:UTC
BEGIN:STANDARD
TZOFFSETFROM:+0000
TZOFFSETTO:+0000
TZNAME:UTC
DTSTART:20230101T000000
END:STANDARD
END:VTIMEZONE
BEGIN:VTIMEZONE
TZID:Australia/Melbourne
BEGIN:STANDARD
TZOFFSETFROM:+1100
TZOFFSETTO:+1000
TZNAME:AEST
DTSTART:20230401T160000
END:STANDARD
BEGIN:DAYLIGHT
TZOFFSETFROM:+1000
TZOFFSETTO:+1100
TZNAME:AEDT
DTSTART:20230930T160000
END:DAYLIGHT
BEGIN:STANDARD
TZOFFSETFROM:+1100
TZOFFSETTO:+1000
TZNAME:AEST
DTSTART:20240406T160000
END:STANDARD
BEGIN:DAYLIGHT
TZOFFSETFROM:+1000
TZOFFSETTO:+1100
TZNAME:AEDT
DTSTART:20241005T160000
END:DAYLIGHT
BEGIN:STANDARD
TZOFFSETFROM:+1100
TZOFFSETTO:+1000
TZNAME:AEST
DTSTART:20250405T160000
END:STANDARD
BEGIN:DAYLIGHT
TZOFFSETFROM:+1000
TZOFFSETTO:+1100
TZNAME:AEDT
DTSTART:20251004T160000
END:DAYLIGHT
END:VTIMEZONE
BEGIN:VEVENT
DTSTART;TZID=UTC:20240617T110000
DTEND;TZID=UTC:20240617T140000
DTSTAMP:20260421T132605
CREATED:20220912T091539Z
LAST-MODIFIED:20220912T091557Z
UID:10001579-1718622000-1718632800@mungabareena.org.au
SUMMARY:Women’s Group Wangaratta
DESCRIPTION:Available to all Aboriginal and/or Torres Strait Islander Women
URL:https://mungabareena.org.au/event/womens-group-wangaratta/2024-06-17/
LOCATION:Mungabareena Aboriginal Corporation Ryley St\, 53 Ryley St\, Wangaratta\, VIC\, 3677\, Australia
GEO:-36.3572046;146.3215004
X-APPLE-STRUCTURED-LOCATION;VALUE=URI;X-ADDRESS=Mungabareena Aboriginal Corporation Ryley St 53 Ryley St Wangaratta VIC 3677 Australia;X-APPLE-RADIUS=500;X-TITLE=53 Ryley St:geo:146.3215004,-36.3572046
END:VEVENT
BEGIN:VEVENT
DTSTART;TZID=UTC:20240610T110000
DTEND;TZID=UTC:20240610T140000
DTSTAMP:20260421T132605
CREATED:20220912T091539Z
LAST-MODIFIED:20220912T091557Z
UID:10001578-1718017200-1718028000@mungabareena.org.au
SUMMARY:Women’s Group Wangaratta
DESCRIPTION:Available to all Aboriginal and/or Torres Strait Islander Women
URL:https://mungabareena.org.au/event/womens-group-wangaratta/2024-06-10/
LOCATION:Mungabareena Aboriginal Corporation Ryley St\, 53 Ryley St\, Wangaratta\, VIC\, 3677\, Australia
GEO:-36.3572046;146.3215004
X-APPLE-STRUCTURED-LOCATION;VALUE=URI;X-ADDRESS=Mungabareena Aboriginal Corporation Ryley St 53 Ryley St Wangaratta VIC 3677 Australia;X-APPLE-RADIUS=500;X-TITLE=53 Ryley St:geo:146.3215004,-36.3572046
END:VEVENT
BEGIN:VEVENT
DTSTART;TZID=UTC:20240605T113000
DTEND;TZID=UTC:20240605T140000
DTSTAMP:20260421T132605
CREATED:20220912T092116Z
LAST-MODIFIED:20220912T092116Z
UID:10001822-1717587000-1717596000@mungabareena.org.au
SUMMARY:Men’s Yarning Circle
DESCRIPTION:Available to all Aboriginal and/or Torres Strait Islander Men
URL:https://mungabareena.org.au/event/mens-yarning-circle/2024-06-05/
LOCATION:Mungabareena Aboriginal Corporation Ryley St\, 53 Ryley St\, Wangaratta\, VIC\, 3677\, Australia
GEO:-36.3572046;146.3215004
X-APPLE-STRUCTURED-LOCATION;VALUE=URI;X-ADDRESS=Mungabareena Aboriginal Corporation Ryley St 53 Ryley St Wangaratta VIC 3677 Australia;X-APPLE-RADIUS=500;X-TITLE=53 Ryley St:geo:146.3215004,-36.3572046
END:VEVENT
BEGIN:VEVENT
DTSTART;TZID=UTC:20240603T110000
DTEND;TZID=UTC:20240603T140000
DTSTAMP:20260421T132605
CREATED:20220912T091539Z
LAST-MODIFIED:20220912T091557Z
UID:10001577-1717412400-1717423200@mungabareena.org.au
SUMMARY:Women’s Group Wangaratta
DESCRIPTION:Available to all Aboriginal and/or Torres Strait Islander Women
URL:https://mungabareena.org.au/event/womens-group-wangaratta/2024-06-03/
LOCATION:Mungabareena Aboriginal Corporation Ryley St\, 53 Ryley St\, Wangaratta\, VIC\, 3677\, Australia
GEO:-36.3572046;146.3215004
X-APPLE-STRUCTURED-LOCATION;VALUE=URI;X-ADDRESS=Mungabareena Aboriginal Corporation Ryley St 53 Ryley St Wangaratta VIC 3677 Australia;X-APPLE-RADIUS=500;X-TITLE=53 Ryley St:geo:146.3215004,-36.3572046
END:VEVENT
BEGIN:VEVENT
DTSTART;TZID=Australia/Melbourne:20240528T103000
DTEND;TZID=Australia/Melbourne:20240528T113000
DTSTAMP:20260421T132605
CREATED:20240517T003325Z
LAST-MODIFIED:20240517T003325Z
UID:10002401-1716892200-1716895800@mungabareena.org.au
SUMMARY:Smoking Ceremony and Welcome to Country
DESCRIPTION:Smoking Ceremony and Welcome to Country performed by Uncle Dozer \nMorning Tea
URL:https://mungabareena.org.au/event/smoking-ceremony-and-welcome-to-country-2/
LOCATION:Mungabareena Aboriginal Corporation Ryley St\, 53 Ryley St\, Wangaratta\, VIC\, 3677\, Australia
ORGANIZER;CN="Mungabareena Aboriginal Corporation":MAILTO:reception@mungabareena.org.au
GEO:-36.3572046;146.3215004
X-APPLE-STRUCTURED-LOCATION;VALUE=URI;X-ADDRESS=Mungabareena Aboriginal Corporation Ryley St 53 Ryley St Wangaratta VIC 3677 Australia;X-APPLE-RADIUS=500;X-TITLE=53 Ryley St:geo:146.3215004,-36.3572046
END:VEVENT
BEGIN:VEVENT
DTSTART;TZID=UTC:20240527T110000
DTEND;TZID=UTC:20240527T140000
DTSTAMP:20260421T132605
CREATED:20220912T091539Z
LAST-MODIFIED:20220912T091557Z
UID:10001576-1716807600-1716818400@mungabareena.org.au
SUMMARY:Women’s Group Wangaratta
DESCRIPTION:Available to all Aboriginal and/or Torres Strait Islander Women
URL:https://mungabareena.org.au/event/womens-group-wangaratta/2024-05-27/
LOCATION:Mungabareena Aboriginal Corporation Ryley St\, 53 Ryley St\, Wangaratta\, VIC\, 3677\, Australia
GEO:-36.3572046;146.3215004
X-APPLE-STRUCTURED-LOCATION;VALUE=URI;X-ADDRESS=Mungabareena Aboriginal Corporation Ryley St 53 Ryley St Wangaratta VIC 3677 Australia;X-APPLE-RADIUS=500;X-TITLE=53 Ryley St:geo:146.3215004,-36.3572046
END:VEVENT
BEGIN:VEVENT
DTSTART;TZID=UTC:20240522T113000
DTEND;TZID=UTC:20240522T140000
DTSTAMP:20260421T132605
CREATED:20220912T092116Z
LAST-MODIFIED:20220912T092116Z
UID:10001821-1716377400-1716386400@mungabareena.org.au
SUMMARY:Men’s Yarning Circle
DESCRIPTION:Available to all Aboriginal and/or Torres Strait Islander Men
URL:https://mungabareena.org.au/event/mens-yarning-circle/2024-05-22/
LOCATION:Mungabareena Aboriginal Corporation Ryley St\, 53 Ryley St\, Wangaratta\, VIC\, 3677\, Australia
GEO:-36.3572046;146.3215004
X-APPLE-STRUCTURED-LOCATION;VALUE=URI;X-ADDRESS=Mungabareena Aboriginal Corporation Ryley St 53 Ryley St Wangaratta VIC 3677 Australia;X-APPLE-RADIUS=500;X-TITLE=53 Ryley St:geo:146.3215004,-36.3572046
END:VEVENT
BEGIN:VEVENT
DTSTART;TZID=UTC:20240520T110000
DTEND;TZID=UTC:20240520T140000
DTSTAMP:20260421T132605
CREATED:20220912T091539Z
LAST-MODIFIED:20220912T091557Z
UID:10001575-1716202800-1716213600@mungabareena.org.au
SUMMARY:Women’s Group Wangaratta
DESCRIPTION:Available to all Aboriginal and/or Torres Strait Islander Women
URL:https://mungabareena.org.au/event/womens-group-wangaratta/2024-05-20/
LOCATION:Mungabareena Aboriginal Corporation Ryley St\, 53 Ryley St\, Wangaratta\, VIC\, 3677\, Australia
GEO:-36.3572046;146.3215004
X-APPLE-STRUCTURED-LOCATION;VALUE=URI;X-ADDRESS=Mungabareena Aboriginal Corporation Ryley St 53 Ryley St Wangaratta VIC 3677 Australia;X-APPLE-RADIUS=500;X-TITLE=53 Ryley St:geo:146.3215004,-36.3572046
END:VEVENT
BEGIN:VEVENT
DTSTART;TZID=UTC:20240513T110000
DTEND;TZID=UTC:20240513T140000
DTSTAMP:20260421T132605
CREATED:20220912T091539Z
LAST-MODIFIED:20220912T091557Z
UID:10001574-1715598000-1715608800@mungabareena.org.au
SUMMARY:Women’s Group Wangaratta
DESCRIPTION:Available to all Aboriginal and/or Torres Strait Islander Women
URL:https://mungabareena.org.au/event/womens-group-wangaratta/2024-05-13/
LOCATION:Mungabareena Aboriginal Corporation Ryley St\, 53 Ryley St\, Wangaratta\, VIC\, 3677\, Australia
GEO:-36.3572046;146.3215004
X-APPLE-STRUCTURED-LOCATION;VALUE=URI;X-ADDRESS=Mungabareena Aboriginal Corporation Ryley St 53 Ryley St Wangaratta VIC 3677 Australia;X-APPLE-RADIUS=500;X-TITLE=53 Ryley St:geo:146.3215004,-36.3572046
END:VEVENT
BEGIN:VEVENT
DTSTART;TZID=UTC:20240508T113000
DTEND;TZID=UTC:20240508T140000
DTSTAMP:20260421T132605
CREATED:20220912T092116Z
LAST-MODIFIED:20220912T092116Z
UID:10001820-1715167800-1715176800@mungabareena.org.au
SUMMARY:Men’s Yarning Circle
DESCRIPTION:Available to all Aboriginal and/or Torres Strait Islander Men
URL:https://mungabareena.org.au/event/mens-yarning-circle/2024-05-08/
LOCATION:Mungabareena Aboriginal Corporation Ryley St\, 53 Ryley St\, Wangaratta\, VIC\, 3677\, Australia
GEO:-36.3572046;146.3215004
X-APPLE-STRUCTURED-LOCATION;VALUE=URI;X-ADDRESS=Mungabareena Aboriginal Corporation Ryley St 53 Ryley St Wangaratta VIC 3677 Australia;X-APPLE-RADIUS=500;X-TITLE=53 Ryley St:geo:146.3215004,-36.3572046
END:VEVENT
BEGIN:VEVENT
DTSTART;TZID=UTC:20240506T110000
DTEND;TZID=UTC:20240506T140000
DTSTAMP:20260421T132605
CREATED:20220912T091539Z
LAST-MODIFIED:20220912T091557Z
UID:10001573-1714993200-1715004000@mungabareena.org.au
SUMMARY:Women’s Group Wangaratta
DESCRIPTION:Available to all Aboriginal and/or Torres Strait Islander Women
URL:https://mungabareena.org.au/event/womens-group-wangaratta/2024-05-06/
LOCATION:Mungabareena Aboriginal Corporation Ryley St\, 53 Ryley St\, Wangaratta\, VIC\, 3677\, Australia
GEO:-36.3572046;146.3215004
X-APPLE-STRUCTURED-LOCATION;VALUE=URI;X-ADDRESS=Mungabareena Aboriginal Corporation Ryley St 53 Ryley St Wangaratta VIC 3677 Australia;X-APPLE-RADIUS=500;X-TITLE=53 Ryley St:geo:146.3215004,-36.3572046
END:VEVENT
BEGIN:VEVENT
DTSTART;TZID=UTC:20240429T110000
DTEND;TZID=UTC:20240429T140000
DTSTAMP:20260421T132605
CREATED:20220912T091539Z
LAST-MODIFIED:20220912T091557Z
UID:10001572-1714388400-1714399200@mungabareena.org.au
SUMMARY:Women’s Group Wangaratta
DESCRIPTION:Available to all Aboriginal and/or Torres Strait Islander Women
URL:https://mungabareena.org.au/event/womens-group-wangaratta/2024-04-29/
LOCATION:Mungabareena Aboriginal Corporation Ryley St\, 53 Ryley St\, Wangaratta\, VIC\, 3677\, Australia
GEO:-36.3572046;146.3215004
X-APPLE-STRUCTURED-LOCATION;VALUE=URI;X-ADDRESS=Mungabareena Aboriginal Corporation Ryley St 53 Ryley St Wangaratta VIC 3677 Australia;X-APPLE-RADIUS=500;X-TITLE=53 Ryley St:geo:146.3215004,-36.3572046
END:VEVENT
BEGIN:VEVENT
DTSTART;TZID=UTC:20240424T113000
DTEND;TZID=UTC:20240424T140000
DTSTAMP:20260421T132605
CREATED:20220912T092116Z
LAST-MODIFIED:20220912T092116Z
UID:10001819-1713958200-1713967200@mungabareena.org.au
SUMMARY:Men’s Yarning Circle
DESCRIPTION:Available to all Aboriginal and/or Torres Strait Islander Men
URL:https://mungabareena.org.au/event/mens-yarning-circle/2024-04-24/
LOCATION:Mungabareena Aboriginal Corporation Ryley St\, 53 Ryley St\, Wangaratta\, VIC\, 3677\, Australia
GEO:-36.3572046;146.3215004
X-APPLE-STRUCTURED-LOCATION;VALUE=URI;X-ADDRESS=Mungabareena Aboriginal Corporation Ryley St 53 Ryley St Wangaratta VIC 3677 Australia;X-APPLE-RADIUS=500;X-TITLE=53 Ryley St:geo:146.3215004,-36.3572046
END:VEVENT
BEGIN:VEVENT
DTSTART;TZID=UTC:20240422T110000
DTEND;TZID=UTC:20240422T140000
DTSTAMP:20260421T132605
CREATED:20220912T091539Z
LAST-MODIFIED:20220912T091557Z
UID:10001571-1713783600-1713794400@mungabareena.org.au
SUMMARY:Women’s Group Wangaratta
DESCRIPTION:Available to all Aboriginal and/or Torres Strait Islander Women
URL:https://mungabareena.org.au/event/womens-group-wangaratta/2024-04-22/
LOCATION:Mungabareena Aboriginal Corporation Ryley St\, 53 Ryley St\, Wangaratta\, VIC\, 3677\, Australia
GEO:-36.3572046;146.3215004
X-APPLE-STRUCTURED-LOCATION;VALUE=URI;X-ADDRESS=Mungabareena Aboriginal Corporation Ryley St 53 Ryley St Wangaratta VIC 3677 Australia;X-APPLE-RADIUS=500;X-TITLE=53 Ryley St:geo:146.3215004,-36.3572046
END:VEVENT
BEGIN:VEVENT
DTSTART;TZID=UTC:20240415T110000
DTEND;TZID=UTC:20240415T140000
DTSTAMP:20260421T132605
CREATED:20220912T091539Z
LAST-MODIFIED:20220912T091557Z
UID:10001570-1713178800-1713189600@mungabareena.org.au
SUMMARY:Women’s Group Wangaratta
DESCRIPTION:Available to all Aboriginal and/or Torres Strait Islander Women
URL:https://mungabareena.org.au/event/womens-group-wangaratta/2024-04-15/
LOCATION:Mungabareena Aboriginal Corporation Ryley St\, 53 Ryley St\, Wangaratta\, VIC\, 3677\, Australia
GEO:-36.3572046;146.3215004
X-APPLE-STRUCTURED-LOCATION;VALUE=URI;X-ADDRESS=Mungabareena Aboriginal Corporation Ryley St 53 Ryley St Wangaratta VIC 3677 Australia;X-APPLE-RADIUS=500;X-TITLE=53 Ryley St:geo:146.3215004,-36.3572046
END:VEVENT
BEGIN:VEVENT
DTSTART;TZID=UTC:20240410T113000
DTEND;TZID=UTC:20240410T140000
DTSTAMP:20260421T132605
CREATED:20220912T092116Z
LAST-MODIFIED:20220912T092116Z
UID:10001818-1712748600-1712757600@mungabareena.org.au
SUMMARY:Men’s Yarning Circle
DESCRIPTION:Available to all Aboriginal and/or Torres Strait Islander Men
URL:https://mungabareena.org.au/event/mens-yarning-circle/2024-04-10/
LOCATION:Mungabareena Aboriginal Corporation Ryley St\, 53 Ryley St\, Wangaratta\, VIC\, 3677\, Australia
GEO:-36.3572046;146.3215004
X-APPLE-STRUCTURED-LOCATION;VALUE=URI;X-ADDRESS=Mungabareena Aboriginal Corporation Ryley St 53 Ryley St Wangaratta VIC 3677 Australia;X-APPLE-RADIUS=500;X-TITLE=53 Ryley St:geo:146.3215004,-36.3572046
END:VEVENT
BEGIN:VEVENT
DTSTART;TZID=UTC:20240408T110000
DTEND;TZID=UTC:20240408T140000
DTSTAMP:20260421T132605
CREATED:20220912T091539Z
LAST-MODIFIED:20220912T091557Z
UID:10001569-1712574000-1712584800@mungabareena.org.au
SUMMARY:Women’s Group Wangaratta
DESCRIPTION:Available to all Aboriginal and/or Torres Strait Islander Women
URL:https://mungabareena.org.au/event/womens-group-wangaratta/2024-04-08/
LOCATION:Mungabareena Aboriginal Corporation Ryley St\, 53 Ryley St\, Wangaratta\, VIC\, 3677\, Australia
GEO:-36.3572046;146.3215004
X-APPLE-STRUCTURED-LOCATION;VALUE=URI;X-ADDRESS=Mungabareena Aboriginal Corporation Ryley St 53 Ryley St Wangaratta VIC 3677 Australia;X-APPLE-RADIUS=500;X-TITLE=53 Ryley St:geo:146.3215004,-36.3572046
END:VEVENT
BEGIN:VEVENT
DTSTART;TZID=UTC:20240401T110000
DTEND;TZID=UTC:20240401T140000
DTSTAMP:20260421T132605
CREATED:20220912T091539Z
LAST-MODIFIED:20220912T091557Z
UID:10001568-1711969200-1711980000@mungabareena.org.au
SUMMARY:Women’s Group Wangaratta
DESCRIPTION:Available to all Aboriginal and/or Torres Strait Islander Women
URL:https://mungabareena.org.au/event/womens-group-wangaratta/2024-04-01/
LOCATION:Mungabareena Aboriginal Corporation Ryley St\, 53 Ryley St\, Wangaratta\, VIC\, 3677\, Australia
GEO:-36.3572046;146.3215004
X-APPLE-STRUCTURED-LOCATION;VALUE=URI;X-ADDRESS=Mungabareena Aboriginal Corporation Ryley St 53 Ryley St Wangaratta VIC 3677 Australia;X-APPLE-RADIUS=500;X-TITLE=53 Ryley St:geo:146.3215004,-36.3572046
END:VEVENT
BEGIN:VEVENT
DTSTART;TZID=UTC:20240327T113000
DTEND;TZID=UTC:20240327T140000
DTSTAMP:20260421T132605
CREATED:20220912T092116Z
LAST-MODIFIED:20220912T092116Z
UID:10001817-1711539000-1711548000@mungabareena.org.au
SUMMARY:Men’s Yarning Circle
DESCRIPTION:Available to all Aboriginal and/or Torres Strait Islander Men
URL:https://mungabareena.org.au/event/mens-yarning-circle/2024-03-27/
LOCATION:Mungabareena Aboriginal Corporation Ryley St\, 53 Ryley St\, Wangaratta\, VIC\, 3677\, Australia
GEO:-36.3572046;146.3215004
X-APPLE-STRUCTURED-LOCATION;VALUE=URI;X-ADDRESS=Mungabareena Aboriginal Corporation Ryley St 53 Ryley St Wangaratta VIC 3677 Australia;X-APPLE-RADIUS=500;X-TITLE=53 Ryley St:geo:146.3215004,-36.3572046
END:VEVENT
BEGIN:VEVENT
DTSTART;TZID=UTC:20240325T110000
DTEND;TZID=UTC:20240325T140000
DTSTAMP:20260421T132605
CREATED:20220912T091539Z
LAST-MODIFIED:20220912T091557Z
UID:10001567-1711364400-1711375200@mungabareena.org.au
SUMMARY:Women’s Group Wangaratta
DESCRIPTION:Available to all Aboriginal and/or Torres Strait Islander Women
URL:https://mungabareena.org.au/event/womens-group-wangaratta/2024-03-25/
LOCATION:Mungabareena Aboriginal Corporation Ryley St\, 53 Ryley St\, Wangaratta\, VIC\, 3677\, Australia
GEO:-36.3572046;146.3215004
X-APPLE-STRUCTURED-LOCATION;VALUE=URI;X-ADDRESS=Mungabareena Aboriginal Corporation Ryley St 53 Ryley St Wangaratta VIC 3677 Australia;X-APPLE-RADIUS=500;X-TITLE=53 Ryley St:geo:146.3215004,-36.3572046
END:VEVENT
BEGIN:VEVENT
DTSTART;TZID=UTC:20240318T110000
DTEND;TZID=UTC:20240318T140000
DTSTAMP:20260421T132605
CREATED:20220912T091539Z
LAST-MODIFIED:20220912T091557Z
UID:10001566-1710759600-1710770400@mungabareena.org.au
SUMMARY:Women’s Group Wangaratta
DESCRIPTION:Available to all Aboriginal and/or Torres Strait Islander Women
URL:https://mungabareena.org.au/event/womens-group-wangaratta/2024-03-18/
LOCATION:Mungabareena Aboriginal Corporation Ryley St\, 53 Ryley St\, Wangaratta\, VIC\, 3677\, Australia
GEO:-36.3572046;146.3215004
X-APPLE-STRUCTURED-LOCATION;VALUE=URI;X-ADDRESS=Mungabareena Aboriginal Corporation Ryley St 53 Ryley St Wangaratta VIC 3677 Australia;X-APPLE-RADIUS=500;X-TITLE=53 Ryley St:geo:146.3215004,-36.3572046
END:VEVENT
BEGIN:VEVENT
DTSTART;TZID=UTC:20240313T113000
DTEND;TZID=UTC:20240313T140000
DTSTAMP:20260421T132605
CREATED:20220912T092116Z
LAST-MODIFIED:20220912T092116Z
UID:10001816-1710329400-1710338400@mungabareena.org.au
SUMMARY:Men’s Yarning Circle
DESCRIPTION:Available to all Aboriginal and/or Torres Strait Islander Men
URL:https://mungabareena.org.au/event/mens-yarning-circle/2024-03-13/
LOCATION:Mungabareena Aboriginal Corporation Ryley St\, 53 Ryley St\, Wangaratta\, VIC\, 3677\, Australia
GEO:-36.3572046;146.3215004
X-APPLE-STRUCTURED-LOCATION;VALUE=URI;X-ADDRESS=Mungabareena Aboriginal Corporation Ryley St 53 Ryley St Wangaratta VIC 3677 Australia;X-APPLE-RADIUS=500;X-TITLE=53 Ryley St:geo:146.3215004,-36.3572046
END:VEVENT
BEGIN:VEVENT
DTSTART;TZID=UTC:20240311T110000
DTEND;TZID=UTC:20240311T140000
DTSTAMP:20260421T132605
CREATED:20220912T091539Z
LAST-MODIFIED:20220912T091557Z
UID:10001565-1710154800-1710165600@mungabareena.org.au
SUMMARY:Women’s Group Wangaratta
DESCRIPTION:Available to all Aboriginal and/or Torres Strait Islander Women
URL:https://mungabareena.org.au/event/womens-group-wangaratta/2024-03-11/
LOCATION:Mungabareena Aboriginal Corporation Ryley St\, 53 Ryley St\, Wangaratta\, VIC\, 3677\, Australia
GEO:-36.3572046;146.3215004
X-APPLE-STRUCTURED-LOCATION;VALUE=URI;X-ADDRESS=Mungabareena Aboriginal Corporation Ryley St 53 Ryley St Wangaratta VIC 3677 Australia;X-APPLE-RADIUS=500;X-TITLE=53 Ryley St:geo:146.3215004,-36.3572046
END:VEVENT
BEGIN:VEVENT
DTSTART;TZID=UTC:20240304T110000
DTEND;TZID=UTC:20240304T140000
DTSTAMP:20260421T132605
CREATED:20220912T091539Z
LAST-MODIFIED:20220912T091557Z
UID:10001564-1709550000-1709560800@mungabareena.org.au
SUMMARY:Women’s Group Wangaratta
DESCRIPTION:Available to all Aboriginal and/or Torres Strait Islander Women
URL:https://mungabareena.org.au/event/womens-group-wangaratta/2024-03-04/
LOCATION:Mungabareena Aboriginal Corporation Ryley St\, 53 Ryley St\, Wangaratta\, VIC\, 3677\, Australia
GEO:-36.3572046;146.3215004
X-APPLE-STRUCTURED-LOCATION;VALUE=URI;X-ADDRESS=Mungabareena Aboriginal Corporation Ryley St 53 Ryley St Wangaratta VIC 3677 Australia;X-APPLE-RADIUS=500;X-TITLE=53 Ryley St:geo:146.3215004,-36.3572046
END:VEVENT
BEGIN:VEVENT
DTSTART;TZID=UTC:20240228T113000
DTEND;TZID=UTC:20240228T140000
DTSTAMP:20260421T132605
CREATED:20220912T092116Z
LAST-MODIFIED:20220912T092116Z
UID:10001815-1709119800-1709128800@mungabareena.org.au
SUMMARY:Men’s Yarning Circle
DESCRIPTION:Available to all Aboriginal and/or Torres Strait Islander Men
URL:https://mungabareena.org.au/event/mens-yarning-circle/2024-02-28/
LOCATION:Mungabareena Aboriginal Corporation Ryley St\, 53 Ryley St\, Wangaratta\, VIC\, 3677\, Australia
GEO:-36.3572046;146.3215004
X-APPLE-STRUCTURED-LOCATION;VALUE=URI;X-ADDRESS=Mungabareena Aboriginal Corporation Ryley St 53 Ryley St Wangaratta VIC 3677 Australia;X-APPLE-RADIUS=500;X-TITLE=53 Ryley St:geo:146.3215004,-36.3572046
END:VEVENT
BEGIN:VEVENT
DTSTART;TZID=UTC:20240226T110000
DTEND;TZID=UTC:20240226T140000
DTSTAMP:20260421T132605
CREATED:20220912T091539Z
LAST-MODIFIED:20220912T091557Z
UID:10001563-1708945200-1708956000@mungabareena.org.au
SUMMARY:Women’s Group Wangaratta
DESCRIPTION:Available to all Aboriginal and/or Torres Strait Islander Women
URL:https://mungabareena.org.au/event/womens-group-wangaratta/2024-02-26/
LOCATION:Mungabareena Aboriginal Corporation Ryley St\, 53 Ryley St\, Wangaratta\, VIC\, 3677\, Australia
GEO:-36.3572046;146.3215004
X-APPLE-STRUCTURED-LOCATION;VALUE=URI;X-ADDRESS=Mungabareena Aboriginal Corporation Ryley St 53 Ryley St Wangaratta VIC 3677 Australia;X-APPLE-RADIUS=500;X-TITLE=53 Ryley St:geo:146.3215004,-36.3572046
END:VEVENT
BEGIN:VEVENT
DTSTART;TZID=UTC:20240219T110000
DTEND;TZID=UTC:20240219T140000
DTSTAMP:20260421T132605
CREATED:20220912T091539Z
LAST-MODIFIED:20220912T091557Z
UID:10001562-1708340400-1708351200@mungabareena.org.au
SUMMARY:Women’s Group Wangaratta
DESCRIPTION:Available to all Aboriginal and/or Torres Strait Islander Women
URL:https://mungabareena.org.au/event/womens-group-wangaratta/2024-02-19/
LOCATION:Mungabareena Aboriginal Corporation Ryley St\, 53 Ryley St\, Wangaratta\, VIC\, 3677\, Australia
GEO:-36.3572046;146.3215004
X-APPLE-STRUCTURED-LOCATION;VALUE=URI;X-ADDRESS=Mungabareena Aboriginal Corporation Ryley St 53 Ryley St Wangaratta VIC 3677 Australia;X-APPLE-RADIUS=500;X-TITLE=53 Ryley St:geo:146.3215004,-36.3572046
END:VEVENT
BEGIN:VEVENT
DTSTART;TZID=UTC:20240214T113000
DTEND;TZID=UTC:20240214T140000
DTSTAMP:20260421T132605
CREATED:20220912T092116Z
LAST-MODIFIED:20220912T092116Z
UID:10001814-1707910200-1707919200@mungabareena.org.au
SUMMARY:Men’s Yarning Circle
DESCRIPTION:Available to all Aboriginal and/or Torres Strait Islander Men
URL:https://mungabareena.org.au/event/mens-yarning-circle/2024-02-14/
LOCATION:Mungabareena Aboriginal Corporation Ryley St\, 53 Ryley St\, Wangaratta\, VIC\, 3677\, Australia
GEO:-36.3572046;146.3215004
X-APPLE-STRUCTURED-LOCATION;VALUE=URI;X-ADDRESS=Mungabareena Aboriginal Corporation Ryley St 53 Ryley St Wangaratta VIC 3677 Australia;X-APPLE-RADIUS=500;X-TITLE=53 Ryley St:geo:146.3215004,-36.3572046
END:VEVENT
BEGIN:VEVENT
DTSTART;TZID=UTC:20240212T110000
DTEND;TZID=UTC:20240212T140000
DTSTAMP:20260421T132605
CREATED:20220912T091539Z
LAST-MODIFIED:20220912T091557Z
UID:10001561-1707735600-1707746400@mungabareena.org.au
SUMMARY:Women’s Group Wangaratta
DESCRIPTION:Available to all Aboriginal and/or Torres Strait Islander Women
URL:https://mungabareena.org.au/event/womens-group-wangaratta/2024-02-12/
LOCATION:Mungabareena Aboriginal Corporation Ryley St\, 53 Ryley St\, Wangaratta\, VIC\, 3677\, Australia
GEO:-36.3572046;146.3215004
X-APPLE-STRUCTURED-LOCATION;VALUE=URI;X-ADDRESS=Mungabareena Aboriginal Corporation Ryley St 53 Ryley St Wangaratta VIC 3677 Australia;X-APPLE-RADIUS=500;X-TITLE=53 Ryley St:geo:146.3215004,-36.3572046
END:VEVENT
BEGIN:VEVENT
DTSTART;TZID=UTC:20240205T110000
DTEND;TZID=UTC:20240205T140000
DTSTAMP:20260421T132605
CREATED:20220912T091539Z
LAST-MODIFIED:20220912T091557Z
UID:10001560-1707130800-1707141600@mungabareena.org.au
SUMMARY:Women’s Group Wangaratta
DESCRIPTION:Available to all Aboriginal and/or Torres Strait Islander Women
URL:https://mungabareena.org.au/event/womens-group-wangaratta/2024-02-05/
LOCATION:Mungabareena Aboriginal Corporation Ryley St\, 53 Ryley St\, Wangaratta\, VIC\, 3677\, Australia
GEO:-36.3572046;146.3215004
X-APPLE-STRUCTURED-LOCATION;VALUE=URI;X-ADDRESS=Mungabareena Aboriginal Corporation Ryley St 53 Ryley St Wangaratta VIC 3677 Australia;X-APPLE-RADIUS=500;X-TITLE=53 Ryley St:geo:146.3215004,-36.3572046
END:VEVENT
END:VCALENDAR