BEGIN:VCALENDAR
VERSION:2.0
PRODID:-//Mungabareena Aboriginal Corporation - ECPv6.15.20//NONSGML v1.0//EN
CALSCALE:GREGORIAN
METHOD:PUBLISH
X-ORIGINAL-URL:https://mungabareena.org.au
X-WR-CALDESC:Events for Mungabareena Aboriginal Corporation
REFRESH-INTERVAL;VALUE=DURATION:PT1H
X-Robots-Tag:noindex
X-PUBLISHED-TTL:PT1H
BEGIN:VTIMEZONE
TZID:UTC
BEGIN:STANDARD
TZOFFSETFROM:+0000
TZOFFSETTO:+0000
TZNAME:UTC
DTSTART:20220101T000000
END:STANDARD
END:VTIMEZONE
BEGIN:VEVENT
DTSTART;TZID=UTC:20230529T110000
DTEND;TZID=UTC:20230529T140000
DTSTAMP:20260423T231155
CREATED:20220912T091539Z
LAST-MODIFIED:20220912T091557Z
UID:10001524-1685358000-1685368800@mungabareena.org.au
SUMMARY:Women’s Group Wangaratta
DESCRIPTION:Available to all Aboriginal and/or Torres Strait Islander Women
URL:https://mungabareena.org.au/event/womens-group-wangaratta/2023-05-29/
LOCATION:Mungabareena Aboriginal Corporation Ryley St\, 53 Ryley St\, Wangaratta\, VIC\, 3677\, Australia
GEO:-36.3572046;146.3215004
X-APPLE-STRUCTURED-LOCATION;VALUE=URI;X-ADDRESS=Mungabareena Aboriginal Corporation Ryley St 53 Ryley St Wangaratta VIC 3677 Australia;X-APPLE-RADIUS=500;X-TITLE=53 Ryley St:geo:146.3215004,-36.3572046
END:VEVENT
BEGIN:VEVENT
DTSTART;TZID=UTC:20230524T113000
DTEND;TZID=UTC:20230524T140000
DTSTAMP:20260423T231155
CREATED:20220912T092116Z
LAST-MODIFIED:20220912T092116Z
UID:10001795-1684927800-1684936800@mungabareena.org.au
SUMMARY:Men’s Yarning Circle
DESCRIPTION:Available to all Aboriginal and/or Torres Strait Islander Men
URL:https://mungabareena.org.au/event/mens-yarning-circle/2023-05-24/
LOCATION:Mungabareena Aboriginal Corporation Ryley St\, 53 Ryley St\, Wangaratta\, VIC\, 3677\, Australia
GEO:-36.3572046;146.3215004
X-APPLE-STRUCTURED-LOCATION;VALUE=URI;X-ADDRESS=Mungabareena Aboriginal Corporation Ryley St 53 Ryley St Wangaratta VIC 3677 Australia;X-APPLE-RADIUS=500;X-TITLE=53 Ryley St:geo:146.3215004,-36.3572046
END:VEVENT
BEGIN:VEVENT
DTSTART;TZID=UTC:20230522T110000
DTEND;TZID=UTC:20230522T140000
DTSTAMP:20260423T231155
CREATED:20220912T091539Z
LAST-MODIFIED:20220912T091557Z
UID:10001523-1684753200-1684764000@mungabareena.org.au
SUMMARY:Women’s Group Wangaratta
DESCRIPTION:Available to all Aboriginal and/or Torres Strait Islander Women
URL:https://mungabareena.org.au/event/womens-group-wangaratta/2023-05-22/
LOCATION:Mungabareena Aboriginal Corporation Ryley St\, 53 Ryley St\, Wangaratta\, VIC\, 3677\, Australia
GEO:-36.3572046;146.3215004
X-APPLE-STRUCTURED-LOCATION;VALUE=URI;X-ADDRESS=Mungabareena Aboriginal Corporation Ryley St 53 Ryley St Wangaratta VIC 3677 Australia;X-APPLE-RADIUS=500;X-TITLE=53 Ryley St:geo:146.3215004,-36.3572046
END:VEVENT
BEGIN:VEVENT
DTSTART;TZID=UTC:20230515T110000
DTEND;TZID=UTC:20230515T140000
DTSTAMP:20260423T231155
CREATED:20220912T091539Z
LAST-MODIFIED:20220912T091557Z
UID:10001522-1684148400-1684159200@mungabareena.org.au
SUMMARY:Women’s Group Wangaratta
DESCRIPTION:Available to all Aboriginal and/or Torres Strait Islander Women
URL:https://mungabareena.org.au/event/womens-group-wangaratta/2023-05-15/
LOCATION:Mungabareena Aboriginal Corporation Ryley St\, 53 Ryley St\, Wangaratta\, VIC\, 3677\, Australia
GEO:-36.3572046;146.3215004
X-APPLE-STRUCTURED-LOCATION;VALUE=URI;X-ADDRESS=Mungabareena Aboriginal Corporation Ryley St 53 Ryley St Wangaratta VIC 3677 Australia;X-APPLE-RADIUS=500;X-TITLE=53 Ryley St:geo:146.3215004,-36.3572046
END:VEVENT
BEGIN:VEVENT
DTSTART;TZID=UTC:20230510T113000
DTEND;TZID=UTC:20230510T140000
DTSTAMP:20260423T231155
CREATED:20220912T092116Z
LAST-MODIFIED:20220912T092116Z
UID:10001794-1683718200-1683727200@mungabareena.org.au
SUMMARY:Men’s Yarning Circle
DESCRIPTION:Available to all Aboriginal and/or Torres Strait Islander Men
URL:https://mungabareena.org.au/event/mens-yarning-circle/2023-05-10/
LOCATION:Mungabareena Aboriginal Corporation Ryley St\, 53 Ryley St\, Wangaratta\, VIC\, 3677\, Australia
GEO:-36.3572046;146.3215004
X-APPLE-STRUCTURED-LOCATION;VALUE=URI;X-ADDRESS=Mungabareena Aboriginal Corporation Ryley St 53 Ryley St Wangaratta VIC 3677 Australia;X-APPLE-RADIUS=500;X-TITLE=53 Ryley St:geo:146.3215004,-36.3572046
END:VEVENT
BEGIN:VEVENT
DTSTART;TZID=UTC:20230508T110000
DTEND;TZID=UTC:20230508T140000
DTSTAMP:20260423T231155
CREATED:20220912T091539Z
LAST-MODIFIED:20220912T091557Z
UID:10001521-1683543600-1683554400@mungabareena.org.au
SUMMARY:Women’s Group Wangaratta
DESCRIPTION:Available to all Aboriginal and/or Torres Strait Islander Women
URL:https://mungabareena.org.au/event/womens-group-wangaratta/2023-05-08/
LOCATION:Mungabareena Aboriginal Corporation Ryley St\, 53 Ryley St\, Wangaratta\, VIC\, 3677\, Australia
GEO:-36.3572046;146.3215004
X-APPLE-STRUCTURED-LOCATION;VALUE=URI;X-ADDRESS=Mungabareena Aboriginal Corporation Ryley St 53 Ryley St Wangaratta VIC 3677 Australia;X-APPLE-RADIUS=500;X-TITLE=53 Ryley St:geo:146.3215004,-36.3572046
END:VEVENT
BEGIN:VEVENT
DTSTART;TZID=UTC:20230501T110000
DTEND;TZID=UTC:20230501T140000
DTSTAMP:20260423T231155
CREATED:20220912T091539Z
LAST-MODIFIED:20220912T091557Z
UID:10001520-1682938800-1682949600@mungabareena.org.au
SUMMARY:Women’s Group Wangaratta
DESCRIPTION:Available to all Aboriginal and/or Torres Strait Islander Women
URL:https://mungabareena.org.au/event/womens-group-wangaratta/2023-05-01/
LOCATION:Mungabareena Aboriginal Corporation Ryley St\, 53 Ryley St\, Wangaratta\, VIC\, 3677\, Australia
GEO:-36.3572046;146.3215004
X-APPLE-STRUCTURED-LOCATION;VALUE=URI;X-ADDRESS=Mungabareena Aboriginal Corporation Ryley St 53 Ryley St Wangaratta VIC 3677 Australia;X-APPLE-RADIUS=500;X-TITLE=53 Ryley St:geo:146.3215004,-36.3572046
END:VEVENT
BEGIN:VEVENT
DTSTART;TZID=UTC:20230426T113000
DTEND;TZID=UTC:20230426T140000
DTSTAMP:20260423T231155
CREATED:20220912T092116Z
LAST-MODIFIED:20220912T092116Z
UID:10001793-1682508600-1682517600@mungabareena.org.au
SUMMARY:Men’s Yarning Circle
DESCRIPTION:Available to all Aboriginal and/or Torres Strait Islander Men
URL:https://mungabareena.org.au/event/mens-yarning-circle/2023-04-26/
LOCATION:Mungabareena Aboriginal Corporation Ryley St\, 53 Ryley St\, Wangaratta\, VIC\, 3677\, Australia
GEO:-36.3572046;146.3215004
X-APPLE-STRUCTURED-LOCATION;VALUE=URI;X-ADDRESS=Mungabareena Aboriginal Corporation Ryley St 53 Ryley St Wangaratta VIC 3677 Australia;X-APPLE-RADIUS=500;X-TITLE=53 Ryley St:geo:146.3215004,-36.3572046
END:VEVENT
BEGIN:VEVENT
DTSTART;TZID=UTC:20230424T110000
DTEND;TZID=UTC:20230424T140000
DTSTAMP:20260423T231155
CREATED:20220912T091539Z
LAST-MODIFIED:20220912T091557Z
UID:10001519-1682334000-1682344800@mungabareena.org.au
SUMMARY:Women’s Group Wangaratta
DESCRIPTION:Available to all Aboriginal and/or Torres Strait Islander Women
URL:https://mungabareena.org.au/event/womens-group-wangaratta/2023-04-24/
LOCATION:Mungabareena Aboriginal Corporation Ryley St\, 53 Ryley St\, Wangaratta\, VIC\, 3677\, Australia
GEO:-36.3572046;146.3215004
X-APPLE-STRUCTURED-LOCATION;VALUE=URI;X-ADDRESS=Mungabareena Aboriginal Corporation Ryley St 53 Ryley St Wangaratta VIC 3677 Australia;X-APPLE-RADIUS=500;X-TITLE=53 Ryley St:geo:146.3215004,-36.3572046
END:VEVENT
BEGIN:VEVENT
DTSTART;TZID=UTC:20230417T110000
DTEND;TZID=UTC:20230417T140000
DTSTAMP:20260423T231155
CREATED:20220912T091539Z
LAST-MODIFIED:20220912T091557Z
UID:10001518-1681729200-1681740000@mungabareena.org.au
SUMMARY:Women’s Group Wangaratta
DESCRIPTION:Available to all Aboriginal and/or Torres Strait Islander Women
URL:https://mungabareena.org.au/event/womens-group-wangaratta/2023-04-17/
LOCATION:Mungabareena Aboriginal Corporation Ryley St\, 53 Ryley St\, Wangaratta\, VIC\, 3677\, Australia
GEO:-36.3572046;146.3215004
X-APPLE-STRUCTURED-LOCATION;VALUE=URI;X-ADDRESS=Mungabareena Aboriginal Corporation Ryley St 53 Ryley St Wangaratta VIC 3677 Australia;X-APPLE-RADIUS=500;X-TITLE=53 Ryley St:geo:146.3215004,-36.3572046
END:VEVENT
BEGIN:VEVENT
DTSTART;TZID=UTC:20230412T113000
DTEND;TZID=UTC:20230412T140000
DTSTAMP:20260423T231155
CREATED:20220912T092116Z
LAST-MODIFIED:20220912T092116Z
UID:10001792-1681299000-1681308000@mungabareena.org.au
SUMMARY:Men’s Yarning Circle
DESCRIPTION:Available to all Aboriginal and/or Torres Strait Islander Men
URL:https://mungabareena.org.au/event/mens-yarning-circle/2023-04-12/
LOCATION:Mungabareena Aboriginal Corporation Ryley St\, 53 Ryley St\, Wangaratta\, VIC\, 3677\, Australia
GEO:-36.3572046;146.3215004
X-APPLE-STRUCTURED-LOCATION;VALUE=URI;X-ADDRESS=Mungabareena Aboriginal Corporation Ryley St 53 Ryley St Wangaratta VIC 3677 Australia;X-APPLE-RADIUS=500;X-TITLE=53 Ryley St:geo:146.3215004,-36.3572046
END:VEVENT
BEGIN:VEVENT
DTSTART;TZID=UTC:20230410T110000
DTEND;TZID=UTC:20230410T140000
DTSTAMP:20260423T231155
CREATED:20220912T091539Z
LAST-MODIFIED:20220912T091557Z
UID:10001517-1681124400-1681135200@mungabareena.org.au
SUMMARY:Women’s Group Wangaratta
DESCRIPTION:Available to all Aboriginal and/or Torres Strait Islander Women
URL:https://mungabareena.org.au/event/womens-group-wangaratta/2023-04-10/
LOCATION:Mungabareena Aboriginal Corporation Ryley St\, 53 Ryley St\, Wangaratta\, VIC\, 3677\, Australia
GEO:-36.3572046;146.3215004
X-APPLE-STRUCTURED-LOCATION;VALUE=URI;X-ADDRESS=Mungabareena Aboriginal Corporation Ryley St 53 Ryley St Wangaratta VIC 3677 Australia;X-APPLE-RADIUS=500;X-TITLE=53 Ryley St:geo:146.3215004,-36.3572046
END:VEVENT
BEGIN:VEVENT
DTSTART;TZID=UTC:20230403T110000
DTEND;TZID=UTC:20230403T140000
DTSTAMP:20260423T231155
CREATED:20220912T091539Z
LAST-MODIFIED:20220912T091557Z
UID:10001516-1680519600-1680530400@mungabareena.org.au
SUMMARY:Women’s Group Wangaratta
DESCRIPTION:Available to all Aboriginal and/or Torres Strait Islander Women
URL:https://mungabareena.org.au/event/womens-group-wangaratta/2023-04-03/
LOCATION:Mungabareena Aboriginal Corporation Ryley St\, 53 Ryley St\, Wangaratta\, VIC\, 3677\, Australia
GEO:-36.3572046;146.3215004
X-APPLE-STRUCTURED-LOCATION;VALUE=URI;X-ADDRESS=Mungabareena Aboriginal Corporation Ryley St 53 Ryley St Wangaratta VIC 3677 Australia;X-APPLE-RADIUS=500;X-TITLE=53 Ryley St:geo:146.3215004,-36.3572046
END:VEVENT
BEGIN:VEVENT
DTSTART;TZID=UTC:20230329T113000
DTEND;TZID=UTC:20230329T140000
DTSTAMP:20260423T231155
CREATED:20220912T092116Z
LAST-MODIFIED:20220912T092116Z
UID:10001791-1680089400-1680098400@mungabareena.org.au
SUMMARY:Men’s Yarning Circle
DESCRIPTION:Available to all Aboriginal and/or Torres Strait Islander Men
URL:https://mungabareena.org.au/event/mens-yarning-circle/2023-03-29/
LOCATION:Mungabareena Aboriginal Corporation Ryley St\, 53 Ryley St\, Wangaratta\, VIC\, 3677\, Australia
GEO:-36.3572046;146.3215004
X-APPLE-STRUCTURED-LOCATION;VALUE=URI;X-ADDRESS=Mungabareena Aboriginal Corporation Ryley St 53 Ryley St Wangaratta VIC 3677 Australia;X-APPLE-RADIUS=500;X-TITLE=53 Ryley St:geo:146.3215004,-36.3572046
END:VEVENT
BEGIN:VEVENT
DTSTART;TZID=UTC:20230327T110000
DTEND;TZID=UTC:20230327T140000
DTSTAMP:20260423T231155
CREATED:20220912T091539Z
LAST-MODIFIED:20220912T091557Z
UID:10001515-1679914800-1679925600@mungabareena.org.au
SUMMARY:Women’s Group Wangaratta
DESCRIPTION:Available to all Aboriginal and/or Torres Strait Islander Women
URL:https://mungabareena.org.au/event/womens-group-wangaratta/2023-03-27/
LOCATION:Mungabareena Aboriginal Corporation Ryley St\, 53 Ryley St\, Wangaratta\, VIC\, 3677\, Australia
GEO:-36.3572046;146.3215004
X-APPLE-STRUCTURED-LOCATION;VALUE=URI;X-ADDRESS=Mungabareena Aboriginal Corporation Ryley St 53 Ryley St Wangaratta VIC 3677 Australia;X-APPLE-RADIUS=500;X-TITLE=53 Ryley St:geo:146.3215004,-36.3572046
END:VEVENT
BEGIN:VEVENT
DTSTART;TZID=UTC:20230320T110000
DTEND;TZID=UTC:20230320T140000
DTSTAMP:20260423T231155
CREATED:20220912T091539Z
LAST-MODIFIED:20220912T091557Z
UID:10001514-1679310000-1679320800@mungabareena.org.au
SUMMARY:Women’s Group Wangaratta
DESCRIPTION:Available to all Aboriginal and/or Torres Strait Islander Women
URL:https://mungabareena.org.au/event/womens-group-wangaratta/2023-03-20/
LOCATION:Mungabareena Aboriginal Corporation Ryley St\, 53 Ryley St\, Wangaratta\, VIC\, 3677\, Australia
GEO:-36.3572046;146.3215004
X-APPLE-STRUCTURED-LOCATION;VALUE=URI;X-ADDRESS=Mungabareena Aboriginal Corporation Ryley St 53 Ryley St Wangaratta VIC 3677 Australia;X-APPLE-RADIUS=500;X-TITLE=53 Ryley St:geo:146.3215004,-36.3572046
END:VEVENT
BEGIN:VEVENT
DTSTART;TZID=UTC:20230315T113000
DTEND;TZID=UTC:20230315T140000
DTSTAMP:20260423T231155
CREATED:20220912T092116Z
LAST-MODIFIED:20220912T092116Z
UID:10001790-1678879800-1678888800@mungabareena.org.au
SUMMARY:Men’s Yarning Circle
DESCRIPTION:Available to all Aboriginal and/or Torres Strait Islander Men
URL:https://mungabareena.org.au/event/mens-yarning-circle/2023-03-15/
LOCATION:Mungabareena Aboriginal Corporation Ryley St\, 53 Ryley St\, Wangaratta\, VIC\, 3677\, Australia
GEO:-36.3572046;146.3215004
X-APPLE-STRUCTURED-LOCATION;VALUE=URI;X-ADDRESS=Mungabareena Aboriginal Corporation Ryley St 53 Ryley St Wangaratta VIC 3677 Australia;X-APPLE-RADIUS=500;X-TITLE=53 Ryley St:geo:146.3215004,-36.3572046
END:VEVENT
BEGIN:VEVENT
DTSTART;TZID=UTC:20230313T110000
DTEND;TZID=UTC:20230313T140000
DTSTAMP:20260423T231155
CREATED:20220912T091539Z
LAST-MODIFIED:20220912T091557Z
UID:10001513-1678705200-1678716000@mungabareena.org.au
SUMMARY:Women’s Group Wangaratta
DESCRIPTION:Available to all Aboriginal and/or Torres Strait Islander Women
URL:https://mungabareena.org.au/event/womens-group-wangaratta/2023-03-13/
LOCATION:Mungabareena Aboriginal Corporation Ryley St\, 53 Ryley St\, Wangaratta\, VIC\, 3677\, Australia
GEO:-36.3572046;146.3215004
X-APPLE-STRUCTURED-LOCATION;VALUE=URI;X-ADDRESS=Mungabareena Aboriginal Corporation Ryley St 53 Ryley St Wangaratta VIC 3677 Australia;X-APPLE-RADIUS=500;X-TITLE=53 Ryley St:geo:146.3215004,-36.3572046
END:VEVENT
BEGIN:VEVENT
DTSTART;TZID=UTC:20230306T110000
DTEND;TZID=UTC:20230306T140000
DTSTAMP:20260423T231155
CREATED:20220912T091539Z
LAST-MODIFIED:20220912T091557Z
UID:10001512-1678100400-1678111200@mungabareena.org.au
SUMMARY:Women’s Group Wangaratta
DESCRIPTION:Available to all Aboriginal and/or Torres Strait Islander Women
URL:https://mungabareena.org.au/event/womens-group-wangaratta/2023-03-06/
LOCATION:Mungabareena Aboriginal Corporation Ryley St\, 53 Ryley St\, Wangaratta\, VIC\, 3677\, Australia
GEO:-36.3572046;146.3215004
X-APPLE-STRUCTURED-LOCATION;VALUE=URI;X-ADDRESS=Mungabareena Aboriginal Corporation Ryley St 53 Ryley St Wangaratta VIC 3677 Australia;X-APPLE-RADIUS=500;X-TITLE=53 Ryley St:geo:146.3215004,-36.3572046
END:VEVENT
BEGIN:VEVENT
DTSTART;TZID=UTC:20230301T113000
DTEND;TZID=UTC:20230301T140000
DTSTAMP:20260423T231155
CREATED:20220912T092116Z
LAST-MODIFIED:20220912T092116Z
UID:10001789-1677670200-1677679200@mungabareena.org.au
SUMMARY:Men’s Yarning Circle
DESCRIPTION:Available to all Aboriginal and/or Torres Strait Islander Men
URL:https://mungabareena.org.au/event/mens-yarning-circle/2023-03-01/
LOCATION:Mungabareena Aboriginal Corporation Ryley St\, 53 Ryley St\, Wangaratta\, VIC\, 3677\, Australia
GEO:-36.3572046;146.3215004
X-APPLE-STRUCTURED-LOCATION;VALUE=URI;X-ADDRESS=Mungabareena Aboriginal Corporation Ryley St 53 Ryley St Wangaratta VIC 3677 Australia;X-APPLE-RADIUS=500;X-TITLE=53 Ryley St:geo:146.3215004,-36.3572046
END:VEVENT
BEGIN:VEVENT
DTSTART;TZID=UTC:20230227T110000
DTEND;TZID=UTC:20230227T140000
DTSTAMP:20260423T231155
CREATED:20220912T091539Z
LAST-MODIFIED:20220912T091557Z
UID:10001511-1677495600-1677506400@mungabareena.org.au
SUMMARY:Women’s Group Wangaratta
DESCRIPTION:Available to all Aboriginal and/or Torres Strait Islander Women
URL:https://mungabareena.org.au/event/womens-group-wangaratta/2023-02-27/
LOCATION:Mungabareena Aboriginal Corporation Ryley St\, 53 Ryley St\, Wangaratta\, VIC\, 3677\, Australia
GEO:-36.3572046;146.3215004
X-APPLE-STRUCTURED-LOCATION;VALUE=URI;X-ADDRESS=Mungabareena Aboriginal Corporation Ryley St 53 Ryley St Wangaratta VIC 3677 Australia;X-APPLE-RADIUS=500;X-TITLE=53 Ryley St:geo:146.3215004,-36.3572046
END:VEVENT
BEGIN:VEVENT
DTSTART;TZID=UTC:20230220T110000
DTEND;TZID=UTC:20230220T140000
DTSTAMP:20260423T231155
CREATED:20220912T091539Z
LAST-MODIFIED:20220912T091557Z
UID:10001510-1676890800-1676901600@mungabareena.org.au
SUMMARY:Women’s Group Wangaratta
DESCRIPTION:Available to all Aboriginal and/or Torres Strait Islander Women
URL:https://mungabareena.org.au/event/womens-group-wangaratta/2023-02-20/
LOCATION:Mungabareena Aboriginal Corporation Ryley St\, 53 Ryley St\, Wangaratta\, VIC\, 3677\, Australia
GEO:-36.3572046;146.3215004
X-APPLE-STRUCTURED-LOCATION;VALUE=URI;X-ADDRESS=Mungabareena Aboriginal Corporation Ryley St 53 Ryley St Wangaratta VIC 3677 Australia;X-APPLE-RADIUS=500;X-TITLE=53 Ryley St:geo:146.3215004,-36.3572046
END:VEVENT
BEGIN:VEVENT
DTSTART;TZID=UTC:20230215T113000
DTEND;TZID=UTC:20230215T140000
DTSTAMP:20260423T231155
CREATED:20220912T092116Z
LAST-MODIFIED:20220912T092116Z
UID:10001788-1676460600-1676469600@mungabareena.org.au
SUMMARY:Men’s Yarning Circle
DESCRIPTION:Available to all Aboriginal and/or Torres Strait Islander Men
URL:https://mungabareena.org.au/event/mens-yarning-circle/2023-02-15/
LOCATION:Mungabareena Aboriginal Corporation Ryley St\, 53 Ryley St\, Wangaratta\, VIC\, 3677\, Australia
GEO:-36.3572046;146.3215004
X-APPLE-STRUCTURED-LOCATION;VALUE=URI;X-ADDRESS=Mungabareena Aboriginal Corporation Ryley St 53 Ryley St Wangaratta VIC 3677 Australia;X-APPLE-RADIUS=500;X-TITLE=53 Ryley St:geo:146.3215004,-36.3572046
END:VEVENT
BEGIN:VEVENT
DTSTART;TZID=UTC:20230213T110000
DTEND;TZID=UTC:20230213T140000
DTSTAMP:20260423T231155
CREATED:20220912T091539Z
LAST-MODIFIED:20220912T091557Z
UID:10001509-1676286000-1676296800@mungabareena.org.au
SUMMARY:Women’s Group Wangaratta
DESCRIPTION:Available to all Aboriginal and/or Torres Strait Islander Women
URL:https://mungabareena.org.au/event/womens-group-wangaratta/2023-02-13/
LOCATION:Mungabareena Aboriginal Corporation Ryley St\, 53 Ryley St\, Wangaratta\, VIC\, 3677\, Australia
GEO:-36.3572046;146.3215004
X-APPLE-STRUCTURED-LOCATION;VALUE=URI;X-ADDRESS=Mungabareena Aboriginal Corporation Ryley St 53 Ryley St Wangaratta VIC 3677 Australia;X-APPLE-RADIUS=500;X-TITLE=53 Ryley St:geo:146.3215004,-36.3572046
END:VEVENT
BEGIN:VEVENT
DTSTART;TZID=UTC:20230206T110000
DTEND;TZID=UTC:20230206T140000
DTSTAMP:20260423T231155
CREATED:20220912T091539Z
LAST-MODIFIED:20220912T091557Z
UID:10001508-1675681200-1675692000@mungabareena.org.au
SUMMARY:Women’s Group Wangaratta
DESCRIPTION:Available to all Aboriginal and/or Torres Strait Islander Women
URL:https://mungabareena.org.au/event/womens-group-wangaratta/2023-02-06/
LOCATION:Mungabareena Aboriginal Corporation Ryley St\, 53 Ryley St\, Wangaratta\, VIC\, 3677\, Australia
GEO:-36.3572046;146.3215004
X-APPLE-STRUCTURED-LOCATION;VALUE=URI;X-ADDRESS=Mungabareena Aboriginal Corporation Ryley St 53 Ryley St Wangaratta VIC 3677 Australia;X-APPLE-RADIUS=500;X-TITLE=53 Ryley St:geo:146.3215004,-36.3572046
END:VEVENT
BEGIN:VEVENT
DTSTART;TZID=UTC:20230201T113000
DTEND;TZID=UTC:20230201T140000
DTSTAMP:20260423T231155
CREATED:20220912T092116Z
LAST-MODIFIED:20220912T092116Z
UID:10001787-1675251000-1675260000@mungabareena.org.au
SUMMARY:Men’s Yarning Circle
DESCRIPTION:Available to all Aboriginal and/or Torres Strait Islander Men
URL:https://mungabareena.org.au/event/mens-yarning-circle/2023-02-01/
LOCATION:Mungabareena Aboriginal Corporation Ryley St\, 53 Ryley St\, Wangaratta\, VIC\, 3677\, Australia
GEO:-36.3572046;146.3215004
X-APPLE-STRUCTURED-LOCATION;VALUE=URI;X-ADDRESS=Mungabareena Aboriginal Corporation Ryley St 53 Ryley St Wangaratta VIC 3677 Australia;X-APPLE-RADIUS=500;X-TITLE=53 Ryley St:geo:146.3215004,-36.3572046
END:VEVENT
BEGIN:VEVENT
DTSTART;TZID=UTC:20230130T110000
DTEND;TZID=UTC:20230130T140000
DTSTAMP:20260423T231155
CREATED:20220912T091539Z
LAST-MODIFIED:20220912T091557Z
UID:10001507-1675076400-1675087200@mungabareena.org.au
SUMMARY:Women’s Group Wangaratta
DESCRIPTION:Available to all Aboriginal and/or Torres Strait Islander Women
URL:https://mungabareena.org.au/event/womens-group-wangaratta/2023-01-30/
LOCATION:Mungabareena Aboriginal Corporation Ryley St\, 53 Ryley St\, Wangaratta\, VIC\, 3677\, Australia
GEO:-36.3572046;146.3215004
X-APPLE-STRUCTURED-LOCATION;VALUE=URI;X-ADDRESS=Mungabareena Aboriginal Corporation Ryley St 53 Ryley St Wangaratta VIC 3677 Australia;X-APPLE-RADIUS=500;X-TITLE=53 Ryley St:geo:146.3215004,-36.3572046
END:VEVENT
BEGIN:VEVENT
DTSTART;TZID=UTC:20230123T110000
DTEND;TZID=UTC:20230123T140000
DTSTAMP:20260423T231155
CREATED:20220912T091539Z
LAST-MODIFIED:20220912T091557Z
UID:10001506-1674471600-1674482400@mungabareena.org.au
SUMMARY:Women’s Group Wangaratta
DESCRIPTION:Available to all Aboriginal and/or Torres Strait Islander Women
URL:https://mungabareena.org.au/event/womens-group-wangaratta/2023-01-23/
LOCATION:Mungabareena Aboriginal Corporation Ryley St\, 53 Ryley St\, Wangaratta\, VIC\, 3677\, Australia
GEO:-36.3572046;146.3215004
X-APPLE-STRUCTURED-LOCATION;VALUE=URI;X-ADDRESS=Mungabareena Aboriginal Corporation Ryley St 53 Ryley St Wangaratta VIC 3677 Australia;X-APPLE-RADIUS=500;X-TITLE=53 Ryley St:geo:146.3215004,-36.3572046
END:VEVENT
BEGIN:VEVENT
DTSTART;TZID=UTC:20230118T113000
DTEND;TZID=UTC:20230118T140000
DTSTAMP:20260423T231155
CREATED:20220912T092116Z
LAST-MODIFIED:20220912T092116Z
UID:10001786-1674041400-1674050400@mungabareena.org.au
SUMMARY:Men’s Yarning Circle
DESCRIPTION:Available to all Aboriginal and/or Torres Strait Islander Men
URL:https://mungabareena.org.au/event/mens-yarning-circle/2023-01-18/
LOCATION:Mungabareena Aboriginal Corporation Ryley St\, 53 Ryley St\, Wangaratta\, VIC\, 3677\, Australia
GEO:-36.3572046;146.3215004
X-APPLE-STRUCTURED-LOCATION;VALUE=URI;X-ADDRESS=Mungabareena Aboriginal Corporation Ryley St 53 Ryley St Wangaratta VIC 3677 Australia;X-APPLE-RADIUS=500;X-TITLE=53 Ryley St:geo:146.3215004,-36.3572046
END:VEVENT
BEGIN:VEVENT
DTSTART;TZID=UTC:20230116T110000
DTEND;TZID=UTC:20230116T140000
DTSTAMP:20260423T231155
CREATED:20220912T091539Z
LAST-MODIFIED:20220912T091557Z
UID:10001505-1673866800-1673877600@mungabareena.org.au
SUMMARY:Women’s Group Wangaratta
DESCRIPTION:Available to all Aboriginal and/or Torres Strait Islander Women
URL:https://mungabareena.org.au/event/womens-group-wangaratta/2023-01-16/
LOCATION:Mungabareena Aboriginal Corporation Ryley St\, 53 Ryley St\, Wangaratta\, VIC\, 3677\, Australia
GEO:-36.3572046;146.3215004
X-APPLE-STRUCTURED-LOCATION;VALUE=URI;X-ADDRESS=Mungabareena Aboriginal Corporation Ryley St 53 Ryley St Wangaratta VIC 3677 Australia;X-APPLE-RADIUS=500;X-TITLE=53 Ryley St:geo:146.3215004,-36.3572046
END:VEVENT
END:VCALENDAR